BEGIN:VCALENDAR
VERSION:2.0
CALSCALE:GREGORIAN
PRODID:adamgibbons/ics
METHOD:PUBLISH
X-PUBLISHED-TTL:PT1H
BEGIN:VEVENT
UID:24@keepkarlsruheboring.org
SUMMARY:1. Mai 2025 | Mach dich stark mit uns
DTSTAMP:20260423T104558Z
DTSTART:20250501T090000Z
DESCRIPTION:MACH DICH STARK MIT UNS\n\n1. Mai Karlsruhe\n\n\n\n11 Uhr Demon
	strationszug ab Festplatz\n\n12 Uhr Kundgebung zum Tag der Arbeit auf dem 
	Marktplatz\n\nHauptrede: Katharina Clay Landesleiterin IGBCE Baden-Württem
	berg\n\nMusik: \n\nMüller & Friends
URL:https://keepkarlsruheboring.org/event/1-mai-2025-or-mach-dich-stark-mit
	-uns
GEO:49.0028;8.40113
LOCATION:Festplatz - Südweststadt\, Karlsruhe\, Baden-Württemberg\, 76137\,
	 Deutschland
STATUS:CONFIRMED
CATEGORIES:Demonstration,Trade Union,Workers rights
X-ALT-DESC;FMTTYPE=text/html:<h3>Mach dich stark mit uns</h3><p>1. Mai Karl
	sruhe</p><p></p><p>11 Uhr Demonstrationszug ab Festplatz</p><p>12 Uhr Kund
	gebung zum Tag der Arbeit auf dem Marktplatz</p><p>Hauptrede: Katharina Cl
	ay Landesleiterin IGBCE Baden-Württemberg</p><p>Musik:&nbsp;</p><p>Müller 
	&amp; Friends</p>
BEGIN:VALARM
ACTION:DISPLAY
DESCRIPTION:1. Mai 2025 | Mach dich stark mit uns
TRIGGER:-PT1H
END:VALARM
END:VEVENT
END:VCALENDAR
