BEGIN:VCALENDAR
VERSION:2.0
CALSCALE:GREGORIAN
PRODID:adamgibbons/ics
METHOD:PUBLISH
X-PUBLISHED-TTL:PT1H
BEGIN:VEVENT
UID:385@keepkarlsruheboring.org
SUMMARY:10. ATOLL Festival Cirque Ahead [€ ?]
DTSTAMP:20260423T104640Z
DTSTART:20250918T040000Z
DTEND:20250928T215900Z
DESCRIPTION:ATOLL FESTIVAL - ENCHANT AND TOUCH BY SURPRISE\n\n\n\nSince the
	 late 1980s\, developments in contemporary circus have persistently been\n
	represented in the programme of he cultural center TOLLHAUS in Karlsruhe.\
	n\nIn 2016\, the TOLLHAUS merged this commitment with the ATOLL Festival\,
	 which has\nsince been held annually in September. It quickly gained the E
	urope-wide\nreputation of being as one of the first and largest festivals 
	dedicated to\ncontemporary circus in Germany.\n\nFirst and foremost\, ATOL
	L sees itself as a festival for the general public. It\naims to acquaint p
	eople with the multifaceted and fascinating possibilities and\nforms of co
	ntemporary circus. People from the Karlsruhe region\, but also a broad\nau
	dience from near and far. \, In doing so\, it claims to be as diverse as i
	t is\non the pulse of the latest and young creations.\n\n\n\n\nATOLL FESTI
	VAL - MIT ÜBERRASCHUNG VERZAUBERN UND BERÜHREN\n\n\n\nSeit den späten 1980
	er Jahren finden die zeitgenössischen Entwicklungen des\nZirkus im Program
	m des Karlsruher Kulturzentrums TOLLHAUS regelmäßig ihren\nNiederschlag. 2
	016 bündelte das TOLLHAUS dieses Engagement mit dem ATOLL\nFestival\, das 
	sich seither alljährlich im September stattfindend als eines der\nersten u
	nd größten dem zeitgenössischen Zirkus gewidmeten Festivals in\nDeutschlan
	d schnell einen europaweiten Ruf erspielte.\n\nIn erster Linie versteht si
	ch das ATOLL als ausgesprochenes Publikumsfestival\,\ndas die Menschen aus
	 Karlsruhe und der Region\, aber auch ein breites Publikum\naus nah und fe
	rn mit den facettenreichen und faszinierenden Möglichkeiten und\nAusprägun
	gen des zeitgenössischen Zirkus vertraut machen und Freude bereiten\nwill.
	 Dabei erhebt es den Anspruch\, ebenso vielfältig wie am Puls der neuesten
	\nund jungen Kreationen zu sein.
URL:https://keepkarlsruheboring.org/event/10-atoll-festival-cirque-ahead
GEO:49.0044;8.43171
LOCATION:Tollhaus - 35\, Alter Schlachthof\, Oststadt Südlicher Teil\, Osts
	tadt\, Karlsruhe\, Baden-Württemberg\, 76131\, Deutschland
STATUS:CONFIRMED
CATEGORIES:AToll Festival,Festival,Kids,Ticket
X-ALT-DESC;FMTTYPE=text/html:<h2>ATOLL Festival - <em>Enchant and touch by 
	surprise</em></h2><p></p><p>Since the late 1980s, developments in contempo
	rary circus have persistently been represented in the programme of he cult
	ural center TOLLHAUS in Karlsruhe.</p><p>In 2016, the TOLLHAUS merged this
	 commitment with the ATOLL Festival, which has since been held annually in
	 September. It quickly gained the Europe-wide reputation of being as one o
	f the first and largest festivals dedicated to contemporary circus in Germ
	any.</p><p>First and foremost, ATOLL sees itself as a festival for the gen
	eral public. It aims to acquaint people with the multifaceted and fascinat
	ing possibilities and forms of contemporary circus. People from the Karlsr
	uhe region, but also a broad audience from near and far. , In doing so, it
	 claims to be as diverse as it is on the pulse of the latest and young cre
	ations.</p><p></p><h2>ATOLL Festival <em>- mit Überraschung</em> verzauber
	n und berühren</h2><p></p><p>Seit den späten 1980er Jahren finden die zeit
	genössischen Entwicklungen des Zirkus im Programm des Karlsruher Kulturzen
	trums TOLLHAUS regelmäßig ihren Niederschlag. 2016 bündelte das TOLLHAUS d
	ieses Engagement mit dem ATOLL Festival, das sich seither alljährlich im S
	eptember stattfindend als eines der ersten und größten dem zeitgenössische
	n Zirkus gewidmeten Festivals in Deutschland schnell einen europaweiten Ru
	f erspielte.</p><p>In erster Linie versteht sich das ATOLL als ausgesproch
	enes Publikumsfestival, das die Menschen aus Karlsruhe und der Region, abe
	r auch ein breites Publikum aus nah und fern mit den facettenreichen und f
	aszinierenden Möglichkeiten und Ausprägungen des zeitgenössischen Zirkus v
	ertraut machen und Freude bereiten will. Dabei erhebt es den Anspruch, ebe
	nso vielfältig wie am Puls der neuesten und jungen Kreationen zu sein.</p>
BEGIN:VALARM
ACTION:DISPLAY
DESCRIPTION:10. ATOLL Festival Cirque Ahead [€ ?]
TRIGGER:-PT1H
END:VALARM
END:VEVENT
END:VCALENDAR
