BEGIN:VCALENDAR
VERSION:2.0
CALSCALE:GREGORIAN
PRODID:adamgibbons/ics
METHOD:PUBLISH
X-PUBLISHED-TTL:PT1H
BEGIN:VEVENT
UID:548@keepkarlsruheboring.org
SUMMARY:10 Jahre ßpace
DTSTAMP:20260423T104140Z
DTSTART:20251122T170000Z
DTEND:20251123T000000Z
DESCRIPTION:Liebe Freundinnen\, Unterstützende\, Partnerinnen\, Interessier
	te und Verbündete!\n\n\n\n2015. Im Jahr des dreihundertsten Karlsruher Sta
	dtgeburtstages eröffnet zwischen\nden (allerersten) Schlosslichtspielen un
	d den (garantiert nicht letzten)\nKombilösungsbaustellen der Projektraum ß
	pace erstmals seine Glastür für die\nÖffentlichkeit.\n\nDie Mission: Ein E
	xperimentierfeld für die freie Szene bieten\, einen\nZwischenraum für Kult
	urprojekte und Stadtentwicklungsimpulse jenseits des\nSchlachthofareals zu
	 schaffen. Und irgendwie auch Karlsruhe attraktiver zum\nBleiben für uns a
	lle zu machen.\n\n\n\nDas war also vor einer Dekade. Wow. Zehn Jahre volle
	r Ideen\, Begegnungen\,\nResonanzen und Freundschaften. Zehn Jahre Plenums
	diskussionen\, Anträge\nschreiben\, Teppiche schleppen. Zehn Jahre Kribbel
	n im Bauch und Leuchten in den\nAugen. Zehn Jahre ehrenamtliches\, gemeinn
	ütziges Engagement für eine kulturell\nvielfältige und lebenswertere Stadt
	.\n\nDas wird gebührend gefeiert. Und ihr seid eingeladen!\n\n\n\nSamstag\
	, 22. November 2025\n\nßpace - Fritz Erler-Straße 7\, 76133 Karlsruhe\n\na
	b 18:00 Uhr\n\n\n\nUm 20:00 Uhr mit Impulsen von:\n\nSusanne Ablaß - Leite
	rin des Kulturbüros der Stadt Karlsruhe\n\nNorina Quinte\n\nAdrian Wagner\
	n\n\n\nIn altbewährter ßpaced-Manier gibt es glutrote Drinks\, schmoove Mu
	sik und jede\nMenge nette Menschen zum anstoßen\, gemeinsamen Revuepassier
	en lassen und neue\nPläne schmieden.\n\nWir freuen uns auf Euch – egal ob 
	sich der ßpace wie euer zweites Zuhause\nanfühlt oder ihr neues Terrain er
	kunden wollt!\n\n\n\nWir danken der Karlsruher Fächer GmbH (KFG) und dem K
	ulturamt | Kulturbüro der\nStadt Karlsruhe herzlich für die jahrelange Unt
	erstützung von die Anstoß e.V.\nund dem ßpace!
URL:https://keepkarlsruheboring.org/event/10-jahre-sspace
GEO:49.0084;8.41046
LOCATION:ßpace - Fritz-Erler-Straße 7\, 76133 Karlsruhe
STATUS:CONFIRMED
CATEGORIES:Music,Party
X-ALT-DESC;FMTTYPE=text/html:<p>Liebe Freund<em>innen, Unterstützende, Part
	ner</em>innen, Interessierte und Verbündete!</p><p></p><p>2015. Im Jahr de
	s dreihundertsten Karlsruher Stadtgeburtstages eröffnet zwischen den (alle
	rersten) Schlosslichtspielen und den (garantiert nicht letzten) Kombilösun
	gsbaustellen der Projektraum ßpace erstmals seine Glastür für die Öffentli
	chkeit.</p><p>Die Mission: Ein Experimentierfeld für die freie Szene biete
	n, einen Zwischenraum für Kulturprojekte und Stadtentwicklungsimpulse jens
	eits des Schlachthofareals zu schaffen. Und irgendwie auch Karlsruhe attra
	ktiver zum Bleiben für uns alle zu machen.</p><p></p><p>Das war also vor e
	iner Dekade. Wow. Zehn Jahre voller Ideen, Begegnungen, Resonanzen und Fre
	undschaften. Zehn Jahre Plenumsdiskussionen, Anträge schreiben, Teppiche s
	chleppen. Zehn Jahre Kribbeln im Bauch und Leuchten in den Augen. Zehn Jah
	re ehrenamtliches, gemeinnütziges Engagement für eine kulturell vielfältig
	e und lebenswertere Stadt.</p><p>Das wird gebührend gefeiert. Und ihr seid
	 eingeladen!</p><p></p><p><strong>Samstag, 22. November 2025</strong></p><
	p>ßpace - Fritz Erler-Straße 7, 76133 Karlsruhe</p><p>ab 18:00 Uhr</p><p><
	/p><p><strong>Um 20:00 Uhr mit Impulsen von:</strong></p><p>Susanne Ablaß 
	- Leiterin des Kulturbüros der Stadt Karlsruhe</p><p>Norina Quinte</p><p>A
	drian Wagner</p><p></p><p>In altbewährter ßpaced-Manier gibt es glutrote D
	rinks, schmoove Musik und jede Menge nette Menschen zum anstoßen, gemeinsa
	men Revuepassieren lassen und neue Pläne schmieden.</p><p>Wir freuen uns a
	uf Euch – egal ob sich der ßpace wie euer zweites Zuhause anfühlt oder ihr
	 neues Terrain erkunden wollt!</p><p></p><p>Wir danken der Karlsruher Fäch
	er GmbH (KFG) und dem Kulturamt | Kulturbüro der Stadt Karlsruhe herzlich 
	für die jahrelange Unterstützung von die Anstoß e.V. und dem ßpace!</p>
BEGIN:VALARM
ACTION:DISPLAY
DESCRIPTION:10 Jahre ßpace
TRIGGER:-PT1H
END:VALARM
END:VEVENT
END:VCALENDAR
