BEGIN:VCALENDAR
VERSION:2.0
CALSCALE:GREGORIAN
PRODID:adamgibbons/ics
METHOD:PUBLISH
X-PUBLISHED-TTL:PT1H
BEGIN:VEVENT
UID:34@keepkarlsruheboring.org
SUMMARY:11. Kulturmeile Grötzingen: Wenn Kultur verbindet\, rückt das Glück
	 ganz nah
DTSTAMP:20260423T105017Z
DTSTART:20250628T160000Z
DTEND:20250629T215900Z
DESCRIPTION:Vom 28. bis 29. Juni 2025 verwandeln sich Orte und Straßen in G
	rötzingen in eine\ngroße Bühne und Ausstellungsfläche. Kulturschaffende au
	s Grötzingen und aller\nWelt\, Vereine sowie Institutionen präsentieren Li
	ve-Music-Acts\, Tanz\, Theater\,\nGedichtetes und Verdichtetes\, Bildende 
	Kunst sowie Kunsthandwerk – und das\nbereits zum elften Mal.
URL:https://keepkarlsruheboring.org/event/11-kulturmeile-grotzingen-wenn-ku
	ltur-verbindet-ruckt-das-gluck-ganz-nah
GEO:49.0071;8.49763
LOCATION:Grötzingen - Grötzingen
STATUS:CONFIRMED
CATEGORIES:Art,Dance,Kids,Party,Theater
X-ALT-DESC;FMTTYPE=text/html:<p>Vom <strong>28. bis 29. Juni 2025</strong> 
	verwandeln sich Orte und Straßen in Grötzingen in eine große Bühne und Aus
	stellungsfläche. Kulturschaffende aus Grötzingen und aller Welt, Vereine s
	owie Institutionen präsentieren Live-Music-Acts, Tanz, Theater, Gedichtete
	s und Verdichtetes, Bildende Kunst sowie Kunsthandwerk – und das bereits z
	um elften Mal.</p>
BEGIN:VALARM
ACTION:DISPLAY
DESCRIPTION:11. Kulturmeile Grötzingen: Wenn Kultur verbindet, rückt das Gl
	ück ganz nah
TRIGGER:-PT1H
END:VALARM
END:VEVENT
END:VCALENDAR
