BEGIN:VCALENDAR
VERSION:2.0
CALSCALE:GREGORIAN
PRODID:adamgibbons/ics
METHOD:PUBLISH
X-PUBLISHED-TTL:PT1H
BEGIN:VEVENT
UID:507@keepkarlsruheboring.org
SUMMARY:12MIN.ME | KARLSRUHE | IGNITE 🔥 #009
DTSTAMP:20260423T104540Z
DTSTART:20251203T181000Z
DTEND:20251203T203000Z
DESCRIPTION:WE ARE BACK ✨\n\nAm 3. Dezember um 19:12 Uhr ist es soweit: 12M
	IN.ME [http://12MIN.ME] kommt\nzurück nach Karlsruhe und wir freuen uns ri
	esig\, dieses inspirierende Format in\nunsere Stadt zu bringen.\n\nIm Desi
	gn Office Karlsruhe\n[https://www.designoffices.de/standorte/buero-mieten-
	karlsruhe/karlsruhe-bahnhofplatz]\nerwartet euch ein Abend voller Geschich
	ten\, Denkanstöße und Begegnungen.\n\nDer Abend enthält drei Mal:\n⏰ 12 Mi
	nuten Vortrag\n⏰ 12 Minuten Q&A\n⏰ 12 Minuten Networking\n\nWir sehen uns 
	am 3. Dezember! Der Eintritt ist wie immer frei.\n\nWir freuen uns auf euc
	h!\nJenny [https://www.linkedin.com/in/jenny-reichel/] & Jennifer\n[https:
	//www.linkedin.com/in/goldmomente/]\nCity Leads HD / KA / BAD 💛
URL:https://keepkarlsruheboring.org/event/12minme-or-karlsruhe-or-ignite-00
	9
GEO:48.9946;8.39864
LOCATION:Design Offices - Bahnhofpl. 12\, 76137 Karlsruhe
STATUS:CONFIRMED
CATEGORIES:after work,netzwerk
X-ALT-DESC;FMTTYPE=text/html:<p>WE ARE BACK ✨</p><p>Am 3. Dezember um 19:12
	 Uhr ist es soweit: <a href="http://12MIN.ME" target="_blank">12MIN.ME</a>
	 kommt zurück nach Karlsruhe und wir freuen uns riesig, dieses inspirieren
	de Format in unsere Stadt zu bringen.</p><p>Im <a href="https://www.design
	offices.de/standorte/buero-mieten-karlsruhe/karlsruhe-bahnhofplatz" target
	="_blank">Design Office Karlsruhe</a> erwartet euch ein Abend voller Gesch
	ichten, Denkanstöße und Begegnungen.</p><p>Der Abend enthält drei Mal:<br>
	⏰ 12 Minuten Vortrag<br>⏰ 12 Minuten Q&amp;A<br>⏰ 12 Minuten Networking</p
	><p>Wir sehen uns am 3. Dezember! Der Eintritt ist wie immer frei.</p><p>W
	ir freuen uns auf euch!<br><a href="https://www.linkedin.com/in/jenny-reic
	hel/" target="_blank">Jenny</a> &amp; <a href="https://www.linkedin.com/in
	/goldmomente/" target="_blank">Jennifer</a><br>City Leads HD / KA / BAD 💛<
	/p>
BEGIN:VALARM
ACTION:DISPLAY
DESCRIPTION:12MIN.ME | KARLSRUHE | IGNITE 🔥 #009
TRIGGER:-PT1H
END:VALARM
END:VEVENT
END:VCALENDAR
