BEGIN:VCALENDAR
VERSION:2.0
CALSCALE:GREGORIAN
PRODID:adamgibbons/ics
METHOD:PUBLISH
X-PUBLISHED-TTL:PT1H
BEGIN:VEVENT
UID:728@keepkarlsruheboring.org
SUMMARY:12MIN.ME | KARLSRUHE | IGNITE 🔥 #011
DTSTAMP:20260423T090513Z
DTSTART:20260326T171000Z
DTEND:20260326T200000Z
DESCRIPTION:Im März sehen wir uns in #Karlsruhe wieder: 12MIN.ME [http://12
	min.me/] ⏰ |\nIGNITE🔥 - UNSER KLASSIKER\n\nUnser bunter Standard mit drei 
	Vorträgen zu unterschiedlichen Themen! Bei\nunserem monatlich stattfindend
	en IGNITE-Talks sind alle Themen willkommen. Hier\nbekommt ihr eine bunte 
	Tüte aus Vorträgen\, Denkanstöße in die verschiedensten\nRichtungen und ei
	ne mindestens ebenso wilde wie herzliche Runde von Gästen.\n\nDON'T WASTE 
	(y)OUR TIME!🚀\n..ist unser Motto und wir leben es. Zeit ist unser wertvoll
	stes Gut –\nverschwende sie nicht! Wir bringen Bildung\, Innovation und in
	spirierende Themen\nin ein lockeres Afterwork-Format\, in dem Old und New 
	Economy aufeinandertreffen.\n\nDer Abend enthält drei Mal:\n⏰ 12 Minuten V
	ortrag\n⏰ 12 Minuten Q&A\n⏰ 12 Minuten Networking\n\nWir freuen uns auf eu
	ch!\nJenny [https://www.linkedin.com/in/jenny-reichel/] & Jennifer\n[https
	://www.linkedin.com/in/goldmomente/]\nCity Leads HD I KA I BAD 💛
URL:https://keepkarlsruheboring.org/event/12minme-or-karlsruhe-or-ignite-01
	1
GEO:48.9946;8.39864
LOCATION:Design Offices - Bahnhofpl. 12\, 76137 Karlsruhe
STATUS:CONFIRMED
CATEGORIES:Technology
X-ALT-DESC;FMTTYPE=text/html:<p>​​Im März sehen wir uns in #Karlsruhe wiede
	r: <a href="http://12min.me/" target="_blank">12MIN.ME</a> ⏰ | IGNITE🔥 - U
	NSER KLASSIKER<br><br>Unser bunter Standard mit drei Vorträgen zu untersch
	iedlichen Themen! Bei unserem monatlich stattfindenden IGNITE-Talks sind a
	lle Themen willkommen. Hier bekommt ihr eine bunte Tüte aus Vorträgen, Den
	kanstöße in die verschiedensten Richtungen und eine mindestens ebenso wild
	e wie herzliche Runde von Gästen.<br><br>DON'T WASTE (y)OUR TIME!🚀<br>..is
	t unser Motto und wir leben es. Zeit ist unser wertvollstes Gut – verschwe
	nde sie nicht! Wir bringen Bildung, Innovation und inspirierende Themen in
	 ein lockeres Afterwork-Format, in dem Old und New Economy aufeinandertref
	fen.<br><br>Der Abend enthält drei Mal:<br>⏰ 12 Minuten Vortrag<br>⏰ 12 Mi
	nuten Q&amp;A<br>⏰ 12 Minuten Networking<br><br>Wir freuen uns auf euch!<b
	r><a href="https://www.linkedin.com/in/jenny-reichel/" target="_blank">Jen
	ny</a> &amp; <a href="https://www.linkedin.com/in/goldmomente/" target="_b
	lank">Jennifer</a><br>City Leads HD<em> </em>I KA I BAD 💛</p>
BEGIN:VALARM
ACTION:DISPLAY
DESCRIPTION:12MIN.ME | KARLSRUHE | IGNITE 🔥 #011
TRIGGER:-PT1H
END:VALARM
END:VEVENT
END:VCALENDAR
