BEGIN:VCALENDAR
VERSION:2.0
CALSCALE:GREGORIAN
PRODID:adamgibbons/ics
METHOD:PUBLISH
X-PUBLISHED-TTL:PT1H
BEGIN:VEVENT
UID:1533@keepkarlsruheboring.org
SUMMARY:12MIN.ME | KARLSRUHE | IGNITE 🔥 #012
DTSTAMP:20260424T123516Z
DTSTART:20260507T161500Z
DTEND:20260507T191500Z
DESCRIPTION:Drei Perspektiven\, die im Alltag anfangen und weit darüber hin
	ausgehen.\n\n\n\nBei 12MIN.ME [http://12MIN.ME] am 07. Mai in Karlsruhe im
	 SteamWork treffen\nMenschen aufeinander\, die an ganz unterschiedlichen S
	tellen ansetzen und doch\nüber das Gleiche sprechen: Veränderung.\n\n\n\n🔴
	 Thomas Frank\nWie können wir mit Leitungswasser die Welt retten?\n\nAls W
	asserkurator und Projektleiter im Wasser-Quartier Karlsruhe zeigt er\, war
	um\ndie Entscheidung für Leitungswasser mehr ist als Bequemlichkeit. Es ge
	ht um\nRessourcen\, Haltung und konkrete Hebel im Alltag. Nach seinem Wech
	sel vom\nKulturjournalismus in den Non-Profit-Bereich arbeitet er heute da
	ran\, aus Wissen\ngemeinsames Handeln zu machen.\n\n\n\n🔴 Mareike Schmalz\
	nNie wieder für Geld arbeiten. Wie das wirklich geht.\n\nMit 32 finanziell
	 frei – nicht durch Glück\, sondern durch Strategie. Mareike\nspricht darü
	ber\, was hinter dem Begriff wirklich steckt und welche\nEntscheidungen nö
	tig sind\, um aus dem Hamsterrad auszusteigen. Es geht weniger\num Zahlen 
	als um die Frage\, wie wir leben wollen.\n\n\n\n🔴 Nadine Waibel\nWie verme
	idest du richtig? Über Konflikte an deiner Grenze.\n\nSeit über 20 Jahren 
	beschäftigt sie sich mit Mustern in Begegnungen. Ihr Fokus:\nVermeidung\, 
	Grenzen und ehrlicher Kontakt. Ein Vortrag\, der genauer hinschaut\,\nwo w
	ir ausweichen und was das mit uns und unseren Beziehungen macht.\n\n\n12 M
	inuten Input\n12 Minuten Q&A\n12 Minuten Austausch\n\n\n\n📅 07. Mai\n⏰ 18:
	12 Uhr (Einlass ab 17:30 Uhr)\n📍 SteamWork @goodspaces\, Karlsruhe\n🎟️ kost
	enlos auf Luma anmelden: https://luma.com/f39zwrvy\n[https://luma.com/f39z
	wrvy]\n\n\nWir freuen uns auf euch\,\n\nJenny & Jennifer\n\nCity Leads Nor
	dbaden 💛\n\n#Networking [https://www.instagram.com/explore/tags/networking
	/]\n#EventsKarlsruhe [https://www.instagram.com/explore/tags/eventskarlsru
	he/]\n#12minme [https://www.instagram.com/explore/tags/12minme/]
URL:https://keepkarlsruheboring.org/event/12minme-or-karlsruhe-or-ignite-01
	2
GEO:49.0015;8.38794
LOCATION:SteamWork - 23a\, Roonstraße\, Südweststadt Mittlerer Teil\, Südwe
	ststadt\, Karlsruhe\, Baden-Württemberg\, 76137\, Deutschland
STATUS:CONFIRMED
CATEGORIES:afterwork,Community,netzwerken,Technology
X-ALT-DESC;FMTTYPE=text/html:<p>Drei Perspektiven, die im Alltag anfangen u
	nd weit darüber hinausgehen.</p><p></p><p>Bei <a href="http://12MIN.ME" ta
	rget="_blank">12MIN.ME</a> am 07. Mai in Karlsruhe im SteamWork treffen Me
	nschen aufeinander, die an ganz unterschiedlichen Stellen ansetzen und doc
	h über das Gleiche sprechen: Veränderung.</p><p></p><p>🔴<strong> Thomas Fr
	ank<br></strong>Wie können wir mit Leitungswasser die Welt retten?</p><p>A
	ls Wasserkurator und Projektleiter im Wasser-Quartier Karlsruhe zeigt er, 
	warum die Entscheidung für Leitungswasser mehr ist als Bequemlichkeit. Es 
	geht um Ressourcen, Haltung und konkrete Hebel im Alltag. Nach seinem Wech
	sel vom Kulturjournalismus in den Non-Profit-Bereich arbeitet er heute dar
	an, aus Wissen gemeinsames Handeln zu machen.</p><p></p><p>🔴<strong> Marei
	ke Schmalz<br></strong>Nie wieder für Geld arbeiten. Wie das wirklich geht
	.</p><p>Mit 32 finanziell frei – nicht durch Glück, sondern durch Strategi
	e. Mareike spricht darüber, was hinter dem Begriff wirklich steckt und wel
	che Entscheidungen nötig sind, um aus dem Hamsterrad auszusteigen. Es geht
	 weniger um Zahlen als um die Frage, wie wir leben wollen.</p><p></p><p>🔴<
	strong> Nadine Waibel<br></strong>Wie vermeidest du richtig? Über Konflikt
	e an deiner Grenze.</p><p>Seit über 20 Jahren beschäftigt sie sich mit Mus
	tern in Begegnungen. Ihr Fokus: Vermeidung, Grenzen und ehrlicher Kontakt.
	 Ein Vortrag, der genauer hinschaut, wo wir ausweichen und was das mit uns
	 und unseren Beziehungen macht.</p><p><br>12 Minuten Input<br>12 Minuten Q
	&amp;A<br>12 Minuten Austausch</p><p></p><p>📅 07. Mai<br>⏰ 18:12 Uhr (Einl
	ass ab 17:30 Uhr)<br>📍 SteamWork @goodspaces, Karlsruhe<br>🎟️ kostenlos auf
	 Luma anmelden: <a href="https://luma.com/f39zwrvy" target="_blank">https:
	//luma.com/f39zwrvy</a></p><p><br>Wir freuen uns auf euch,</p><p>Jenny &am
	p; Jennifer</p><p>City Leads Nordbaden 💛</p><p><a href="https://www.instag
	ram.com/explore/tags/networking/" target="_blank"><u>#Networking</u></a> <
	a href="https://www.instagram.com/explore/tags/eventskarlsruhe/" target="_
	blank"><u>#EventsKarlsruhe</u></a> <a href="https://www.instagram.com/expl
	ore/tags/12minme/" target="_blank"><u>#12minme</u></a></p>
BEGIN:VALARM
ACTION:DISPLAY
DESCRIPTION:12MIN.ME | KARLSRUHE | IGNITE 🔥 #012
TRIGGER:-PT1H
END:VALARM
END:VEVENT
END:VCALENDAR
