BEGIN:VCALENDAR
VERSION:2.0
CALSCALE:GREGORIAN
PRODID:adamgibbons/ics
METHOD:PUBLISH
X-PUBLISHED-TTL:PT1H
BEGIN:VEVENT
UID:465@keepkarlsruheboring.org
SUMMARY:3rd American Library Reading Party
DTSTAMP:20260423T102216Z
DTSTART:20251107T180000Z
DTEND:20251107T193000Z
DESCRIPTION:DO YOU NEED AN EXCUSE TO READ? CAN'T CONCENTRATE AT HOME? WANT 
	TO READ\n(SILENTLY) WITH OTHERS IN A COMFORTABLE ATMOSPHERE?\n\n\n\nHow it
	 works:\n\n * Bring a book or pick one up from the library (any language)\
	, grab a beverage\,\n   find a comfy place to sit\, and READ! Silently and
	 by yourself. It's really\n   very relaxing!\n\n * During the break (after
	 30 minutes)\, you can stretch\, grab a beverage\, speak\n   to your neigh
	bor\, or keep reading. Then 30 more minutes of quiet reading.\n   That's i
	t!\n\n * Free. Sign-up requested\, but not mandatory. 0721 7 27 52\n\n\nBR
	AUCHST DU EINE AUSREDE ZUM LESEN? KANNST DU DICH ZU HAUSE NICHT KONZENTRIE
	REN?\nMÖCHTEST DU (STILL) MIT ANDEREN IN EINER ANGENEHMEN ATMOSPHÄRE LESEN
	?\n\n\n\nSo funktioniert es:\n\n * Bring ein Buch mit oder hol dir eins au
	s der Bibliothek (in jeder Sprache)\,\n   schnapp dir ein Getränk\, such d
	ir einen bequemen Platz zum Sitzen und LESE!\n   Still und alleine. Das is
	t wirklich sehr entspannend!\n\n * In der Pause (nach 30 Minuten) kannst d
	u dich strecken\, dir ein Getränk\n   holen\, mit deinem Nachbarn sprechen
	 oder weiterlesen. Dann folgen weitere 30\n   Minuten stilles Lesen. Das w
	ar's!\n\n * Kostenlos. Anmeldung erwünscht\, aber nicht verpflichtend. 072
	1 7 27 52
URL:https://keepkarlsruheboring.org/event/3rd-american-library-reading-part
	y
GEO:49.0331;8.39244
LOCATION:Amerikanische Bibliothek - Kanalweg 52 76149 Karlsruhe
STATUS:CONFIRMED
CATEGORIES:Free,Reading Party,Registration required
X-ALT-DESC;FMTTYPE=text/html:<h1>Do you need an excuse to read? Can't conce
	ntrate at home? Want to read (silently) with others in a comfortable atmos
	phere?</h1><p></p><p>How it works:</p><ul><li><p>Bring a book or pick one 
	up from the library (any language), grab a beverage, find a comfy place to
	 sit, and READ! Silently and by yourself. It's really very relaxing!</p></
	li><li><p>During the break (after 30 minutes), you can stretch, grab a bev
	erage, speak to your neighbor, or keep reading. Then 30 more minutes of qu
	iet reading. That's it!</p></li><li><p>Free. Sign-up requested, but not ma
	ndatory. 0721 7 27 52</p></li></ul><h1>Brauchst du eine Ausrede zum Lesen?
	 Kannst du dich zu Hause nicht konzentrieren? Möchtest du (still) mit ande
	ren in einer angenehmen Atmosphäre lesen?</h1><p></p><p>So funktioniert es
	:</p><ul><li><p>Bring ein Buch mit oder hol dir eins aus der Bibliothek (i
	n jeder Sprache), schnapp dir ein Getränk, such dir einen bequemen Platz z
	um Sitzen und LESE! Still und alleine. Das ist wirklich sehr entspannend!<
	/p></li><li><p>In der Pause (nach 30 Minuten) kannst du dich strecken, dir
	 ein Getränk holen, mit deinem Nachbarn sprechen oder weiterlesen. Dann fo
	lgen weitere 30 Minuten stilles Lesen. Das war's!</p></li></ul><ul><li><p>
	Kostenlos. Anmeldung erwünscht, aber nicht verpflichtend. 0721 7 27 52</p>
	</li></ul>
BEGIN:VALARM
ACTION:DISPLAY
DESCRIPTION:3rd American Library Reading Party
TRIGGER:-PT1H
END:VALARM
END:VEVENT
END:VCALENDAR
