BEGIN:VCALENDAR
VERSION:2.0
CALSCALE:GREGORIAN
PRODID:adamgibbons/ics
METHOD:PUBLISH
X-PUBLISHED-TTL:PT1H
BEGIN:VEVENT
UID:967@keepkarlsruheboring.org
SUMMARY:Abyssal + Carcinoma + Youff
DTSTAMP:20260423T102404Z
DTSTART:20260521T170000Z
DTEND:20260521T190000Z
DESCRIPTION:Einlass: 19 Uhr // Beginn: 20 Uhr : 20€ // Abendkasse: 25€ Emer
	ging in obscurity\nwith “Denouement” in 2010\, Abyssal have forged an inde
	lible imprint on the UK\nunderground death metal scene. Existing for many 
	years as a totally anonymous\nand untraceable entity\, Abyssal colluded wi
	th Profound Lore Records to release\n“Novit Enim Dominus\, Qui Sunt Eius” 
	in 2011 – a benchmark album for impenetrable\nand suffocating darkness. Th
	eir 2015 magnum opus “Antikatastaseis” fused\ndarkness and light in equal 
	measure to create an otherworldly and ethereal\nexperience. With 2019’s “ 
	A Beacon in the Husk” Abyssal provided a challenging\,\nobtuse and cathart
	ic expedition into the human psyche\, with an album that\ncontinues to gro
	w in infamy to this day. Between full length works\, Abyssal have\nprolifi
	cally released ambitious split records with the undergrounds most\nimpress
	ive artists\, such as Carcinoma\, Ellorsith and Tchornobog\, bringing new\
	ndimensions to their sound palette. Playing their first live performances 
	at\nIceland’s Oration festival\, Abyssal have gained a reputation as a unc
	ompromising\nlive experience\, and have since performed on multiple contin
	ents at MDF\, NDF\,\nNorth of the Wall and others\, alongside such bands a
	s Spectral Voice\, Grave\nMiasma\, Sinmara and Svartidaudi. Three-piece De
	ath/Black Metal cultivated to be\nsuffocating\, disorientating and chaotic
	. Filled with rage and relentless caustic\ntones used to reflect the farth
	est regions of human suffering\; drowning in the\nlowest and most miserabl
	e aspects that humanity has to offer. Following on from\n2021’s “Labascati
	on” - Carcinoma went silent as life began to attack with its\nugliest face
	s causing long delays\, failed promises\, line up changes\, tragedy\,\nlos
	s and even death have haunted us\, but perseverance prevailed. Following o
	n\nfrom the 2024 EU and UK tour with ‘Siderean’\, Carcinoma will begin to 
	showcase\nall new material for the upcoming 2nd Album along with work from
	 our releases\,\n“Labascation” and “Apanthropinzation”. are a Belgian nois
	e rock band with\nmembers of 30\,000 Monkies\, Crowd Of Chairs and Mesher.
	 Known for their energetic\nlive sets and raw\, unnerving sound\, they kee
	p on attacking the senses\, one\nrelease at the time. The band started out
	 as a duo in 2014. Over the years they\nkept shapeshifting\, exploring the
	 sonic possibilities of different\ncollaborations and different lineups. F
	or now\, the five-headed formation is\nready to discover new boundaries. W
	ith ‘’Heydays’ (27/10/2023) being their first\nfeat.
URL:https://keepkarlsruheboring.org/event/abyssal-carcinoma-youff
GEO:48.989;8.37185
LOCATION:P8 - Schauenburgstraße 5\, 76135 Karlsruhe
STATUS:CONFIRMED
CATEGORIES:karlsrunruhe,test
X-ALT-DESC;FMTTYPE=text/html:<br>Einlass: 19 Uhr // Beginn: 20 Uhr<br>: 20€
	 // Abendkasse: 25€<br><br><br>Emerging in obscurity with “Denouement” in 
	2010, Abyssal have forged an indelible imprint on the UK underground death
	 metal scene. Existing for many years as a totally anonymous and untraceab
	le entity, Abyssal colluded with Profound Lore Records to release “Novit E
	nim Dominus, Qui Sunt Eius” in 2011 – a benchmark album for impenetrable a
	nd suffocating darkness. Their 2015 magnum opus “Antikatastaseis” fused da
	rkness and light in equal measure to create an otherworldly and ethereal e
	xperience. With 2019’s “ A Beacon in the Husk” Abyssal provided a challeng
	ing, obtuse and cathartic expedition into the human psyche, with an album 
	that continues to grow in infamy to this day. Between full length works, A
	byssal have prolifically<br>released ambitious split records with the unde
	rgrounds most impressive artists, such as Carcinoma, Ellorsith and Tchorno
	bog, bringing new dimensions to their sound palette. Playing their first l
	ive performances at Iceland’s Oration festival, Abyssal have gained a repu
	tation as a uncompromising live experience, and have since performed on mu
	ltiple continents at MDF, NDF, North of the Wall and others, alongside suc
	h bands as Spectral Voice, Grave Miasma,<br>Sinmara and Svartidaudi.<br><b
	r>Three-piece Death/Black Metal cultivated to be suffocating, disorientati
	ng and chaotic. Filled with rage and relentless caustic tones used to refl
	ect the farthest regions of human suffering; drowning in the lowest and mo
	st miserable aspects that humanity has to offer. Following on from 2021’s 
	“Labascation” - Carcinoma went silent as life began to attack with its ugl
	iest faces causing long delays, failed promises, line up changes, tragedy,
	 loss and even death have haunted us, but perseverance prevailed. Followin
	g on from the 2024 EU and UK tour with ‘Siderean’, Carcinoma will begin to
	 showcase all new material for the upcoming 2nd Album along with work from
	 our releases, “Labascation” and “Apanthropinzation”. <br><br><br>are a Be
	lgian noise rock band with members of 30,000 Monkies, Crowd Of<br>Chairs a
	nd Mesher. Known for their energetic live sets and raw,<br>unnerving sound
	, they keep on attacking the senses, one release at<br>the time.  The band
	 started out as a duo in 2014. Over the years they<br>kept shapeshifting, 
	exploring the sonic possibilities of different<br>collaborations and diffe
	rent lineups. For now, the five-headed<br>formation is ready to discover n
	ew boundaries. With ‘’Heydays’<br>(27/10/2023) being their first feat. <br
	><br>
BEGIN:VALARM
ACTION:DISPLAY
DESCRIPTION:Abyssal + Carcinoma + Youff
TRIGGER:-PT1H
END:VALARM
END:VEVENT
END:VCALENDAR
