BEGIN:VCALENDAR
VERSION:2.0
CALSCALE:GREGORIAN
PRODID:adamgibbons/ics
METHOD:PUBLISH
X-PUBLISHED-TTL:PT1H
BEGIN:VEVENT
UID:550@keepkarlsruheboring.org
SUMMARY:Aftershowparty mit DJ Sets von sepbtt (RUTA) und Zina
DTSTAMP:20260423T104912Z
DTSTART:20251121T193000Z
DTEND:20251121T233000Z
DESCRIPTION:IM RAHMEN DES GIGA-HERTZ-FESTIVALS\n\n\n\nKosten\nEintritt frei
	\n\nNach der Vergabe der Produktionspreise des Giga-Hertz-Festivals klingt
	 der Abend\nmit verschachtelten Patterns aus. sepbtt [https://zkm.de/de/pe
	rson/sepbtt]\,\nMitbegründer des Kollektivs RUTA\, verbindet Bass Music\, 
	Brokenbeat-Techno\, Hard\nDrum und zeitgenössische lateinamerikanische Rhy
	thmen zu perkussiven\,\nsci-fi-geprägten Sets. Gemeinsam mit DJ Zina [http
	s://zkm.de/de/person/zina]\nentfaltet sich die Aftershow zunächst loungig\
	, dann tanzend auf dem Musikbalkon.\n\nBildcredits: © ZKM | Zentrum für Ku
	nst und Medien Karlsruhe\, Foto: Micha Reinke
URL:https://keepkarlsruheboring.org/event/aftershowparty-mit-dj-sets-von-se
	pbtt-ruta-und-zina
GEO:49.0013;8.3836
LOCATION:ZKM | Zentrum für Kunst und Medien Karlsruhe - Lorenzstr. 19\, D-7
	6135 Karlsruhe
STATUS:CONFIRMED
CATEGORIES:Electronicmusic,Festival,Music
X-ALT-DESC;FMTTYPE=text/html:<h3><strong>im Rahmen des Giga-Hertz-Festivals
	</strong></h3><p></p><p><strong>Kosten<br></strong>Eintritt frei</p><p>Nac
	h der Vergabe der Produktionspreise des Giga-Hertz-Festivals klingt der Ab
	end mit verschachtelten Patterns aus. <a href="https://zkm.de/de/person/se
	pbtt" target="_blank"><strong>sepbtt</strong></a>, Mitbegründer des Kollek
	tivs RUTA, verbindet Bass Music, Brokenbeat-Techno, Hard Drum und zeitgenö
	ssische lateinamerikanische Rhythmen zu perkussiven, sci-fi-geprägten Sets
	. Gemeinsam mit DJ <a href="https://zkm.de/de/person/zina" target="_blank"
	><strong>Zina</strong></a> entfaltet sich die Aftershow zunächst loungig, 
	dann tanzend auf dem Musikbalkon.</p><p>Bildcredits: © ZKM | Zentrum für K
	unst und Medien Karlsruhe, Foto: Micha Reinke</p>
BEGIN:VALARM
ACTION:DISPLAY
DESCRIPTION:Aftershowparty mit DJ Sets von sepbtt (RUTA) und Zina
TRIGGER:-PT1H
END:VALARM
END:VEVENT
END:VCALENDAR
