BEGIN:VCALENDAR
VERSION:2.0
CALSCALE:GREGORIAN
PRODID:adamgibbons/ics
METHOD:PUBLISH
X-PUBLISHED-TTL:PT1H
BEGIN:VEVENT
UID:916@keepkarlsruheboring.org
SUMMARY:AK'CHAMEL
DTSTAMP:20260423T085517Z
DTSTART:20260406T170000Z
DTEND:20260406T190000Z
DESCRIPTION:𝗔𝗸’𝗰𝗵𝗮𝗺𝗲𝗹 has built a solid reputation as a compelling stage pr
	oject.\nWearing nightmarish costumes and engaging in hallucinatory “ritual
	s”\, their\nsingular sound comprising desert-scorched psychedelia\, post-a
	pocalyptic\nshamanism\, and lo-fi ritual-folk is as unique as the physical
	 theater of their\nlive performances. Authors of around fifteen cassettes\
	, three vinyl LP’s\,\nseveral cryptic VHS videos and their reels have gene
	rated millions of views.\nThey tour frequently and have performed major fe
	stivals on both sides of the\nAtlantic garnering press from VICE\, Consequ
	ence\, The Wire\, and many more.\n𝗣𝗥𝗘𝗦𝗦: “Ak’chamel are one of the most co
	nsistently fascinating and creative\nbands in the psych scene right now.” 
	-Brainwashed "To see Ak’chamel is to have a\nbizarre sensory experience. P
	erformed in full costume\, they’re about as weird as\nwe all thought the f
	irst season of True Detective was supposed to be." -VICE\n“Throughout the 
	years they have designed a unique sound evoking a sort of\nhaunting\, deep
	 psychedelic folk music” -The Attic 'Few bands are as inscrutable\nas the 
	mysterious Texas trio Ak’chamel. They are known for their countless\ncasse
	ttes\, films\, and full-length records (such as the publicly and criticall
	y\nacclaimed ‘The Totemist’)\, as well as for performing their ritualistic
	 sounds in\nhomespun costumes with self-made instruments.' -Le Guess Who F
	estival\n𝗟𝗜𝗡𝗞𝗦: Instagram: _ Bandcamp: YouTube:
URL:https://keepkarlsruheboring.org/event/akchamel
GEO:48.989;8.37185
LOCATION:P8 - Schauenburgstraße 5\, 76135 Karlsruhe
STATUS:CONFIRMED
CATEGORIES:karlsrunruhe,test
X-ALT-DESC;FMTTYPE=text/html:𝗔𝗸’𝗰𝗵𝗮𝗺𝗲𝗹 has built a solid reputation as a co
	mpelling stage project. Wearing nightmarish costumes and engaging in hallu
	cinatory “rituals”, their singular sound comprising desert-scorched psyche
	delia, post-apocalyptic shamanism, and lo-fi ritual-folk is as unique as t
	he physical theater of their live performances.<br>Authors of around fift
	een cassettes, three vinyl LP’s, several cryptic VHS videos and their reel
	s have generated millions of views. They tour frequently and have performe
	d major festivals on both sides of the Atlantic garnering press from VICE,
	 Consequence, The Wire, and many more.<br>𝗣𝗥𝗘𝗦𝗦:<br>“Ak’chamel are one of
	 the most consistently fascinating and creative bands in the psych scene r
	ight now.” -Brainwashed<br>"To see Ak’chamel is to have a bizarre sensory
	 experience. Performed in full costume, they’re about as weird as we all t
	hought the first season of True Detective was supposed to be." -VICE<br>“
	Throughout the years they have designed a unique sound evoking a sort of h
	aunting, deep psychedelic folk music” -The Attic<br>'Few bands are as ins
	crutable as the mysterious Texas trio Ak’chamel. They are known for their 
	countless cassettes, films, and full-length records (such as the publicly 
	and critically acclaimed ‘The Totemist’), as well as for performing their 
	ritualistic sounds in homespun costumes with self-made instruments.' -Le G
	uess Who Festival<br>𝗟𝗜𝗡𝗞𝗦:<br>Instagram:<br>_<br>Bandcamp:<br><br>Yo
	uTube:<br><br>
BEGIN:VALARM
ACTION:DISPLAY
DESCRIPTION:AK'CHAMEL
TRIGGER:-PT1H
END:VALARM
END:VEVENT
END:VCALENDAR
