BEGIN:VCALENDAR
VERSION:2.0
CALSCALE:GREGORIAN
PRODID:adamgibbons/ics
METHOD:PUBLISH
X-PUBLISHED-TTL:PT1H
BEGIN:VEVENT
UID:772@keepkarlsruheboring.org
SUMMARY:AKUSTIK OPEN STAGE: Schlachtplatte mit Antje Schumacher und Carmine
	 Biscosi
DTSTAMP:20260423T105012Z
DTSTART:20260210T180000Z
DTEND:20260210T180000Z
DESCRIPTION:Di\, 10.02.2026 AKUSTIK OPEN STAGE: Schlachtplatte mit Antje Sc
	humacher und\nCarmine Biscosi Konzert präsentiert von SAU e.V. Einlass: 19
	:00 Uhr | Beginn:\n20:00 Uhr Ihr traut euch was! Antje Schumacher und Carm
	ine Biscosi\, Eure Hosts\nund Acoustic Master\, erwarten Euch. Könnt Ihr s
	ingen oder musizieren? Könnt ihr\nbeides gleichzeitig oder überkopf? Strei
	chelt ihr die Geige wie niemand sonst\noder pfeift die Mondscheinsonate au
	f dem letzten Loch? Egal was Ihr macht\, ob\nRock\, Blues and Roll\, Schla
	ger und Gesang\, Jodeln oder nur ein leises\nmelodisches Wispern? Das woll
	en wir sehen und hören! Bei uns herrscht der\nolympische Gedanke: Trau Dic
	h\, jeder darf und keiner muss. Ob ihr schon\nErfahrung habt oder zum erst
	en Mal vor Publikum steht\, ob jung oder älter\,\nunplugged oder mit Instr
	ument\, ob geübt oder spontan - wenn ihr Lust habt\, euer\nTalent vor eine
	m offenen und zugewandten Publikum zu präsentieren – dann kommt\nvorbei. U
	nd wenn ihr offen und zugewandt seid\, dann kommt auch vorbei! Es gibt\nga
	rantiert keinen Preis zu gewinnen\, nur Applaus! Wir feiern das Wollen\, d
	as\nKönnen und vor allem den Mut! Es stehen an diesem Abend\, außer den Ac
	oustic\nMastern Antje Schumacher und Carmine Biscosi auch zwei Gitarren un
	d ein Klavier\nzur Verfügung. Ihr habt 10 bis 12 Minuten Zeit bzw. könnt m
	ax. 3 Lieder/Stücke\ndarbieten. Wir freuen uns auf Euch! Kommt spontan vor
	bei oder meldet euch per\nMail an laura@altehackerei.de an. Eintritt frei 
	- aber um eine Spende wird\ngebeten - Hut geht um!
URL:https://keepkarlsruheboring.org/event/akustik-open-stage-schlachtplatte
	-mit-antje-schumacher-und-carmine-biscosi
GEO:49.0056;8.42925
LOCATION:Alte Hackerei - Alter Schlachthof 11A 76131 Karlsruhe
STATUS:CONFIRMED
CATEGORIES:karlsrunruhe,test
X-ALT-DESC;FMTTYPE=text/html:Di, 10.02.2026<br>AKUSTIK OPEN STAGE: Schlacht
	platte mit Antje Schumacher und Carmine Biscosi<br>Konzert präsentiert von
	 SAU e.V.<br>Einlass: 19:00 Uhr | Beginn: 20:00 Uhr<br><br><br>Ihr traut e
	uch was!<br><br><br>Antje Schumacher und Carmine Biscosi, Eure Hosts und A
	coustic Master, erwarten Euch. Könnt Ihr singen oder musizieren? Könnt ihr
	 beides gleichzeitig oder überkopf? Streichelt ihr die Geige wie niemand s
	onst oder pfeift die Mondscheinsonate auf dem letzten Loch? Egal was Ihr m
	acht, ob Rock, Blues and Roll, Schlager und Gesang, Jodeln oder nur ein le
	ises melodisches Wispern? Das wollen wir sehen und hören! Bei uns herrscht
	 der olympische Gedanke: Trau Dich, jeder darf und keiner muss. Ob ihr sch
	on Erfahrung habt oder zum ersten Mal vor Publikum steht, ob jung oder ält
	er, unplugged oder mit Instrument, ob geübt oder spontan - wenn ihr Lust h
	abt, euer Talent vor einem offenen und zugewandten Publikum zu präsentiere
	n – dann kommt vorbei. Und wenn ihr offen und zugewandt seid, dann kommt a
	uch vorbei! Es gibt garantiert keinen Preis zu gewinnen, nur Applaus! Wir 
	feiern das Wollen, das Können und vor allem den Mut!<br><br>Es stehen an d
	iesem Abend, außer den Acoustic Mastern Antje Schumacher und Carmine Bisco
	si auch zwei Gitarren und ein Klavier zur Verfügung. Ihr habt 10 bis 12 Mi
	nuten Zeit bzw. könnt max. 3 Lieder/Stücke darbieten. Wir freuen uns auf E
	uch!<br><br>Kommt spontan vorbei oder meldet euch per Mail an laura@alteha
	ckerei.de an.<br><br>Eintritt frei - aber um eine Spende wird gebeten - Hu
	t geht um!
BEGIN:VALARM
ACTION:DISPLAY
DESCRIPTION:AKUSTIK OPEN STAGE: Schlachtplatte mit Antje Schumacher und Car
	mine Biscosi
TRIGGER:-PT1H
END:VALARM
END:VEVENT
END:VCALENDAR
