BEGIN:VCALENDAR
VERSION:2.0
CALSCALE:GREGORIAN
PRODID:adamgibbons/ics
METHOD:PUBLISH
X-PUBLISHED-TTL:PT1H
BEGIN:VEVENT
UID:869@keepkarlsruheboring.org
SUMMARY:ALCOHOLIC FAITH MISSION
DTSTAMP:20260423T102453Z
DTSTART:20260314T190000Z
DTEND:20260314T210000Z
DESCRIPTION:Zehn Jahre sind vergangen\, aber die Musik\, die Geschichten un
	d der Geist sind\ngeblieben. Alcoholic Faith Mission kehren für drei exklu
	sive Shows zurück nach\nDeutschland\, um ihre neue Platte THIS IS WHAT WE 
	ARE (06. März 2026)\nvorzustellen: ein Abend\, an dem jede Note zählt. Das
	 Quintett aus Kopenhagen\nbringt damit ihren melancholisch experimentellen
	 Indie endlich wieder zurück.\nNach zehn Jahren Pause meldet sich Alcoholi
	c Faith Mission (AFM) mit einem\nkraftvollen neuen Album zurück. Es reflek
	tiert über Vermächtnis\, Verlust und\nWiedergeburt. Das Kollektiv\, gegrün
	det von Thorben Seierø Jensen und Sune\nSølund\, entstand Mitte der 2000er
	-Jahre\, inspiriert von einem verfallenen\nKirchenschild in Brooklyn – der
	 „Apostolic Faith Mission“ –\, dessen Name die\nironischen Versprechen ihr
	er eigenen Lebenswege widerspiegelte. AFMs frühe Werke\nbasierten auf pers
	önlichen Erfahrungen mit Alkoholismus in der Familie. Fünf\nAlben und inte
	rnationaler Erfolg etablierten die Band. Nach dem Tod von Thorbens\nund Su
	nes Mutter im Jahr 2015 legte die Band eine Pause ein und hinterfragte\nih
	ren weiteren Weg. Während ihrer Auszeit erlebten die Bandmitglieder sowohl
	\nVerluste als auch Freuden – Thorben und Sune feierten 2016 eine Doppelho
	chzeit\nund begrüßten zwölf Kinder in der AFM-Familie. Diese Ereignisse en
	tfachten einen\nkreativen Aufschwung und führten zu ihrem neuesten Projekt
	. „This Is What We\nAre“ setzt sich mit der Angst vor einem belasteten Erb
	e auseinander und sucht\nnach einer Versöhnung zwischen Vergangenheit und 
	Gegenwart. Es ist eine\nErkundung von Leben\, Tod und der Widerstandsfähig
	keit des menschlichen Geistes.\nDas neue Werk von AFM steht für Vergebung 
	und Verbundenheit und ermutigt die\nZuhörer\, ihre Geschichte anzunehmen u
	nd mit ihr zu leben. Einlass: 19 Uhr\,\nBeginn: 20 Uhr
URL:https://keepkarlsruheboring.org/event/alcoholic-faith-mission
GEO:49.0017;8.40754
LOCATION:Kohi - Werderstraße 47\, 76137 Karlsruhe\, Alemanya
STATUS:CONFIRMED
CATEGORIES:karlsrunruhe,test
X-ALT-DESC;FMTTYPE=text/html:Zehn Jahre sind vergangen, aber die Musik, die
	 Geschichten und der Geist sind geblieben. Alcoholic Faith Mission kehren 
	für drei exklusive Shows zurück nach Deutschland, um ihre neue Platte THIS
	 IS WHAT WE ARE (06. März 2026) vorzustellen: ein Abend, an dem jede Note 
	zählt.<br>Das Quintett aus Kopenhagen bringt damit ihren melancholisch exp
	erimentellen Indie endlich wieder zurück. Nach zehn Jahren Pause meldet si
	ch Alcoholic Faith Mission (AFM) mit einem kraftvollen neuen Album zurück.
	 Es reflektiert über Vermächtnis, Verlust und Wiedergeburt. Das Kollektiv,
	 gegründet von Thorben Seierø Jensen und Sune Sølund, entstand Mitte der 2
	000er-Jahre, inspiriert von einem verfallenen Kirchenschild in Brooklyn – 
	der „Apostolic Faith Mission“ –, dessen Name die ironischen Versprechen ih
	rer eigenen Lebenswege widerspiegelte. AFMs frühe Werke basierten auf pers
	önlichen Erfahrungen mit Alkoholismus in der Familie. Fünf Alben und inter
	nationaler Erfolg etablierten die Band. Nach dem Tod von Thorbens und Sune
	s Mutter im Jahr 2015 legte die Band eine Pause ein und hinterfragte ihren
	 weiteren Weg.<br>Während ihrer Auszeit erlebten die Bandmitglieder sowohl
	 Verluste als auch Freuden – Thorben und Sune feierten 2016 eine Doppelhoc
	hzeit und begrüßten zwölf Kinder in der AFM-Familie. Diese Ereignisse entf
	achten einen kreativen Aufschwung und führten zu ihrem neuesten Projekt. „
	This Is What We Are“ setzt sich mit der Angst vor einem belasteten Erbe au
	seinander und sucht nach einer Versöhnung zwischen Vergangenheit und Gegen
	wart. Es ist eine Erkundung von Leben, Tod und der Widerstandsfähigkeit de
	s menschlichen Geistes. Das neue Werk von AFM steht für Vergebung und Verb
	undenheit und ermutigt die Zuhörer, ihre Geschichte anzunehmen und mit ihr
	 zu leben.<br>Einlass: 19 Uhr, Beginn: 20 Uhr
BEGIN:VALARM
ACTION:DISPLAY
DESCRIPTION:ALCOHOLIC FAITH MISSION
TRIGGER:-PT1H
END:VALARM
END:VEVENT
END:VCALENDAR
