BEGIN:VCALENDAR
VERSION:2.0
CALSCALE:GREGORIAN
PRODID:adamgibbons/ics
METHOD:PUBLISH
X-PUBLISHED-TTL:PT1H
BEGIN:VEVENT
UID:495@keepkarlsruheboring.org
SUMMARY:Alessandro Schiattarella (CH) "Zer-brech-lich" [15€]
DTSTAMP:20260423T102329Z
DTSTART:20251129T180000Z
DESCRIPTION:ein Stück\, das von der Verschiedenheit der Körper erzählt.\n\n
	Ein Wort zerfällt in seine Einzelteile. Oder wird zum Refrain einer Hymne 
	auf\ndie Zerbrechlichkeit selbst. Denn wer „zerbrechlich“ sagt\, schenkt d
	em Wort\nbesondere Aufmerksamkeit\, gibt ihm seine besondere Schönheit. De
	r Choreograf\nAlessandro Schiattarella schafft mit „Zer-brech-lich“ ein St
	ück\, das von der\nVerschiedenheit der Körper erzählt. Die drei behinderte
	n Performer*innen\nVictoria Antonova\, Alice Giuliani und Laila White erfo
	rschen eigene und fremde\nIdentitäten. Sie probieren Klänge aus wie Kleide
	r – und suchen den Pop-Moment.\nAuf der Bühne entsteht ein glamouröses Kon
	zert – oder vielleicht doch etwas ganz\nanderes?\n\nMit Tanz und Text\, mi
	t Klängen und Objekten zeigt das Stück\, wie der Umgang mit\nder eigenen Z
	erbrechlichkeit auch zur politischen Botschaft werden kann\, zur\nVision v
	on einer besonderen Achtsamkeit. Es ermutigt zu neuen Erfahrungen: Wir\nke
	nnen die Geräusche\, wenn etwas bricht. Aber wie klingt etwas\, das vor de
	m\nZerbrechen bewahrt wird?\n\nDauer: 60 Min.\nSprache: Deutsch\, Englisch
	 und Französisch mit deutschen Übertiteln\nAudiodeskription + Tastführung\
	n\nRelaxed Performance - Geräusche und Bewegungen aus dem Publikum sind\na
	usdrücklich willkommen. Der Saal kann jederzeit verlassen werden.\n\nFamil
	ienfreundliche Veranstaltung
URL:https://keepkarlsruheboring.org/event/alessandro-schiattarella-ch-zer-b
	rech-lich
GEO:49.0047;8.39574
LOCATION:INSEL - Junges Staatstheater Karlsruhe - Karlstraße 49B\, 76133 Ka
	rlsruhe
STATUS:CONFIRMED
CATEGORIES:Crimp,Dance,Diversity,Familie,Kids,TANZ Karlsruhe 2025,Tanzfesti
	val 2025,Ticket
X-ALT-DESC;FMTTYPE=text/html:<p><strong>ein Stück, das von der Verschiedenh
	eit der Körper erzählt.</strong></p><p>Ein Wort zerfällt in seine Einzelte
	ile. Oder wird zum Refrain einer Hymne auf die Zerbrechlichkeit selbst. De
	nn wer „zerbrechlich“ sagt, schenkt dem Wort besondere Aufmerksamkeit, gib
	t ihm seine besondere Schönheit. Der Choreograf Alessandro Schiattarella s
	chafft mit „Zer-brech-lich“ ein Stück, das von der Verschiedenheit der Kör
	per erzählt. Die drei behinderten Performer*innen Victoria Antonova, Alice
	 Giuliani und Laila White erforschen eigene und fremde Identitäten. Sie pr
	obieren Klänge aus wie Kleider – und suchen den Pop-Moment. Auf der Bühne 
	entsteht ein glamouröses Konzert – oder vielleicht doch etwas ganz anderes
	?</p><p>Mit Tanz und Text, mit Klängen und Objekten zeigt das Stück, wie d
	er Umgang mit der eigenen Zerbrechlichkeit auch zur politischen Botschaft 
	werden kann, zur Vision von einer besonderen Achtsamkeit. Es ermutigt zu n
	euen Erfahrungen: Wir kennen die Geräusche, wenn etwas bricht. Aber wie kl
	ingt etwas, das vor dem Zerbrechen bewahrt wird?</p><p>Dauer: 60 Min.<br>S
	prache: Deutsch, Englisch und Französisch mit deutschen Übertiteln<br>Audi
	odeskription + Tastführung</p><p>Relaxed Performance - Geräusche und Beweg
	ungen aus dem Publikum sind ausdrücklich willkommen. Der Saal kann jederze
	it verlassen werden.</p><p>Familienfreundliche Veranstaltung</p>
BEGIN:VALARM
ACTION:DISPLAY
DESCRIPTION:Alessandro Schiattarella (CH) "Zer-brech-lich" [15€]
TRIGGER:-PT1H
END:VALARM
END:VEVENT
END:VCALENDAR
