BEGIN:VCALENDAR
VERSION:2.0
CALSCALE:GREGORIAN
PRODID:adamgibbons/ics
METHOD:PUBLISH
X-PUBLISHED-TTL:PT1H
BEGIN:VEVENT
UID:76@keepkarlsruheboring.org
SUMMARY:Algorave w/ Renick Bell
DTSTAMP:20260423T102216Z
DTSTART:20250606T180000Z
DTEND:20250607T010000Z
DESCRIPTION:You haven’t had enough computer music?\n\nAfter the blasting ni
	ght in C2 Ost\, TOPLAP Karlsruhe invited Renick Bell as\nguest to bring an
	other night of club-oriented computer music in AKK.\n\n“Renick Bell is one
	 of [the algorave] scene’s more flabbergasting producers\,”\nwrites Mixmag
	 magazine. Resident Advisor calls him “Algorave kingpin” and writes\nthat 
	he “is one of the leading figures of the algorave movement\, and watching\
	nhim make his music is just as fun as dancing to it.” He is researching li
	ve\ncoding\, improvisation\, and algorithmic composition using open source
	 software.\nHe is the author of Conductive\, a library for live coding in 
	the Haskell\nprogramming language.\n\n\n\nLineup:\n\nElmo\n\ndkyuh\n\nAndr
	es Corsair\n\nMichele Samarotto\n\nsurprise acts\n\ncicada\n\n\n\nOn 2-3.6
	. he will host a workshop on composing and improvising algorithms for\nyou
	self and others\, at the Institute for Music Informatics and Musicology\,\
	nUniversity of Music Karlsruhe. Registration unter imwi@hfm.eu\n\n\n\n\n\n
	keep it boring :)\n\n_\\|/_
URL:https://keepkarlsruheboring.org/event/algorave-with-renick-bell
GEO:49.0112;8.41461
LOCATION:AKK - 17\, Engesserstraße\, Innenstadt-Ost Nordöstlicher Teil\, In
	nenstadt\, Karlsruhe\, Baden-Württemberg\, 76131\, Deutschland
STATUS:CONFIRMED
CATEGORIES:algorave,algorithmic art,Art,computer music,live coding,Music,Pa
	rty,Workshop
X-ALT-DESC;FMTTYPE=text/html:<p>You haven’t had enough computer music?</p><
	p>After the blasting night in C2 Ost, TOPLAP Karlsruhe invited Renick Bell
	 as guest to bring another night of club-oriented computer music in AKK.</
	p><p>“Renick Bell is one of [the algorave] scene’s more flabbergasting pro
	ducers,” writes Mixmag magazine. Resident Advisor calls him “Algorave king
	pin” and writes that he “is one of the leading figures of the algorave mov
	ement, and watching him make his music is just as fun as dancing to it.” H
	e is researching live coding, improvisation, and algorithmic composition u
	sing open source software. He is the author of Conductive, a library for l
	ive coding in the Haskell programming language.</p><p></p><p>Lineup:</p><p
	>Elmo</p><p>dkyuh</p><p>Andres Corsair</p><p>Michele Samarotto</p><p><em>s
	urprise acts</em></p><p>cicada</p><p></p><p>On 2-3.6. he will host a works
	hop on <strong><em>composing and improvising algorithms for youself and ot
	hers</em></strong>, at the Institute for Music Informatics and Musicology,
	 University of Music Karlsruhe. Registration unter imwi@hfm.eu</p><p></p><
	p></p><p>keep it boring :)</p><p><code>_\|/_</code></p>
BEGIN:VALARM
ACTION:DISPLAY
DESCRIPTION:Algorave w/ Renick Bell
TRIGGER:-PT1H
END:VALARM
END:VEVENT
END:VCALENDAR
