BEGIN:VCALENDAR
VERSION:2.0
CALSCALE:GREGORIAN
PRODID:adamgibbons/ics
METHOD:PUBLISH
X-PUBLISHED-TTL:PT1H
BEGIN:VEVENT
UID:1555@keepkarlsruheboring.org
SUMMARY:Algorithmic Listening Party w/ Epiploke
DTSTAMP:20260425T031213Z
DTSTART:20260430T160000Z
DTEND:20260430T210000Z
DESCRIPTION:Algorithmic Listening Party\nFriday 30. April 2026\nEntropia e.
	V. Steinstraße 23\, 76133 Karlsruhe\n\nPeople have danced to algorithms th
	roughout history\, including the Ancient\nGreeks. Epiploke is such an algo
	rithm\, evident in fragments of Ancient Greek\ntexts\, where metrical shor
	t-long structure is shifted in patterns. In this\nalgorithmic listening se
	ssion Lucy Cheesman and Alex McLean will explore Ancient\nGreek narratives
	 and patterns with live code (TidalCycle)\, bringing together\nfragments o
	f structures from different texts\, including instances of epiploke\,\nas 
	well as incorporating audio descriptions from Homer and reconstructions of
	\nHomeric instrumentation. Also joining the evening are artists Janani Sur
	esh Ram\,\nFroos and pastagang\, and the locals elmo and grainn.\n\n18:00–
	19:30 Epiploke talk\nAlex McLean & Lucy Cheesman\n\n20:00–23:00 listening 
	party\nbharatanatyam: yaxu x Janani Suresh Ram / elmo / Epiploke / grainn 
	/ ravioli:\npastagang\n\nbrought to you by toplap ka x entropia x haecksen
	\nkeep it boring!
URL:https://keepkarlsruheboring.org/event/algorithmic-listening-party-with-
	epiploke
GEO:49.0063;8.40722
LOCATION:Entropia - Gewerbehof Steinstraße 23 76133 Karlsruhe
STATUS:CONFIRMED
CATEGORIES:algorithmic art,Dance,live coding,Music
X-ALT-DESC;FMTTYPE=text/html:<p>Algorithmic Listening Party<br>Friday 30. A
	pril 2026<br>Entropia e.V. Steinstraße 23, 76133 Karlsruhe<br><br>People h
	ave danced to algorithms throughout history, including the Ancient Greeks.
	 Epiploke is such an algorithm, evident in fragments of Ancient Greek text
	s, where metrical short-long structure is shifted in patterns. In this alg
	orithmic listening session Lucy Cheesman and Alex McLean will explore Anci
	ent Greek narratives and patterns with live code (TidalCycle), bringing to
	gether fragments of structures from different texts, including instances o
	f epiploke, as well as incorporating audio descriptions from Homer and rec
	onstructions of Homeric instrumentation. Also joining the evening are arti
	sts Janani Suresh Ram, Froos and pastagang, and the locals elmo and grainn
	.<br><br>18:00–19:30 Epiploke talk<br>Alex McLean &amp; Lucy Cheesman</p><
	p>20:00–23:00 listening party<br>bharatanatyam: yaxu x Janani Suresh Ram /
	 elmo / Epiploke / grainn / ravioli: pastagang</p><p>brought to you by top
	lap ka x entropia x haecksen<br>keep it boring!</p>
BEGIN:VALARM
ACTION:DISPLAY
DESCRIPTION:Algorithmic Listening Party w/ Epiploke
TRIGGER:-PT1H
END:VALARM
END:VEVENT
END:VCALENDAR
