BEGIN:VCALENDAR
VERSION:2.0
CALSCALE:GREGORIAN
PRODID:adamgibbons/ics
METHOD:PUBLISH
X-PUBLISHED-TTL:PT1H
BEGIN:VEVENT
UID:801@keepkarlsruheboring.org
SUMMARY:Alien Nights
DTSTAMP:20260423T102001Z
DTSTART:20260220T183000Z
DTEND:20260220T203000Z
DESCRIPTION:NOITES ALIENÍGENAS\n\n\n\nStadt und Wald prallen aufeinander\, 
	als sich weitläufige Drogenbanden aus dem\nentwickelten Süden in die abgel
	egenen Tiefen einer städtischen Gemeinde im\nHinterland des Amazonasgebiet
	s einschleichen. Der magische Realismus\, der dem\nrituellen Glauben und d
	er Kultur der lokalen Einwohner innewohnt\, erleidet einen\nverheerenden S
	chlag\, als er mit der kriminellen Gewalt des Drogenhandels\nkonfrontiert 
	wird\, was tödliche Auswirkungen auf die Jugend hat. Die Erzählung\nkonzen
	triert sich auf das Leben von drei Schulfreunden\, die zusammen\naufgewach
	sen sind\, nun aber Entscheidungen treffen müssen\, die ihr Leben für\nimm
	er bestimmen werden.\n\nFollows three friends in Acre in a tragic context 
	where south crime factions\narrive in the amazon. In a transforming societ
	y\, it touches on magical realism\nand explores themes such as slums and n
	orthern Brazilian culture.\n\nFilm screening followed by a discussion with
	 Claudia Pinzón Cuellar. She\nresearches youth\, land rights and intergene
	rational negotiation processes in the\nBrazilian Amazon region.
URL:https://keepkarlsruheboring.org/event/alien-nights
GEO:49.0105;8.39692
LOCATION:Kinemathek - 6\, Kaiserpassage\, Innenstadt-West Östlicher Teil\, 
	Innenstadt-West\, Karlsruhe\, Baden-Württemberg\, 76133\, Deutschland
STATUS:CONFIRMED
CATEGORIES:Film
X-ALT-DESC;FMTTYPE=text/html:<h1>Noites Alienígenas</h1><p><br><br>Stadt un
	d Wald prallen aufeinander, als sich weitläufige Drogenbanden aus dem entw
	ickelten Süden in die abgelegenen Tiefen einer städtischen Gemeinde im Hin
	terland des Amazonasgebiets einschleichen. Der magische Realismus, der dem
	 rituellen Glauben und der Kultur der lokalen Einwohner innewohnt, erleide
	t einen verheerenden Schlag, als er mit der kriminellen Gewalt des Drogenh
	andels konfrontiert wird, was tödliche Auswirkungen auf die Jugend hat. Di
	e Erzählung konzentriert sich auf das Leben von drei Schulfreunden, die zu
	sammen aufgewachsen sind, nun aber Entscheidungen treffen müssen, die ihr 
	Leben für immer bestimmen werden.</p><p>Follows three friends in Acre in a
	 tragic context where south crime factions arrive in the amazon. In a tran
	sforming society, it touches on magical realism and explores themes such a
	s slums and northern Brazilian culture.</p><p>Film screening followed by a
	 discussion with Claudia Pinzón Cuellar. She researches youth, land rights
	 and intergenerational negotiation processes in the Brazilian Amazon regio
	n.</p>
BEGIN:VALARM
ACTION:DISPLAY
DESCRIPTION:Alien Nights
TRIGGER:-PT1H
END:VALARM
END:VEVENT
END:VCALENDAR
