BEGIN:VCALENDAR
VERSION:2.0
CALSCALE:GREGORIAN
PRODID:adamgibbons/ics
METHOD:PUBLISH
X-PUBLISHED-TTL:PT1H
BEGIN:VEVENT
UID:1158@keepkarlsruheboring.org
SUMMARY:American Library Book and Bake Sale
DTSTAMP:20260423T103843Z
DTSTART:20260418T080000Z
DTEND:20260418T120000Z
DESCRIPTION:Shop till you drop at our semiannual Book and Bake Sale! New an
	d gently read\nbooks for sale at the Book Sale. Coffee\, tea and delicious
	 homemade cakes and\ncookies available at the Bake Sale. Support the Frien
	ds of the American Library\nKarlsruhe e.V.\, which means support the Ameri
	canLibrary!\n\nKauf und stöbere nach Herzenslust bei unserem halbjährliche
	n Bücher- und\nKuchenverkauf! Beim Bücherverkauf gibt es neue und gut erha
	ltene gebrauchte\nBücher zu kaufen. Kaffee\, Tee und leckere hausgemachte 
	Kuchen und Kekse gibt es\nbeim Kuchenverkauf. Unterstütze die Freunde der 
	Amerikanischen Bibliothek\nKarlsruhe e.V.\, das heißt\, unterstütze die Am
	erikanische Bibliothek!\n\nwww.american-library.de [http://www.american-li
	brary.de]
URL:https://keepkarlsruheboring.org/event/american-library-book-and-bake-sa
	le
GEO:49.0331;8.39244
LOCATION:Amerikanische Bibliothek - Kanalweg 52 76149 Karlsruhe
STATUS:CONFIRMED
CATEGORIES:Flohmarkt,Free
X-ALT-DESC;FMTTYPE=text/html:<p>Shop till you drop at our semiannual Book a
	nd Bake Sale! New and gently read books for sale at the Book Sale. Coffee,
	 tea and delicious homemade cakes and cookies available at the Bake Sale. 
	Support the Friends of the American Library Karlsruhe e.V., which means su
	pport the AmericanLibrary!</p><p>Kauf und stöbere nach Herzenslust bei uns
	erem halbjährlichen Bücher- und Kuchenverkauf! Beim Bücherverkauf gibt es 
	neue und gut erhaltene gebrauchte Bücher zu kaufen. Kaffee, Tee und lecker
	e hausgemachte Kuchen und Kekse gibt es beim Kuchenverkauf. Unterstütze di
	e Freunde der Amerikanischen Bibliothek Karlsruhe e.V., das heißt, unterst
	ütze die Amerikanische Bibliothek!</p><p><a href="http://www.american-libr
	ary.de" target="_blank">www.american-library.de</a></p>
BEGIN:VALARM
ACTION:DISPLAY
DESCRIPTION:American Library Book and Bake Sale
TRIGGER:-PT1H
END:VALARM
END:VEVENT
END:VCALENDAR
