BEGIN:VCALENDAR
VERSION:2.0
CALSCALE:GREGORIAN
PRODID:adamgibbons/ics
METHOD:PUBLISH
X-PUBLISHED-TTL:PT1H
BEGIN:VEVENT
UID:400@keepkarlsruheboring.org
SUMMARY:Amna Elamin. Unfamiliar Ceilings
DTSTAMP:20260423T102458Z
DTSTART:20251010T140000Z
DTEND:20251010T160000Z
DESCRIPTION:[ ↓ English version below ↓]\n\n»Unfamiliar Ceilings\n[https://
	zkm.de/de/2025/10/amna-elamin-unfamiliar-ceilings]« ist Amna Elamins\nErzä
	hlung einer persönlichen Reise – einer kriegsbedingten Entwurzelung. Die\n
	Arbeit folgt den leisen\, oft unsichtbaren Spuren\, die Konflikte in unser
	 Leben\nzeichnen und unser Verständnis von Heimat verändern. Zur Eröffnung
	 laden wir\nherzlich ein!\n\nUnter fremden Zimmerdecken zieht sich die Wel
	t zusammen und dehnt sich wieder\naus – durchdrungen von Erinnerung\, Angs
	t und zerbrechlicher Hoffnung. Die\ninstallative Arbeit erinnert an das\, 
	was der Krieg uns nimmt: die\nSelbstverständlichkeit von Sicherheit\, die 
	Vertrautheit jener Räume\, die uns\nheilig waren\, und das gewiss geglaubt
	e Gefühl von Zugehörigkeit. Sie spricht von\nAufbruch und Ankunft\, von We
	gen durch Unsicherheit und von der langen\, inneren\nArbeit\, sich ein neu
	es Dasein zu erschließen. In dieser Reflexion zeigt sich\nWiderstandskraft
	\, ebenso die Schwere der Erinnerung und die unermüdliche Suche\nnach Nähe
	 und Sicherheit in einer fremd gewordenen Welt.\n\nAmna Elamin ist visuell
	e Geschichtenerzählerin und kreative Forscherin. In ihrer\nArbeit setzt si
	e sich mit politischen Ungleichheiten\, kollektiver Erinnerung und\nden et
	hischen Dimensionen menschlicher Erfahrungen auseinander. Sie studierte\nI
	nformationstechnologie und Mathematik an der Universität Khartum im Sudan 
	und\nverbindet seither analytische Präzision mit interdisziplinären Perspe
	ktiven. An\nder Schnittstelle von visuellem Journalismus\, digitaler Kunst
	 und\ngesellschaftlichem Engagement entfaltet sie eine Praxis\, die kritis
	che Reflexion\nmit gestalterischer Kraft verbindet.\n\n/-/-/\n\n»Unfamilia
	r Ceilings\n[https://zkm.de/en/2025/10/amna-elamin-unfamiliar-ceilings]« b
	y Amna Elamin\ntraces a personal journey through displacement wrought by w
	ar\, exploring the\nquiet\, often invisible traces that conflict leaves on
	 our lives and sense of\nhome. We warmly invite you to the opening!\n\nBen
	eath these ceilings\, the world contracts and expands\, carrying memory\, 
	fear\,\nand fragile hope in equal measure. The exhibition reflects on what
	 war has\nwrested from us: the constancy of safety\, the familiarity of sp
	aces once\nconsidered sacred\, and the certainty of belonging. It meditate
	s on leaving and\narriving\, on navigating uncertainty\, and on the slow\,
	 intimate work of learning\nto exist anew. Through this reflection\, the e
	xhibition illuminates resilience\,\nthe weight of memory\, and the persist
	ent search for connection and stability in\na world rendered unfamiliar.\n
	\nAmna Elamin is a visual storyteller and creative researcher whose work\n
	illuminates political inequities\, memory\, and the ethical dimensions of 
	human\nexperience. She holds a Bachelor’s degree in Information Technology
	 and\nMathematics from the University of Khartoum\, Sudan\, bringing analy
	tical rigor\nand interdisciplinary insight to her practice at the intersec
	tions of visual\njournalism\, digital art\, and advocacy.
URL:https://keepkarlsruheboring.org/event/amna-elamin-unfamiliar-ceilings
GEO:49.0013;8.3836
LOCATION:ZKM | Zentrum für Kunst und Medien Karlsruhe - Lorenzstr. 19\, D-7
	6135 Karlsruhe
STATUS:CONFIRMED
CATEGORIES:Art,Exhibition,Opening
X-ALT-DESC;FMTTYPE=text/html:<p>[ ↓ English version below ↓]</p><p>»<a href
	="https://zkm.de/de/2025/10/amna-elamin-unfamiliar-ceilings" target="_blan
	k">Unfamiliar Ceilings</a>« ist Amna Elamins Erzählung einer persönlichen 
	Reise – einer kriegsbedingten Entwurzelung. Die Arbeit folgt den leisen, o
	ft unsichtbaren Spuren, die Konflikte in unser Leben zeichnen und unser Ve
	rständnis von Heimat verändern.&nbsp;Zur Eröffnung laden wir herzlich ein!
	</p><p>Unter fremden Zimmerdecken zieht sich die Welt zusammen und dehnt s
	ich wieder aus – durchdrungen von Erinnerung, Angst und zerbrechlicher Hof
	fnung. Die installative Arbeit erinnert an das, was der Krieg uns nimmt: d
	ie Selbstverständlichkeit von Sicherheit, die Vertrautheit jener Räume, di
	e uns heilig waren, und das gewiss geglaubte Gefühl von Zugehörigkeit. Sie
	 spricht von Aufbruch und Ankunft, von Wegen durch Unsicherheit und von de
	r langen, inneren Arbeit, sich ein neues Dasein zu erschließen. In dieser 
	Reflexion zeigt sich Widerstandskraft, ebenso die Schwere der Erinnerung u
	nd die unermüdliche Suche nach Nähe und Sicherheit in einer fremd geworden
	en Welt.</p><p>Amna Elamin ist visuelle Geschichtenerzählerin und kreative
	 Forscherin. In ihrer Arbeit setzt sie sich mit politischen Ungleichheiten
	, kollektiver Erinnerung und den ethischen Dimensionen menschlicher Erfahr
	ungen auseinander. Sie studierte Informationstechnologie und Mathematik an
	 der Universität Khartum im Sudan und verbindet seither analytische Präzis
	ion mit interdisziplinären Perspektiven. An der Schnittstelle von visuelle
	m Journalismus, digitaler Kunst und gesellschaftlichem Engagement entfalte
	t sie eine Praxis, die kritische Reflexion mit gestalterischer Kraft verbi
	ndet.</p><p>/-/-/</p><p>»<a href="https://zkm.de/en/2025/10/amna-elamin-un
	familiar-ceilings" target="_blank">Unfamiliar Ceilings</a>« by Amna Elamin
	 traces a personal journey through displacement wrought by war, exploring 
	the quiet, often invisible traces that conflict leaves on our lives and se
	nse of home. We warmly invite you to the opening!</p><p>Beneath these ceil
	ings, the world contracts and expands, carrying memory, fear, and fragile 
	hope in equal measure. The exhibition reflects on what war has wrested fro
	m us: the constancy of safety, the familiarity of spaces once considered s
	acred, and the certainty of belonging. It meditates on leaving and arrivin
	g, on navigating uncertainty, and on the slow, intimate work of learning t
	o exist anew. Through this reflection, the exhibition illuminates resilien
	ce, the weight of memory, and the persistent search for connection and sta
	bility in a world rendered unfamiliar.</p><p>Amna Elamin is a visual story
	teller and creative researcher whose work illuminates political inequities
	, memory, and the ethical dimensions of human experience.&nbsp;She holds a
	 Bachelor’s degree in Information Technology and Mathematics from the Univ
	ersity of Khartoum, Sudan, bringing analytical rigor and interdisciplinary
	 insight to her practice at the intersections of visual journalism, digita
	l art, and advocacy.</p>
BEGIN:VALARM
ACTION:DISPLAY
DESCRIPTION:Amna Elamin. Unfamiliar Ceilings
TRIGGER:-PT1H
END:VALARM
END:VEVENT
END:VCALENDAR
