BEGIN:VCALENDAR
VERSION:2.0
CALSCALE:GREGORIAN
PRODID:adamgibbons/ics
METHOD:PUBLISH
X-PUBLISHED-TTL:PT1H
BEGIN:VEVENT
UID:407@keepkarlsruheboring.org
SUMMARY:Anarchie\, Normalität und Neurodivergenz
DTSTAMP:20260423T104421Z
DTSTART:20250924T163000Z
DTEND:20250924T180000Z
DESCRIPTION:Das Thema Neurodivergenz erhält seit einigen Jahren zunehmend A
	ufmerksamkeit.\nViele begrüßen die Bewusstwerdung darüber als emanzipatori
	sche Chance.\nMöglicherweise kann von einem neurodivergenten Erwachen gesp
	rochen werden.\nAndererseits regen sich starke Abwehrreflexe dagegen und e
	s wird versucht\,\nneurodivergente Personen kapitalistisch verwertbar zu m
	achen.\n\n\n\nIn Anschluss an Robert Chapmans Buch "Empire of Normalit" (2
	023) schauen wir uns\nan. wie Normalität historisch verhandelt wird und we
	lche Schnittpunkte es\nzwischen dieser und ANarchismus gibt. Weitergehen m
	it Jodies Hares Buch\n"Autismus ist keine Krankheit" (2025) gehen wir auf 
	eine sensible\,\nemanzipatorische Perspektive auf die Neurodivergenz-Beweg
	ung ein.\n\nOhne ausgemachter Experte zu sein\, möchte ich meine bisherige
	n Überlegungen mit\nallen Interessierten teilen und ins Gespräch darüber k
	ommen.\n\n\n\nIn Anschluss an den Input wollen wir uns über die aufgestell
	ten Thesen und\naufkommenden Fragen diskutieren. Dabei werden wir versuche
	n\, die online\nTeilnehmenden so gut wie möglich mit einzubeziehen.\n\nLei
	der können wir keinen Lärm- und Irritationsgeschützten Raum bieten. Wir\nv
	ersuchen eine freundliche Atmosphäre zu schaffen\, in welcher möglichst al
	le\nteilhaben können.\n\n\n\n24.09.\, 18:30 im Café Noir\n\nSchauenburgers
	tr. 5\, 76135 Karlsruhe\n\nOder online teilnehmen:\n\nhttps://bbb.livingut
	opia.org/rooms/gqz-zxg-ix0-3cl/join\n[https://bbb.livingutopia.org/rooms/g
	qz-zxg-ix0-3cl/join]\n\nMit: Jonathan Eibisch\n\nJonathan Eibisch forscht 
	an anarchistischer Theorie\, hält Vorträge und hält\nseine Ideen/Ergebniss
	e in Broschüren und Büchern fest.
URL:https://keepkarlsruheboring.org/event/anarchie-normalitat-und-neurodive
	rgenz
GEO:48.989;8.37185
LOCATION:Café Noir - 5\, Schauenburgstraße\, Bulach\, Beiertheim-Bulach\, K
	arlsruhe\, Baden-Württemberg\, 76135\, Deutschland
STATUS:CONFIRMED
CATEGORIES:Anarchism,Neurodiversity
X-ALT-DESC;FMTTYPE=text/html:<p>Das Thema Neurodivergenz erhält seit einige
	n Jahren zunehmend Aufmerksamkeit. Viele begrüßen die Bewusstwerdung darüb
	er als emanzipatorische Chance. Möglicherweise kann von einem neurodiverge
	nten Erwachen gesprochen werden. Andererseits regen sich starke Abwehrrefl
	exe dagegen und es wird versucht, neurodivergente Personen kapitalistisch 
	verwertbar zu machen.</p><p></p><p>In Anschluss an Robert Chapmans Buch "E
	mpire of Normalit" (2023) schauen wir uns an. wie Normalität historisch ve
	rhandelt wird und welche Schnittpunkte es zwischen dieser und ANarchismus 
	gibt. Weitergehen mit Jodies Hares Buch "Autismus ist keine Krankheit" (20
	25) gehen wir auf eine sensible, emanzipatorische Perspektive auf die Neur
	odivergenz-Bewegung ein.</p><p>Ohne ausgemachter Experte zu sein, möchte i
	ch meine bisherigen Überlegungen mit allen Interessierten teilen und ins G
	espräch darüber kommen.</p><p></p><p>In Anschluss an den Input wollen wir 
	uns über die aufgestellten Thesen und aufkommenden Fragen diskutieren. Dab
	ei werden wir versuchen, die online Teilnehmenden so gut wie möglich mit e
	inzubeziehen.</p><p>Leider können wir keinen Lärm- und Irritationsgeschütz
	ten Raum bieten. Wir versuchen eine freundliche Atmosphäre zu schaffen, in
	 welcher möglichst alle teilhaben können.</p><p></p><p>24.09., 18:30 im Ca
	fé Noir</p><p>Schauenburgerstr. 5, 76135 Karlsruhe</p><p>Oder online teiln
	ehmen:</p><p><a href="https://bbb.livingutopia.org/rooms/gqz-zxg-ix0-3cl/j
	oin" target="_blank">https://bbb.livingutopia.org/rooms/gqz-zxg-ix0-3cl/jo
	in</a></p><p>Mit: Jonathan Eibisch</p><p>Jonathan Eibisch forscht an anarc
	histischer Theorie, hält Vorträge und hält seine Ideen/Ergebnisse in Brosc
	hüren und Büchern fest.</p>
BEGIN:VALARM
ACTION:DISPLAY
DESCRIPTION:Anarchie, Normalität und Neurodivergenz
TRIGGER:-PT1H
END:VALARM
END:VEVENT
END:VCALENDAR
