BEGIN:VCALENDAR
VERSION:2.0
CALSCALE:GREGORIAN
PRODID:adamgibbons/ics
METHOD:PUBLISH
X-PUBLISHED-TTL:PT1H
BEGIN:VEVENT
UID:45@keepkarlsruheboring.org
SUMMARY:Antisemiten sind immer die Anderen – Eine Einführung in Formen und 
	Funktionen des aktuellen Antisemitismus [Vortrag von Maren van Norden]
DTSTAMP:20260423T105017Z
DTSTART:20250517T123000Z
DTEND:20250517T140000Z
DESCRIPTION:Antisemitismus ist ein gesamtgesellschaftliches Problem und All
	tagserfahrung für\nJüdinnen:Juden. Ob rechter\, linker oder christlicher A
	ntisemitismus\,\nAntisemitismus in queeren\, konservativen oder muslimisch
	en Kontexten –\nantisemitische Einstellungen sind in allen Bereichen der G
	esellschaft\nverbreitet. Doch was genau ist eigentlich Antisemitismus? Wel
	che Funktionen\nerfüllt er in der Gesellschaft? Und warum erkennen viele M
	enschen Antisemitismus\neher bei „den Anderen“\, nicht jedoch bei sich sel
	bst? In diesem\nEinführungsvortrag werden die unterschiedlichen Facetten d
	es Antisemitismus\nbeleuchtet – von traditionellen Stereotypen über Versch
	wörungstheorien bis hin\nzu neuen Erscheinungsformen. Dabei wird gezeigt\,
	 wie sich antisemitische Codes\nund Narrative an verschiedene soziale und 
	politische Kontexte anpassen und\nverbreiten. Der Vortrag soll nicht nur d
	ie historischen Wurzeln antisemitischer\nIdeologien aufzeigen\, sondern vo
	r allem welche Funktion diese in der\nGesellschaft erfüllen.\n\nNach dem V
	ortrag wird es Verpflegung und weiteres Programm geben
URL:https://keepkarlsruheboring.org/event/antisemiten-sind-immer-die-andere
	n-eine-einfuhrung-in-formen-und-funktionen-des-aktuellen-antisemitismus-vo
	rtrag-von-maren-van-norden
GEO:49.0232;8.44687
LOCATION:Wagenburg - 153-155\, Haid-und-Neu-Straße\, Hagsfeld Westlicher Te
	il\, Hagsfeld\, Karlsruhe\, Baden-Württemberg\, 76131\, Deutschland
STATUS:CONFIRMED
CATEGORIES:Antisemitismus,Lecture,Politics,What's Left...?
X-ALT-DESC;FMTTYPE=text/html:<p>Antisemitismus ist ein gesamtgesellschaftli
	ches Problem und Alltagserfahrung für Jüdinnen:Juden. Ob rechter, linker o
	der christlicher Antisemitismus, Antisemitismus in queeren, konservativen 
	oder muslimischen Kontexten – antisemitische Einstellungen sind in allen B
	ereichen der Gesellschaft verbreitet. Doch was genau ist eigentlich Antise
	mitismus? Welche Funktionen erfüllt er in der Gesellschaft? Und warum erke
	nnen viele Menschen Antisemitismus eher bei „den Anderen“, nicht jedoch be
	i sich selbst? In diesem Einführungsvortrag werden die unterschiedlichen F
	acetten des Antisemitismus beleuchtet – von traditionellen Stereotypen übe
	r Verschwörungstheorien bis hin zu neuen Erscheinungsformen. Dabei wird ge
	zeigt, wie sich antisemitische Codes und Narrative an verschiedene soziale
	 und politische Kontexte anpassen und verbreiten. Der Vortrag soll nicht n
	ur die historischen Wurzeln antisemitischer Ideologien aufzeigen, sondern 
	vor allem welche Funktion diese in der Gesellschaft erfüllen.</p><p>Nach d
	em Vortrag wird es Verpflegung und weiteres Programm geben</p>
BEGIN:VALARM
ACTION:DISPLAY
DESCRIPTION:Antisemiten sind immer die Anderen – Eine Einführung in Formen 
	und Funktionen des aktuellen Antisemitismus [Vortrag von Maren van Norden]
TRIGGER:-PT1H
END:VALARM
END:VEVENT
END:VCALENDAR
