BEGIN:VCALENDAR
VERSION:2.0
CALSCALE:GREGORIAN
PRODID:adamgibbons/ics
METHOD:PUBLISH
X-PUBLISHED-TTL:PT1H
BEGIN:VEVENT
UID:367@keepkarlsruheboring.org
SUMMARY:ANTISEMITISMUS UND DIE AFD
DTSTAMP:20260423T102258Z
DTSTART:20251015T170000Z
DTEND:20251015T190000Z
DESCRIPTION:Antisemitismus ist in der AfD allgegenwärtig. Immer wieder atta
	ckiert die Partei\nunter Rückgriff auf antisemitische Stereotype prominent
	e Vertreterinnen\njüdischen Lebens\, teilen führende AfD-Funktionärinnen a
	ntisemitische\nVerschwörungserzählungen oder relativieren die Verbrechen d
	es\nNationalsozialismus. Trotz zahlreichen einschlägiger Skandale wird dem
	\nAntisemitis­mus in der Analyse der AfD jedoch kaum Beachtung geschenkt.\
	n\nIn seinem Buch beschreibt Stefan Dietl den Antisemitismus als wesentlic
	hes\nIdeologieelement und Welterklärungsmodell der AfD. Dabei nimmt er die
	\nverschiedenen Erscheinungsformen des Judenhasses in der Partei ebenso un
	ter die\nLupe wie die Versuche der AfD\, sich als Bollwerk gegen Antisemit
	ismus und\nFürsprecherin Israels zu inszenieren.\n\nDie Veranstaltung find
	et in Kooperation mit der GEW Nordbaden und der\nAmadeu-Antonio-Stiftung i
	m Rahmen der Bildungs- und Aktionswochen gegen\nAntisemitismus statt.\n\nD
	oors: 18.00 // Vortrag: 19.00
URL:https://keepkarlsruheboring.org/event/antisemitismus-und-die-afd
GEO:48.989;8.37185
LOCATION:P8 - Schauenburgstraße 5\, 76135 Karlsruhe
STATUS:CONFIRMED
CATEGORIES:Antisemitismus,Lecture,Politics
X-ALT-DESC;FMTTYPE=text/html:<p>Antisemitismus ist in der AfD allgegenwärti
	g. Immer wieder attackiert die Partei unter Rückgriff auf antisemitische S
	tereotype prominente Vertreterinnen jüdischen Lebens, teilen führende AfD-
	Funktionärinnen antisemitische Verschwörungserzählungen oder relativieren 
	die Verbrechen des Nationalsozialismus. Trotz zahlreichen einschlägiger Sk
	andale wird dem Antisemitis­mus in der Analyse der AfD jedoch kaum Beachtu
	ng geschenkt. </p><p>In seinem Buch beschreibt Stefan Dietl den Antisemiti
	smus als wesentliches Ideologieelement und Welterklärungsmodell der AfD. D
	abei nimmt er die verschiedenen Erscheinungsformen des Judenhasses in der 
	Partei ebenso unter die Lupe wie die Versuche der AfD, sich als Bollwerk g
	egen Antisemitismus und Fürsprecherin Israels zu inszenieren. </p><p>Die V
	eranstaltung findet in Kooperation mit der GEW Nordbaden und der Amadeu-An
	tonio-Stiftung im Rahmen der Bildungs- und Aktionswochen gegen Antisemitis
	mus statt. </p><p>Doors: 18.00 // Vortrag: 19.00</p>
BEGIN:VALARM
ACTION:DISPLAY
DESCRIPTION:ANTISEMITISMUS UND DIE AFD
TRIGGER:-PT1H
END:VALARM
END:VEVENT
END:VCALENDAR
