BEGIN:VCALENDAR
VERSION:2.0
CALSCALE:GREGORIAN
PRODID:adamgibbons/ics
METHOD:PUBLISH
X-PUBLISHED-TTL:PT1H
BEGIN:VEVENT
UID:1321@keepkarlsruheboring.org
SUMMARY:As the crow flies
DTSTAMP:20260423T102256Z
DTSTART:20260328T140000Z
DTEND:20260329T150000Z
DESCRIPTION:As the crow flies\n\nAusstellung Peco Kawashima & Luise Häuser\
	n\nSeit jenem zufälligen Aufeinandertreffen auf der Brücke über dem Zoolog
	ischen\nGarten in Karlsruhe sind ihre Wege miteinander verwoben. Im gegens
	eitigen\nErkennen\, Annehmen und Inspirieren wuchs etwas heran – und fand 
	schließlich\nGestalt in dieser Ausstellung.\n\nDie Eröffnung wird von Impr
	ovisationsmusik von Moe Fukuda und Jia Liu begleitet.\n\nSie findet am Sam
	stag\, den 21.03.2026\, ab 17:00 Uhr statt.\n\nDie Ausstellung ist geöffne
	t am Sonntag\, 22.03.\, Samstag\, 28.03. sowie Sonntag\,\n29.03.2026\, jew
	eils von 15:00 bis 17:00 Uhr.
URL:https://keepkarlsruheboring.org/event/as-the-crow-flies-1
GEO:49.0138;8.41289
LOCATION:Chinesische Pavillons / Richard-Willsätter-Allee\, 76131 Karlsruhe
	 - Richard-Willstätter-Allee\, Innenstadt-Ost Nordöstlicher Teil\, Innenst
	adt-Ost\, Karlsruhe\, Baden-Württemberg\, 76131\, Deutschland
STATUS:CONFIRMED
CATEGORIES:Art,Exhibition,performance
X-ALT-DESC;FMTTYPE=text/html:<p>As the crow flies</p><p>Ausstellung Peco Ka
	washima &amp; Luise Häuser</p><p>Seit jenem zufälligen Aufeinandertreffen 
	auf der Brücke über dem Zoologischen Garten in Karlsruhe sind ihre Wege mi
	teinander verwoben. Im gegenseitigen Erkennen, Annehmen und Inspirieren wu
	chs etwas heran – und fand schließlich Gestalt in dieser Ausstellung.</p><
	p>Die Eröffnung wird von Improvisationsmusik von Moe Fukuda und Jia Liu be
	gleitet.</p><p>Sie findet am Samstag, den 21.03.2026, ab 17:00 Uhr statt.<
	/p><p>Die Ausstellung ist geöffnet am Sonntag, 22.03., Samstag, 28.03. sow
	ie Sonntag, 29.03.2026, jeweils von 15:00 bis 17:00 Uhr.</p>
BEGIN:VALARM
ACTION:DISPLAY
DESCRIPTION:As the crow flies
TRIGGER:-PT1H
END:VALARM
END:VEVENT
END:VCALENDAR
