BEGIN:VCALENDAR
VERSION:2.0
CALSCALE:GREGORIAN
PRODID:adamgibbons/ics
METHOD:PUBLISH
X-PUBLISHED-TTL:PT1H
BEGIN:VEVENT
UID:810@keepkarlsruheboring.org
SUMMARY:Attic Ocean
DTSTAMP:20260423T085533Z
DTSTART:20260221T190000Z
DTEND:20260221T210000Z
DESCRIPTION:ATTIC OCEAN ist eine Shoegaze-Band aus Düsseldorf\, die für ihr
	e flirrenden\nGitarren\, atmosphärische Soundscapes und die verzaubernde S
	timme ihrer Sängerin\nHanni bekannt ist. Die fünfköpfige Gruppe verbindet 
	nostalgische Einflüsse aus\nden 90ern mit modernen Dream-Pop-Elementen. Ih
	re zweite EP „Retriever“ (2024)\,\ngemastert von Simon Scott (Slowdive)\, 
	unterstreicht ihren Ruf als „Deutschlands\nverträumteste Band“. Im Frühjah
	r 2025 begleiteten sie sogar die\nShoegaze-Pioniere von Ride als Support-A
	ct bei ihren Deutschland-Terminen. Mit\neinem in Tokio gedrehten Musikvide
	o erreichte der Song „Lilies And Sea“\ninnerhalb kürzester Zeit 250.000 Au
	frufe auf YouTube. Das Video zu „Glow“\nentführt die Zuschauenden in die N
	ebenstraßen von Paris und betont die\ninternationale Ausrichtung der Band.
	 Einlass: 19 Uhr\, Beginn: 20 Uhr
URL:https://keepkarlsruheboring.org/event/attic-ocean
GEO:49.0017;8.40754
LOCATION:Kohi - Werderstraße 47\, 76137 Karlsruhe\, Alemanya
STATUS:CONFIRMED
CATEGORIES:karlsrunruhe,test
X-ALT-DESC;FMTTYPE=text/html:ATTIC OCEAN ist eine Shoegaze-Band aus Düsseld
	orf, die für ihre flirrenden Gitarren, atmosphärische Soundscapes und die 
	verzaubernde Stimme ihrer Sängerin Hanni bekannt ist. Die fünfköpfige Grup
	pe verbindet nostalgische Einflüsse aus den 90ern mit modernen Dream-Pop-E
	lementen. Ihre zweite EP „Retriever“ (2024), gemastert von Simon Scott (Sl
	owdive), unterstreicht ihren Ruf als „Deutschlands verträumteste Band“.<br
	>Im Frühjahr 2025 begleiteten sie sogar die Shoegaze-Pioniere von Ride als
	 Support-Act bei ihren Deutschland-Terminen. Mit einem in Tokio gedrehten 
	Musikvideo erreichte der Song „Lilies And Sea“ innerhalb kürzester Zeit 25
	0.000 Aufrufe auf YouTube. Das Video zu „Glow“ entführt die Zuschauenden i
	n die Nebenstraßen von Paris und betont die internationale Ausrichtung der
	 Band.<br>Einlass: 19 Uhr, Beginn: 20 Uhr
BEGIN:VALARM
ACTION:DISPLAY
DESCRIPTION:Attic Ocean
TRIGGER:-PT1H
END:VALARM
END:VEVENT
END:VCALENDAR
