BEGIN:VCALENDAR
VERSION:2.0
CALSCALE:GREGORIAN
PRODID:adamgibbons/ics
METHOD:PUBLISH
X-PUBLISHED-TTL:PT1H
BEGIN:VEVENT
UID:28@keepkarlsruheboring.org
SUMMARY:Ausgeschlachtet - Tag der offenen Türen
DTSTAMP:20260423T104857Z
DTSTART:20250511T090000Z
DTEND:20250511T160000Z
DESCRIPTION:Der im Jahr 2010 von den Nutzerinnen des Schlachthof Areals geg
	ründete Verein\nist ein spartenübergreifender Zusammenschluss von Kulturin
	stitutionen\,\nUnternehmen aus den Bereich der Kreativwirtschaft\, Künstle
	rinnen\,\nKünstlerorganisationen und freien Kulturträgern die auf dem Schl
	achthofgelände\nansässig sind.\n\nDer Verein hat es sich zum Ziel gesetzt\
	, Kunst\, Kultur und Kommunikation im\nKreativpark Alter Schlachthof zu fö
	rdern. Er setzt sich für die Interessen der\nMieterinnen und Nutzerinnen d
	es Geländes ein und möchte eine positive Atmosphäre\nfür die Unternehmen d
	er Kreativbranche und die Kunst- und Kulturschaffenden\nerhalten und herst
	ellen. Diese ist geprägt von einem Für- und Miteinander auf\ndem Gelände\,
	 einer offenen und transparenten Kultur des Austausches unter den\nMieteri
	nnen\, Nutzerinnen und Besucher*innen sowie der aktiven Mitgestaltung des\
	nAreals und der Durchführung gemeinsamer Veranstaltungen.\n\nDer Verein au
	sgeschlachtet e.V. organisiert alle zwei Jahre einen Tag der\noffenen Türe
	n\, der wie der Verein selbst „ausgeschlachtet“ heißt. Ebenfalls alle\nzwe
	i Jahre\, im Wechsel mit dem Tag der offenen Türen\, veranstaltet er die\n
	Kulturnacht „Schwein gehabt“.\n\nHier [https://alterschlachthof-karlsruhe.
	de/kontakt/] geht es zu den Kontakdaten\nvom Verein.
URL:https://keepkarlsruheboring.org/event/ausgeschlachtet-tag-der-offenen-t
	uren
GEO:49.0058;8.42966
LOCATION:Alter Schlachthof - Oststadt\, Karlsruhe\, Baden-Württemberg\, 761
	31\, Deutschland
STATUS:CONFIRMED
CATEGORIES:Art,Fest
X-ALT-DESC;FMTTYPE=text/html:<p>Der im Jahr 2010 von den Nutzer<em>innen de
	s Schlachthof Areals gegründete Verein ist ein spartenübergreifender Zusam
	menschluss von Kulturinstitutionen, Unternehmen aus den Bereich der Kreati
	vwirtschaft, Künstler</em>innen, Künstlerorganisationen und freien Kulturt
	rägern die auf dem Schlachthofgelände ansässig sind.</p><p>Der Verein hat 
	es sich zum Ziel gesetzt, Kunst, Kultur und Kommunikation im Kreativpark A
	lter Schlachthof zu fördern. Er setzt sich für die Interessen der Mieter<e
	m>innen und Nutzer</em>innen des Geländes ein und möchte eine positive Atm
	osphäre für die Unternehmen der Kreativbranche und die Kunst- und Kultursc
	haffenden erhalten und herstellen. Diese ist geprägt von einem Für- und Mi
	teinander auf dem Gelände, einer offenen und transparenten Kultur des Aust
	ausches unter den Mieter<em>innen, Nutzer</em>innen und Besucher*innen sow
	ie der aktiven Mitgestaltung des Areals und der Durchführung gemeinsamer V
	eranstaltungen.</p><p>Der Verein ausgeschlachtet e.V. organisiert alle zwe
	i Jahre einen Tag der offenen Türen, der wie der Verein selbst „ausgeschla
	chtet“ heißt. Ebenfalls alle zwei Jahre, im Wechsel mit dem Tag der offene
	n Türen, veranstaltet er die Kulturnacht „Schwein gehabt“.</p><p><a target
	="_blank" href="https://alterschlachthof-karlsruhe.de/kontakt/">Hier</a> g
	eht es zu den Kontakdaten vom Verein.</p>
BEGIN:VALARM
ACTION:DISPLAY
DESCRIPTION:Ausgeschlachtet - Tag der offenen Türen
TRIGGER:-PT1H
END:VALARM
END:VEVENT
END:VCALENDAR
