BEGIN:VCALENDAR
VERSION:2.0
CALSCALE:GREGORIAN
PRODID:adamgibbons/ics
METHOD:PUBLISH
X-PUBLISHED-TTL:PT1H
BEGIN:VEVENT
UID:689@keepkarlsruheboring.org
SUMMARY:Ba-Wü Beatbox Meisterschaft [15 € | 13 € VVK]
DTSTAMP:20260423T104913Z
DTSTART:20260327T180000Z
DTEND:20260327T200000Z
DESCRIPTION:Am 27. März 2026 erwartet euch ein Abend voller energiegeladene
	r Battles\,\nkreativer Sounds und echter Beatbox-Kultur. Die Meisterschaft
	 bietet nicht nur\nhochklassige Wettbewerbe\, sondern auch eine einzigarti
	ge Atmosphäre\, in der\nCommunity\, Musik und Leidenschaft im Mittelpunkt 
	stehen.\n\n𝗗𝗼𝗼𝗿𝘀: 19.00 // 𝗦𝗵𝗼𝘄: 20.00\n\n𝗩𝗩𝗞 13.- // 𝗔𝗞: 15.-
URL:https://keepkarlsruheboring.org/event/ba-wu-beatbox-meisterschaft-15-eu
	ro-or-13-euro-vvk
GEO:48.989;8.37185
LOCATION:P8 - Schauenburgstraße 5\, 76135 Karlsruhe
STATUS:CONFIRMED
CATEGORIES:BeatBox,Concert
X-ALT-DESC;FMTTYPE=text/html:<p>Am 27. März 2026 erwartet euch ein Abend vo
	ller energiegeladener Battles, kreativer Sounds und echter Beatbox-Kultur.
	 Die Meisterschaft bietet nicht nur hochklassige Wettbewerbe, sondern auch
	 eine einzigartige Atmosphäre, in der Community, Musik und Leidenschaft im
	 Mittelpunkt stehen.</p><p>𝗗𝗼𝗼𝗿𝘀: 19.00 // 𝗦𝗵𝗼𝘄: 20.00</p><p>𝗩𝗩𝗞 13.- // 𝗔
	𝗞: 15.-</p>
BEGIN:VALARM
ACTION:DISPLAY
DESCRIPTION:Ba-Wü Beatbox Meisterschaft [15 € | 13 € VVK]
TRIGGER:-PT1H
END:VALARM
END:VEVENT
END:VCALENDAR
