BEGIN:VCALENDAR
VERSION:2.0
CALSCALE:GREGORIAN
PRODID:adamgibbons/ics
METHOD:PUBLISH
X-PUBLISHED-TTL:PT1H
BEGIN:VEVENT
UID:13@keepkarlsruheboring.org
SUMMARY:Bad Manners [30 €]
DTSTAMP:20260423T102326Z
DTSTART:20250508T183000Z
DESCRIPTION:Bad Manners – das ist großartiger Ska der zweiten Welle aus Eng
	land. Die\nFormation um den ungezügelten und ausdrucksstarken Frontmann Bu
	ster Bloodvessel\nfindet sich bereits 1976 zusammen und ist daher der dama
	ligen 2-Tone-Bewegung\nzuzuordnen. Der Bandname – zu Deutsch: Schlechte Ma
	nieren – ist seither bei den\nselbstironischen Musikern Pflichtprogramm. W
	ie auch auf dem Coachella 2014\,\nkommen Grimassen und Späße auf der Bühne
	 nie zu kurz. Hits landeten die Jungs\nmit Special Brew\, My Girl Lollipop
	 oder Can Can und sind aus der internationalen\nOi!-Szene nicht mehr wegzu
	denken.
URL:https://keepkarlsruheboring.org/event/bad-manners-30-euro
GEO:49.0056;8.42925
LOCATION:Alte Hackerei - Alter Schlachthof 11A 76131 Karlsruhe
STATUS:CONFIRMED
CATEGORIES:Music,Ska,Ticket
X-ALT-DESC;FMTTYPE=text/html:<p>Bad Manners – das ist großartiger Ska der z
	weiten Welle aus England. Die Formation um den ungezügelten und ausdruckss
	tarken Frontmann Buster Bloodvessel findet sich bereits 1976 zusammen und 
	ist daher der damaligen 2-Tone-Bewegung zuzuordnen. Der Bandname – zu Deut
	sch: Schlechte Manieren – ist seither bei den selbstironischen Musikern Pf
	lichtprogramm. Wie auch auf dem Coachella 2014, kommen Grimassen und Späße
	 auf der Bühne nie zu kurz. Hits landeten die Jungs mit Special Brew, My G
	irl Lollipop oder Can Can und sind aus der internationalen Oi!-Szene nicht
	 mehr wegzudenken.</p>
BEGIN:VALARM
ACTION:DISPLAY
DESCRIPTION:Bad Manners [30 €]
TRIGGER:-PT1H
END:VALARM
END:VEVENT
END:VCALENDAR
