BEGIN:VCALENDAR
VERSION:2.0
CALSCALE:GREGORIAN
PRODID:adamgibbons/ics
METHOD:PUBLISH
X-PUBLISHED-TTL:PT1H
BEGIN:VEVENT
UID:497@keepkarlsruheboring.org
SUMMARY:Badisches Staatsballett (D) "La Dolce Vita" [22/74 €]
DTSTAMP:20260423T104738Z
DTSTART:20251130T180000Z
DESCRIPTION:Ballettabend mit Choreografien von Johan Inger und Kristina Pau
	lin | Premiere\n\nEine Liebeserklärung an das Leben\, von Skandinavien bis
	 Italien! La Dolce Vita\nfeiert Vitalität und Leidenschaft\, pustet frisch
	en Wind in den Alltag und lässt\neine der aufre­gendsten Epochen des europ
	äischen Kinos wiederauferstehen.\n\nWelche Welt liegt jenseits von Gewohnh
	eiten und Routinen? Was verbirgt sich\nhinter den Herausforderungen unsere
	s Alltags? Große Veränderungen\, so hat es die\nGeschichte oft gezeigt\, b
	eginnen tatsächlich meist mit einer kleinen Brise. Der\nrenommierte schwed
	ische Choreograf Johan Inger fragt in seinem 2014 für das\nNederlands Dans
	 Theater 2 kreierten Werk B.R.I.S.A. nach Aufbruch und\nVeränderungen. Mit
	 seinem ganz eigenen Sinn für Humor nimmt Inger die wohltuende\nWirkung ei
	ner Brise wörtlich und lässt die Tänzer:innen von Haarfönen\,\nLaubbläsern
	 und einigem mehr wegblasen.\n\nHauschoreografin Kristina Paulin widmet ih
	re neue Kreation dem großen\nitalienischen Filmregisseur Federico Fellini.
	 Sie begibt sich auf Spurensuche im\nLeben und künstlerischen Schaffen des
	 Autorenfilmers aus Rimini\, beleuchtet\nInspirationsquellen sowie Schaffe
	nskrisen und zeigt die absurde und\nwundervoll-verrückte Welt der Dreharbe
	iten am Set. Eine traumverlorene\,\nhumorvolle und bildgewaltige Hommage a
	n die goldene Zeit des italienischen Kinos\nim Neorealismus!\n\nB.R.I.S.A.
	\nChoreografie\, Inszenierung & Bühne Johan Inger\nMusik Amos Ben-Tal\, Ni
	na Simone\nKostüme Bregje van Balen\nLicht Tom Visser\nDramaturgie Gregor 
	Acuña\n\n\nFellini (UA)\nChoreografie & Inszenierung Kristina Paulin\nMusi
	k Nino Rota\, Davidson Jaconello\nBühne Sebastian Hannak\nKostüme Bregje v
	an Balen\nLicht Carlo Cerri\nVideo Valeria Lampadova\nDramaturgie Silke Me
	ier-Brösicke\n\nAltersempfehlung Ab 12 Jahren\nWeitere Vorstellungen 3.12.
	\, 5.12.\, 9.12.\, 13.12.2025 sowie 6.1.\, 16.1.\, 23.1.\,\n25.1.2026
URL:https://keepkarlsruheboring.org/event/badisches-staatsballett-d-la-dolc
	e-vita
GEO:49.0047;8.40666
LOCATION:Badisches Staatstheater - Hermann-Levi-Platz 1 76137 Karlsruhe
STATUS:CONFIRMED
CATEGORIES:Ballet,Dance,TANZ Karlsruhe 2025,Tanzfestival 2025,Ticket
X-ALT-DESC;FMTTYPE=text/html:<p><strong>Ballettabend mit Choreografien von 
	Johan Inger und Kristina Paulin | Premiere</strong></p><p>Eine Liebeserklä
	rung an das Leben, von Skandinavien bis Italien! La Dolce Vita feiert Vita
	lität und Leidenschaft, pustet frischen Wind in den Alltag und lässt eine 
	der aufre­gendsten Epochen des europäischen Kinos wiederauferstehen.</p><p
	>Welche Welt liegt jenseits von Gewohnheiten und Routinen? Was verbirgt si
	ch hinter den Herausforderungen unseres Alltags? Große Veränderungen, so h
	at es die Geschichte oft gezeigt, beginnen tatsächlich meist mit einer kle
	inen Brise. Der renommierte schwedische Choreograf Johan Inger fragt in se
	inem 2014 für das Nederlands Dans Theater 2 kreierten Werk B.R.I.S.A. nach
	 Aufbruch und Veränderungen. Mit seinem ganz eigenen Sinn für Humor nimmt 
	Inger die wohltuende Wirkung einer Brise wörtlich und lässt die Tänzer:inn
	en von Haarfönen, Laubbläsern und einigem mehr wegblasen.</p><p>Hauschoreo
	grafin Kristina Paulin widmet ihre neue Kreation dem großen italienischen 
	Filmregisseur Federico Fellini. Sie begibt sich auf Spurensuche im Leben u
	nd künstlerischen Schaffen des Autorenfilmers aus Rimini, beleuchtet Inspi
	rationsquellen sowie Schaffenskrisen und zeigt die absurde und wundervoll-
	verrückte Welt der Dreharbeiten am Set. Eine traumverlorene, humorvolle un
	d bildgewaltige Hommage an die goldene Zeit des italienischen Kinos im Neo
	realismus!</p><p><strong><em>B.R.I.S.A.</em></strong><br>Choreografie, Ins
	zenierung &amp; Bühne Johan Inger<br>Musik Amos Ben-Tal, Nina Simone<br>Ko
	stüme Bregje van Balen<br>Licht Tom Visser<br>Dramaturgie Gregor Acuña</p>
	<p><br><strong><em>Fellini (UA)</em></strong><br>Choreografie &amp; Inszen
	ierung Kristina Paulin<br>Musik Nino Rota, Davidson Jaconello<br>Bühne Seb
	astian Hannak<br>Kostüme Bregje van Balen<br>Licht Carlo Cerri<br>Video Va
	leria Lampadova<br>Dramaturgie Silke Meier-Brösicke</p><p>Altersempfehlung
	 Ab 12 Jahren<br>Weitere Vorstellungen 3.12., 5.12., 9.12., 13.12.2025 sow
	ie 6.1., 16.1., 23.1., 25.1.2026</p>
BEGIN:VALARM
ACTION:DISPLAY
DESCRIPTION:Badisches Staatsballett (D) "La Dolce Vita" [22/74 €]
TRIGGER:-PT1H
END:VALARM
END:VEVENT
END:VCALENDAR
