BEGIN:VCALENDAR
VERSION:2.0
CALSCALE:GREGORIAN
PRODID:adamgibbons/ics
METHOD:PUBLISH
X-PUBLISHED-TTL:PT1H
BEGIN:VEVENT
UID:1219@keepkarlsruheboring.org
SUMMARY:Beats gegen BEZAHLKARTE-KEKS Collective Invites Soliparty@HfG
DTSTAMP:20260423T104909Z
DTSTART:20260321T200000Z
DESCRIPTION:Das KEKS Collective lädt im Rahmen der Internationale Wochen ge
	gen Rassismus\nzum solidarischen Tanzen und Spenden in der Staatlichen Hoc
	hschule für\nGestaltung Karlsruhe ein. Gemeinsam mit der Initiative Nein z
	ur Bezahlkarte\nKarlsruhe setzt die Veranstaltung ein Zeichen gegen Rassis
	mus und strukturelle\nAusgrenzung.\n\nZiel des Abends ist es\, einen offen
	en Raum zu schaffen\, in dem Musik\, Bewegung\nund politische Auseinanders
	etzung zusammenkommen. Mit nicen Sounds\, Lichtvisuals\nund Performances m
	öchte das KEKS Collective Menschen zusammenbringen und\nSolidarität mit Ge
	flüchteten erfahrbar machen. Die Einnahmen auf Spendenbasis\nunterstützen 
	die Arbeit der Initiative Nein zur Bezahlkarte Karlsruhe\, die\ndurch Öffe
	ntlichkeitsarbeit\, politische Gespräche und solidarische\nTauschaktionen 
	auf die diskriminierenden Auswirkungen der Bezahlkarte für\nGeflüchtete au
	fmerksam macht.\n\nDie Soliparty versteht sich als Einladung\, gemeinsam H
	altung zu zeigen und\nRassismus keine Chance zu geben!\n\nMehr Infos zur I
	nitiative Nein zur Bezahlkarte Karlsruhe:\nhttps://nein-zur-bezahlkarte- [
	https://nein-zur-bezahlkarte-] karlsruhe.de/\n[http://karlsruhe.de/]
URL:https://keepkarlsruheboring.org/event/beats-gegen-bezahlkarte-keks-coll
	ective-invites-solipartyhfg
GEO:49.0021;8.38367
LOCATION:Staatliche Hochschule für Gestaltung (HfG) Karlsruhe - 15\, Lorenz
	straße\, Beiertheimer Feld\, Südweststadt\, Karlsruhe\, Baden-Württemberg\
	, 76135\, Deutschland
STATUS:CONFIRMED
CATEGORIES:Dance,Electronicmusic,Internationalen Wochen gegen Rassismus,KEK
	S Collective,Nein zur Bezahlkarte,Party
X-ALT-DESC;FMTTYPE=text/html:<p>Das KEKS Collective lädt im Rahmen der Inte
	rnationale Wochen gegen Rassismus zum <strong>solidarischen Tanzen und Spe
	nden</strong> in der Staatlichen Hochschule für Gestaltung Karlsruhe ein. 
	Gemeinsam mit der Initiative Nein zur Bezahlkarte Karlsruhe setzt die Vera
	nstaltung ein Zeichen gegen Rassismus und strukturelle Ausgrenzung.</p><p>
	Ziel des Abends ist es, einen offenen Raum zu schaffen, in dem Musik, Bewe
	gung und politische Auseinandersetzung zusammenkommen. Mit nicen Sounds, L
	ichtvisuals und Performances möchte das KEKS Collective Menschen zusammenb
	ringen und Solidarität mit Geflüchteten erfahrbar machen. Die Einnahmen au
	f Spendenbasis unterstützen die Arbeit der Initiative Nein zur Bezahlkarte
	 Karlsruhe, die durch Öffentlichkeitsarbeit, politische Gespräche und soli
	darische Tauschaktionen auf die diskriminierenden Auswirkungen der Bezahlk
	arte für Geflüchtete aufmerksam macht.</p><p>Die <strong>Soliparty</strong
	> versteht sich als Einladung, gemeinsam Haltung zu zeigen und Rassismus k
	eine Chance zu geben!</p><p>Mehr Infos zur Initiative Nein zur Bezahlkarte
	 Karlsruhe: <a href="https://nein-zur-bezahlkarte-" target="_blank">https:
	//nein-zur-bezahlkarte-</a> <a href="http://karlsruhe.de/" target="_blank"
	>karlsruhe.de/</a></p>
BEGIN:VALARM
ACTION:DISPLAY
DESCRIPTION:Beats gegen BEZAHLKARTE-KEKS Collective Invites Soliparty@HfG
TRIGGER:-PT1H
END:VALARM
END:VEVENT
END:VCALENDAR
