BEGIN:VCALENDAR
VERSION:2.0
CALSCALE:GREGORIAN
PRODID:adamgibbons/ics
METHOD:PUBLISH
X-PUBLISHED-TTL:PT1H
BEGIN:VEVENT
UID:7@keepkarlsruheboring.org
SUMMARY:Begrüßt die serbischen Studierenden auf ihrer Radtour nach Straßbur
	g
DTSTAMP:20260423T104913Z
DTSTART:20250414T150000Z
DESCRIPTION:[↓ English version below ↓]\n\nÜber 50 Studierende der serbisch
	en Demokratiebewegung fahren derzeit mit dem\nFahrrad in 12 Tagen die 1300
	 km von Belgrad nach Straßburg. Am Montag\, den 14.\nApril 2025 werden sie
	 in Karlsruhe eintreffen. Die serbische Community in\nKarlsruhe begrüßt si
	e auf dem Schlossplatz.\n\nDie Versammlung dafür ist von 17:00 bis 19:30 U
	hr angemeldet. Ihr seid herzlich\neingeladen\, dabei zu sein und eure Unte
	rstützung auszudrücken.\n\nInstagram: @karslruheuzstudente\n\n\nHINWEISE D
	ER ORGANISATOREN:\n\n\n\nDiese Demonstration ist friedlich und drückt Soli
	darität mit den Studenten aus.\nParteipolitische\, nichtstaatliche\, ideol
	ogische und politische Symbole sind\nnicht erlaubt. Solidarität\, Empathie
	 und Respekt sind die Werte\, die uns\nvereinen. Provokationen sowie jegli
	che Form von gewalttätiger Kommunikation sind\nbei dieser Versammlung nich
	t akzeptabel. Nur offizielle Symbole der Republik\nSerbien sowie erkennbar
	e Symbole von studentischen und bürgerlichen Protesten im\nLand sind erlau
	bt. Ihre Transparente sollten ebenfalls diesen Regeln\nentsprechen. Wir bi
	tten Sie freundlich\, keine Speisen und Getränke mitzubringen\,\ndie Sie u
	nseren Gästen anbieten würden\, da uns dies die Regeln dieser\nVersammlung
	 nicht erlauben.\n\nDie Studierenden bitten darum\, dass ihr nicht in dere
	n Verband mitfahrt. Kommt\nlieber zum Schlossplatz\, damit wir dort viele 
	sind.\n\nAus:\nhttps://cmkarlsruhe.blogspot.com/2025/04/begrut-die-serbisc
	hen-studierenden-auf.html\n[https://cmkarlsruhe.blogspot.com/2025/04/begru
	t-die-serbischen-studierenden-auf.html]\n\n\n/-/-/\n\n\nOver 50 students f
	rom the Serbian democracy movement are currently cycling the\n1300 km from
	 Belgrade to Strasbourg in 12 days. They will arrive in Karlsruhe on\nMond
	ay\, April 14\, 2025. The Serbian community in Karlsruhe will welcome them
	 on\nthe Schlossplatz.\n\nThe meeting for this is registered from 17:00 to
	 19:30. You are cordially\ninvited to be there and express your support.\n
	\nInstagram: @karslruheuzstudente\n\n\nNOTES FROM THE ORGANIZERS:\n\n\n\nT
	his demonstration is peaceful and expresses solidarity with the students. 
	Party\npolitical\, non-governmental\, ideological and political symbols ar
	e not allowed.\nSolidarity\, empathy and respect are the values that unite
	 us. Provocations and\nany form of violent communication are not acceptabl
	e at this gathering. Only\nofficial symbols of the Republic of Serbia and 
	recognizable symbols of student\nand civic protests in the country are all
	owed. Your banners should also comply\nwith these rules. We kindly ask you
	 not to bring food and drinks that you would\noffer to our guests\, as the
	 rules of this assembly do not allow us to do so.\n\nThe students ask that
	 you do not travel in their group. Instead\, come to\nSchlossplatz so that
	 there are lots of us there.\n\nOriginal message:\nhttps://cmkarlsruhe.blo
	gspot.com/2025/04/begrut-die-serbischen-studierenden-auf.html\n[https://cm
	karlsruhe.blogspot.com/2025/04/begrut-die-serbischen-studierenden-auf.html
	]
URL:https://keepkarlsruheboring.org/event/begrusst-die-serbischen-studieren
	den-auf-ihrer-radtour-nach-strassburg
GEO:49.0111;8.40413
LOCATION:Karlsruhe Schlossplatz - Schlossplatz\, Innenstadt-West Östlicher 
	Teil\, Innenstadt-West\, Karlsruhe\, Baden-Württemberg\, 76131\, Deutschla
	nd
STATUS:CONFIRMED
CATEGORIES:Demonstration,International Solidarity,Serbia,Student Movement
X-ALT-DESC;FMTTYPE=text/html:<p>[↓ English version below ↓]</p><p>Über 50 S
	tudierende der serbischen Demokratiebewegung fahren derzeit mit dem Fahrra
	d in 12 Tagen die 1300 km von Belgrad nach Straßburg. Am Montag, den 14. A
	pril 2025 werden sie in Karlsruhe eintreffen. Die serbische Community in K
	arlsruhe begrüßt sie auf dem Schlossplatz.</p><p>Die Versammlung dafür ist
	 von 17:00 bis 19:30 Uhr angemeldet. Ihr seid herzlich eingeladen, dabei z
	u sein und eure Unterstützung auszudrücken.</p><p>Instagram: @karslruhe<em
	>uz</em>studente</p><h2>Hinweise der Organisatoren:</h2><p></p><p>Diese De
	monstration ist friedlich und drückt Solidarität mit den Studenten aus. Pa
	rteipolitische, nichtstaatliche, ideologische und politische Symbole sind 
	nicht erlaubt. Solidarität, Empathie und Respekt sind die Werte, die uns v
	ereinen. Provokationen sowie jegliche Form von gewalttätiger Kommunikation
	 sind bei dieser Versammlung nicht akzeptabel. Nur offizielle Symbole der 
	Republik Serbien sowie erkennbare Symbole von studentischen und bürgerlich
	en Protesten im Land sind erlaubt. Ihre Transparente sollten ebenfalls die
	sen Regeln entsprechen. Wir bitten Sie freundlich, keine Speisen und Geträ
	nke mitzubringen, die Sie unseren Gästen anbieten würden, da uns dies die 
	Regeln dieser Versammlung nicht erlauben.</p><p>Die Studierenden bitten da
	rum, dass ihr nicht in deren Verband mitfahrt. Kommt lieber zum Schlosspla
	tz, damit wir dort viele sind.</p><p>Aus: <a target="_blank" href="https:/
	/cmkarlsruhe.blogspot.com/2025/04/begrut-die-serbischen-studierenden-auf.h
	tml">https://cmkarlsruhe.blogspot.com/2025/04/begrut-die-serbischen-studie
	renden-auf.html</a><br></p><p>/-/-/</p><p><br>Over 50 students from the Se
	rbian democracy movement are currently cycling the 1300 km from Belgrade t
	o Strasbourg in 12 days. They will arrive in Karlsruhe on Monday, April 14
	, 2025. The Serbian community in Karlsruhe will welcome them on the Schlos
	splatz.</p><p>The meeting for this is registered from 17:00 to 19:30. You 
	are cordially invited to be there and express your support.</p><p>Instagra
	m: @karslruheuzstudente</p><h2>Notes from the organizers:</h2><p></p><p>Th
	is demonstration is peaceful and expresses solidarity with the students. P
	arty political, non-governmental, ideological and political symbols are no
	t allowed. Solidarity, empathy and respect are the values that unite us. P
	rovocations and any form of violent communication are not acceptable at th
	is gathering. Only official symbols of the Republic of Serbia and recogniz
	able symbols of student and civic protests in the country are allowed. You
	r banners should also comply with these rules. We kindly ask you not to br
	ing food and drinks that you would offer to our guests, as the rules of th
	is assembly do not allow us to do so.</p><p>The students ask that you do n
	ot travel in their group. Instead, come to Schlossplatz so that there are 
	lots of us there.</p><p>Original message: <a target="_blank" href="https:/
	/cmkarlsruhe.blogspot.com/2025/04/begrut-die-serbischen-studierenden-auf.h
	tml">https://cmkarlsruhe.blogspot.com/2025/04/begrut-die-serbischen-studie
	renden-auf.html</a></p>
BEGIN:VALARM
ACTION:DISPLAY
DESCRIPTION:Begrüßt die serbischen Studierenden auf ihrer Radtour nach Stra
	ßburg
TRIGGER:-PT1H
END:VALARM
END:VEVENT
END:VCALENDAR
