BEGIN:VCALENDAR
VERSION:2.0
CALSCALE:GREGORIAN
PRODID:adamgibbons/ics
METHOD:PUBLISH
X-PUBLISHED-TTL:PT1H
BEGIN:VEVENT
UID:653@keepkarlsruheboring.org
SUMMARY:Benefizkonzert Bürgerstiftung Karlsruhe (Frei_Räume\, leih.lokal)
DTSTAMP:20260423T104917Z
DTSTART:20260201T180000Z
DTEND:20260201T193000Z
DESCRIPTION:Benefizkonzert zugunsten der Bürgerstiftung Karlsruhe aka Frei_
	Räume und\nleih.lokal\n\nHerbert Pfau von Kügelgen (Violine) und Markus St
	ange (Klavier)\n\nKonzert und Getränke: alles kostenlos/Spenden sind willk
	ommen!
URL:https://keepkarlsruheboring.org/event/benefizkonzert-burgerstiftung-kar
	lsruhe-frei_raume-leihlokal
LOCATION:Frei_Räume - Gerwigstraße 41 76131 Karlsruhe-Oststadt
STATUS:CONFIRMED
CATEGORIES:Concert,Music
X-ALT-DESC;FMTTYPE=text/html:<p>Benefizkonzert zugunsten der Bürgerstiftung
	 Karlsruhe aka Frei_Räume und leih.lokal</p><p>Herbert Pfau von Kügelgen (
	Violine) und Markus Stange (Klavier)</p><p>Konzert und Getränke: alles kos
	tenlos/Spenden sind willkommen!</p>
BEGIN:VALARM
ACTION:DISPLAY
DESCRIPTION:Benefizkonzert Bürgerstiftung Karlsruhe (Frei_Räume, leih.lokal
	)
TRIGGER:-PT1H
END:VALARM
END:VEVENT
END:VCALENDAR
