BEGIN:VCALENDAR
VERSION:2.0
CALSCALE:GREGORIAN
PRODID:adamgibbons/ics
METHOD:PUBLISH
X-PUBLISHED-TTL:PT1H
BEGIN:VEVENT
UID:58@keepkarlsruheboring.org
SUMMARY:Between Two Trees 2025: Cocktail Harbor Band
DTSTAMP:20260423T102553Z
DTSTART:20250912T173000Z
DTEND:20250912T213000Z
URL:https://keepkarlsruheboring.org/event/between-two-trees-2025-cocktail-h
	arbor-band
GEO:49.0017;8.40674
LOCATION:Electric Eel - 35\, Werderstraße\, Südstadt Nördlicher Teil\, Süds
	tadt\, Karlsruhe\, Baden-Württemberg\, 76137\, Deutschland
STATUS:CONFIRMED
CATEGORIES:Music
BEGIN:VALARM
ACTION:DISPLAY
DESCRIPTION:Between Two Trees 2025: Cocktail Harbor Band
TRIGGER:-PT1H
END:VALARM
END:VEVENT
END:VCALENDAR
