BEGIN:VCALENDAR
VERSION:2.0
CALSCALE:GREGORIAN
PRODID:adamgibbons/ics
METHOD:PUBLISH
X-PUBLISHED-TTL:PT1H
BEGIN:VEVENT
UID:56@keepkarlsruheboring.org
SUMMARY:Between Two Trees 2025: Green Tea
DTSTAMP:20260423T102208Z
DTSTART:20250621T173000Z
DTEND:20250621T213000Z
URL:https://keepkarlsruheboring.org/event/between-two-trees-2025-green-tea
GEO:49.0017;8.40674
LOCATION:Electric Eel - 35\, Werderstraße\, Südstadt Nördlicher Teil\, Süds
	tadt\, Karlsruhe\, Baden-Württemberg\, 76137\, Deutschland
STATUS:CONFIRMED
CATEGORIES:Music
BEGIN:VALARM
ACTION:DISPLAY
DESCRIPTION:Between Two Trees 2025: Green Tea
TRIGGER:-PT1H
END:VALARM
END:VEVENT
END:VCALENDAR
