BEGIN:VCALENDAR
VERSION:2.0
CALSCALE:GREGORIAN
PRODID:adamgibbons/ics
METHOD:PUBLISH
X-PUBLISHED-TTL:PT1H
BEGIN:VEVENT
UID:1102@keepkarlsruheboring.org
SUMMARY:Biertasting mit Jeremy [25€]
DTSTAMP:20260423T104559Z
DTSTART:20260320T190000Z
DESCRIPTION:Biertasting mit Jeremy\n\nKosten: 25€ an der Theke / Abendkasse
	\n\nAus organisatorischen Gründen bitten wir um eine vorherige Anmeldung p
	er E-Mail\n[ jeremy@nun.cafe]\n\n\n\n3 x 7 und 2 x Amerikaner:\nSieben Bie
	re\, ab 19 Uhr\, alle mit über 7 % Alkohol. Präsentiert von zwei\nAmerikan
	ern: Jeremy\, der Aufklärer\, und Chris\, der Unterhalter.\n\nIn diesen du
	nklen Wintertagen braucht der Mensch bekanntlich Unterstützung für\nKörper
	\, Geist und Seele. Wir vom NUN fühlen uns daher fast verpflichtet\, das\n
	allgemeine Wohlbefinden ein wenig zu verbessern. Frei nach dem alten Spric
	hwort\n„Man lebt nicht von Bier allein“ starten wir 2026 eine Reihe von Bi
	er-Tastings\,\ndie unseren geliebten Gerstensaft mit anderen Formen der Un
	terhaltung verbinden.\n\nAn diesem Abend teilt sich Jeremy\, unser hauseig
	ener Bier-Experte\, die Bühne mit\nChris Cacavas. Seit über 20 Jahren ist 
	Chris als Musiker und DJ eine feste Größe\nin der Region. Die Chancen steh
	en gut\, dass ihr ihn im Großraum Karlsruhe schon\neinmal gesehen oder geh
	ört habt.\n\nDie Biere kommen aus verschiedenen Ländern\, doch der Vibe de
	s Abends ist\neindeutig amerikanisch.
URL:https://keepkarlsruheboring.org/event/biertasting-mit-jeremy-25euro-1
GEO:49.0068;8.4208
LOCATION:NUN Kulturraum - 35\, Gottesauer Straße\, Oststadt Westlicher Teil
	\, Oststadt\, Karlsruhe\, Baden-Württemberg\, 76131\, Deutschland
STATUS:CONFIRMED
CATEGORIES:Biertasting,Gastronomie,Registration required,Ticket
X-ALT-DESC;FMTTYPE=text/html:<p><strong>Biertasting mit Jeremy</strong></p>
	<p><strong>Kosten: 25€ an der Theke / Abendkasse</strong></p><p><strong>Au
	s organisatorischen Gründen bitten wir um eine vorherige Anmeldung per </s
	trong><a href="mailto: jeremy@nun.cafe" target="_blank"><strong>E-Mail</st
	rong></a></p><p></p><p>3 x 7 und 2 x Amerikaner:<br>Sieben Biere, ab 19 Uh
	r, alle mit über 7 % Alkohol. Präsentiert von zwei Amerikanern: Jeremy, de
	r Aufklärer, und Chris, der Unterhalter.</p><p>In diesen dunklen Wintertag
	en braucht der Mensch bekanntlich Unterstützung für Körper, Geist und Seel
	e. Wir vom NUN fühlen uns daher fast verpflichtet, das allgemeine Wohlbefi
	nden ein wenig zu verbessern. Frei nach dem alten Sprichwort „Man lebt nic
	ht von Bier allein“ starten wir 2026 eine Reihe von Bier-Tastings, die uns
	eren geliebten Gerstensaft mit anderen Formen der Unterhaltung verbinden.<
	/p><p>An diesem Abend teilt sich Jeremy, unser hauseigener Bier-Experte, d
	ie Bühne mit Chris Cacavas. Seit über 20 Jahren ist Chris als Musiker und 
	DJ eine feste Größe in der Region. Die Chancen stehen gut, dass ihr ihn im
	 Großraum Karlsruhe schon einmal gesehen oder gehört habt.</p><p>Die Biere
	 kommen aus verschiedenen Ländern, doch der Vibe des Abends ist eindeutig 
	amerikanisch.</p>
BEGIN:VALARM
ACTION:DISPLAY
DESCRIPTION:Biertasting mit Jeremy [25€]
TRIGGER:-PT1H
END:VALARM
END:VEVENT
END:VCALENDAR
