BEGIN:VCALENDAR
VERSION:2.0
CALSCALE:GREGORIAN
PRODID:adamgibbons/ics
METHOD:PUBLISH
X-PUBLISHED-TTL:PT1H
BEGIN:VEVENT
UID:1101@keepkarlsruheboring.org
SUMMARY:Biertasting mit Jeremy [25€]
DTSTAMP:20260423T090335Z
DTSTART:20260228T180000Z
DESCRIPTION:Biertasting mit Jeremy\n\nWANN DENN NUN?\nSamstag\, 28.02.2026\
	n19:00 bis 22:00 Uhr (Einlass 18:45)\n\nWO DENN NUN?\nCafé NUN\, Gottesaue
	r Straße 35\, Karlsruhe\n\nKosten: 25€ an der Theke / Abendkasse\n\nAus or
	ganisatorischen Gründen bitten wir um eine vorherige Anmeldung per E-Mail\
	n[ jeremy@nun.cafe]\n\n\n\n3 x 7 und 2 x Amerikaner:\nSieben Biere\, ab 19
	 Uhr\, alle mit über 7 % Alkohol. Präsentiert von zwei\nAmerikanern: Jerem
	y\, der Aufklärer\, und Chris\, der Unterhalter.\n\nIn diesen dunklen Wint
	ertagen braucht der Mensch bekanntlich Unterstützung für\nKörper\, Geist u
	nd Seele. Wir vom NUN fühlen uns daher fast verpflichtet\, das\nallgemeine
	 Wohlbefinden ein wenig zu verbessern. Frei nach dem alten Sprichwort\n„Ma
	n lebt nicht von Bier allein“ starten wir 2026 eine Reihe von Bier-Tasting
	s\,\ndie unseren geliebten Gerstensaft mit anderen Formen der Unterhaltung
	 verbinden.\n\nAn diesem Abend teilt sich Jeremy\, unser hauseigener Bier-
	Experte\, die Bühne mit\nChris Cacavas. Seit über 20 Jahren ist Chris als 
	Musiker und DJ eine feste Größe\nin der Region. Die Chancen stehen gut\, d
	ass ihr ihn im Großraum Karlsruhe schon\neinmal gesehen oder gehört habt.\
	n\nDie Biere kommen aus verschiedenen Ländern\, doch der Vibe des Abends i
	st\neindeutig amerikanisch.
URL:https://keepkarlsruheboring.org/event/biertasting-mit-jeremy-25euro
GEO:49.0068;8.4208
LOCATION:NUN Kulturraum - 35\, Gottesauer Straße\, Oststadt Westlicher Teil
	\, Oststadt\, Karlsruhe\, Baden-Württemberg\, 76131\, Deutschland
STATUS:CONFIRMED
CATEGORIES:Biertasting,Gastronomie,Registration required,Ticket
X-ALT-DESC;FMTTYPE=text/html:<p><strong>Biertasting mit Jeremy</strong></p>
	<p><strong>WANN DENN NUN?</strong><br>Samstag, 28.02.2026<br>19:00 bis 22:
	00 Uhr (Einlass 18:45)</p><p><strong>WO DENN NUN?</strong><br>Café NUN, Go
	ttesauer Straße 35, Karlsruhe</p><p><strong>Kosten: 25€ an der Theke / Abe
	ndkasse</strong></p><p><strong>Aus organisatorischen Gründen bitten wir um
	 eine vorherige Anmeldung per </strong><a href="mailto: jeremy@nun.cafe" t
	arget="_blank"><strong>E-Mail</strong></a></p><p></p><p>3 x 7 und 2 x Amer
	ikaner:<br>Sieben Biere, ab 19 Uhr, alle mit über 7 % Alkohol. Präsentiert
	 von zwei Amerikanern: Jeremy, der Aufklärer, und Chris, der Unterhalter.<
	/p><p>In diesen dunklen Wintertagen braucht der Mensch bekanntlich Unterst
	ützung für Körper, Geist und Seele. Wir vom NUN fühlen uns daher fast verp
	flichtet, das allgemeine Wohlbefinden ein wenig zu verbessern. Frei nach d
	em alten Sprichwort „Man lebt nicht von Bier allein“ starten wir 2026 eine
	 Reihe von Bier-Tastings, die unseren geliebten Gerstensaft mit anderen Fo
	rmen der Unterhaltung verbinden.</p><p>An diesem Abend teilt sich Jeremy, 
	unser hauseigener Bier-Experte, die Bühne mit Chris Cacavas. Seit über 20 
	Jahren ist Chris als Musiker und DJ eine feste Größe in der Region. Die Ch
	ancen stehen gut, dass ihr ihn im Großraum Karlsruhe schon einmal gesehen 
	oder gehört habt.</p><p>Die Biere kommen aus verschiedenen Ländern, doch d
	er Vibe des Abends ist eindeutig amerikanisch.</p>
BEGIN:VALARM
ACTION:DISPLAY
DESCRIPTION:Biertasting mit Jeremy [25€]
TRIGGER:-PT1H
END:VALARM
END:VEVENT
END:VCALENDAR
