BEGIN:VCALENDAR
VERSION:2.0
CALSCALE:GREGORIAN
PRODID:adamgibbons/ics
METHOD:PUBLISH
X-PUBLISHED-TTL:PT1H
BEGIN:VEVENT
UID:693@keepkarlsruheboring.org
SUMMARY:BIET IT! Die Schallplatten- & Memorabilia-Versteigerung
DTSTAMP:20260423T115140Z
DTSTART:20260211T180000Z
DESCRIPTION:BIET IT! Die Schallplatten- & Memorabilia-Versteigerung\n\npräs
	entiert von Studio Eins Records & Alte Hackerei\n\nBeginn: 19:00 Uhr\n\nBI
	ET IT!\n\nDas TOLLSTE Schallplatten & Memorabilia Versteigerungs-Format in
	 der Alten\nHackerei\, Karlsruhes gepflegtester Punkrock-Bar\n\nEin Abend 
	der das Vinyl und die unterschiedlichsten Aufnahmen die in selbiges\ngepre
	sst wurden zelebriert und feiert!\n\nMan kann seine ausgedienten Platten (
	oder musikbezogene Sammlerstücke) direkt\nvor der Show zur Versteigerung a
	n der Bühne abgeben und mit ein bisschen Glück\nbei erfolgreicher Auktion 
	mindestens sein Taschengeld aufbessern oder aber am\nEnde des Abends nerve
	nstark und mit einer Träne im Knopfloch dem ehemaligen\nBesitz bei dessen 
	ritueller Zerstörung ein Adieu zuwinken.\n\nFür die anderen Zuschauer gilt
	 es ein solch trauriges Ende abzuwenden und sich\nselbst ein neues Lieblin
	gsstück im (er)steigernden Wettkampf mit anderen\nInteressenten zu ergatte
	rn\n\n— just BIET IT!\n\nDie Besucher erwartet ein buntes Unterhaltungspro
	gramm mit\nÜberraschungs-Specials wie z.B. einem GLÜCKSRAD und wechselnden
	\nModeratoren(Teams).\n\nDie Gäste können sogar selbst Ihre Schallplatte a
	uf der Bühne anpreisen und\nversteigern\, wenn sie das möchten!\n\nAm Ende
	 des Abends werden die nicht versteigerten Auktionsgüter in einem\nfuriose
	n Finale von den einzigartigen & hochprofessionellen Scharfrichtern Orgel\
	nKrueger\, Bingo Bongo\, LP Plexxter und diversen anderen\, auf vielerlei 
	Art und\nWeise sensationell zerstört.\n\nEintritt frei!
URL:https://keepkarlsruheboring.org/event/biet-it-die-schallplatten-and-mem
	orabilia-versteigerung
GEO:49.0056;8.42925
LOCATION:Alte Hackerei - Alter Schlachthof 11A 76131 Karlsruhe
STATUS:CONFIRMED
CATEGORIES:Flohmarkt,Music,Schallplatten
X-ALT-DESC;FMTTYPE=text/html:<p>BIET IT! Die Schallplatten- &amp; Memorabil
	ia-Versteigerung</p><p>präsentiert von Studio Eins Records &amp; Alte Hack
	erei</p><p>Beginn: 19:00 Uhr</p><p>BIET IT!</p><p>Das TOLLSTE Schallplatte
	n &amp; Memorabilia Versteigerungs-Format in der Alten Hackerei, Karlsruhe
	s gepflegtester Punkrock-Bar</p><p>Ein Abend der das Vinyl und die untersc
	hiedlichsten Aufnahmen die in selbiges gepresst wurden zelebriert und feie
	rt!</p><p>Man kann seine ausgedienten Platten (oder musikbezogene Sammlers
	tücke) direkt vor der Show zur Versteigerung an der Bühne abgeben und mit 
	ein bisschen Glück bei erfolgreicher Auktion mindestens sein Taschengeld a
	ufbessern oder aber am Ende des Abends nervenstark und mit einer Träne im 
	Knopfloch dem ehemaligen Besitz bei dessen ritueller Zerstörung ein Adieu 
	zuwinken.</p><p>Für die anderen Zuschauer gilt es ein solch trauriges Ende
	 abzuwenden und sich selbst ein neues Lieblingsstück im (er)steigernden We
	ttkampf mit anderen Interessenten zu ergattern</p><p>— just BIET IT!</p><p
	>Die Besucher erwartet ein buntes Unterhaltungsprogramm mit Überraschungs-
	Specials wie z.B. einem GLÜCKSRAD und wechselnden Moderatoren(Teams).</p><
	p>Die Gäste können sogar selbst Ihre Schallplatte auf der Bühne anpreisen 
	und versteigern, wenn sie das möchten!</p><p>Am Ende des Abends werden die
	 nicht versteigerten Auktionsgüter in einem furiosen Finale von den einzig
	artigen &amp; hochprofessionellen Scharfrichtern Orgel Krueger, Bingo Bong
	o, LP Plexxter und diversen anderen, auf vielerlei Art und Weise sensation
	ell zerstört.</p><p>Eintritt frei!</p>
BEGIN:VALARM
ACTION:DISPLAY
DESCRIPTION:BIET IT! Die Schallplatten- & Memorabilia-Versteigerung
TRIGGER:-PT1H
END:VALARM
END:VEVENT
END:VCALENDAR
