BEGIN:VCALENDAR
VERSION:2.0
CALSCALE:GREGORIAN
PRODID:adamgibbons/ics
METHOD:PUBLISH
X-PUBLISHED-TTL:PT1H
BEGIN:VEVENT
UID:1373@keepkarlsruheboring.org
SUMMARY:Bitte nehmen Sie noch einen Moment Platz
DTSTAMP:20260423T102320Z
DTSTART:20260326T140000Z
DTEND:20260405T170000Z
DESCRIPTION:26. März – 5. April 2026\n\nMit:\n\nTessa Baldszus (@tessasophi
	ebaldszus)\n\nFinn Lorenz Baygan (@finnbaygan)\n\nMagdalena Huonker (@magd
	alenahuonker)\n\nClara Vivian Stang (@clara.stang)\n\nEröffnung: \n\nMittw
	och 25. März 2026 um 19:00 Uhr\n\nin der Orgelfabrik Karlsruhe\n\nÖffnungs
	zeiten:\n\nMittwoch bis Samstag von 15:00 – 19:00 Uhr\n\nSonntag von 12:00
	 – 18:00 Uhr\n\nOrgelfabrik Karlsruhe\n\nAmthausstraße 17\n\n76227 Karlsru
	he
URL:https://keepkarlsruheboring.org/event/bitte-nehmen-sie-noch-einen-momen
	t-platz
GEO:48.998;8.47137
LOCATION:Orgelfabrik - Amthausstraße 17\, 76227 Karlsruhe
STATUS:CONFIRMED
CATEGORIES:Art,Exhibition
X-ALT-DESC;FMTTYPE=text/html:<p>26. März – 5. April 2026</p><p>Mit:</p><p>T
	essa Baldszus (@tessasophiebaldszus)</p><p>Finn Lorenz Baygan (@finnbaygan
	)</p><p>Magdalena Huonker (@magdalenahuonker)</p><p>Clara Vivian Stang (@c
	lara.stang)</p><p>Eröffnung:&nbsp;</p><p><strong>Mittwoch 25. März 2026 um
	 19:00 Uhr</strong></p><p>in der Orgelfabrik Karlsruhe</p><p>Öffnungszeite
	n:</p><p>Mittwoch bis Samstag von 15:00 – 19:00 Uhr</p><p>Sonntag von 12:0
	0 – 18:00 Uhr</p><p>Orgelfabrik Karlsruhe</p><p>Amthausstraße 17</p><p>762
	27 Karlsruhe</p>
BEGIN:VALARM
ACTION:DISPLAY
DESCRIPTION:Bitte nehmen Sie noch einen Moment Platz
TRIGGER:-PT1H
END:VALARM
END:VEVENT
END:VCALENDAR
