BEGIN:VCALENDAR
VERSION:2.0
CALSCALE:GREGORIAN
PRODID:adamgibbons/ics
METHOD:PUBLISH
X-PUBLISHED-TTL:PT1H
BEGIN:VEVENT
UID:951@keepkarlsruheboring.org
SUMMARY:BLACK DOLDRUMS + DAS GÜNTHER
DTSTAMP:20260423T102329Z
DTSTART:20260508T180000Z
DTEND:20260508T200000Z
DESCRIPTION:Kevin Gibbard and Sophie Landers produce a contemporary form of
	 gothic\npost-punk\, with songs that contain hook and lead tribal drums an
	d euphoric\nguitar textures that frame introspective lyrics. They are know
	n for their\nintense live performances\, creating their own style of dark 
	post-punk driven by\nvicious drums\, distinctive atmospheric guitar and me
	lodic bass. After the\nsuccess of their debut album ‘Dead Awake’ on Fuzz C
	lub Records in 2022 and\ngaining critical acclaim across mainstream media 
	outlets\, such as Uncut\, Rolling\nStone and Sonic Seducer\, the band rele
	ased their follow up second album ‘In\nLimerence’ in October 2024. Describ
	ed by Louder Than War as ‘ lush yet glacial\nsoundscapes\, ramping up with
	 bursts of energy before dispersing and cascading\ninto an ethereal depth”
	 ‘In Limerence’ is proving to be the album that pushes\nBlack Doldrums fur
	ther into the depths of their atmospheric post-punk. “A mix of\ngothic-roc
	k and shoegaze sounds to die for” Rolling Stone “A fierce combination\nof 
	post-punk\, reverb\, drone and melody” Uncut “Awe -inspiring…Black Doldrum
	s\ncreate transient and euphoric dark post-punk” Louder Than War 𝗗𝗔𝗦\n𝗚Ü𝗡𝗧
	𝗛𝗘𝗥: Zwischen Pailletten und Protest\, zwischen Tanzfläche und Theater\nli
	efert DasGünther aus Hannover eine Bühnenshow\, die alles infrage stellt –
	 auch\nsichselbst. Mit Schlagzeug\, Bass und synthetischen Sounds crashen 
	sie\nClubs\,Festivals und Off-Spaces – zerlegen die Wohlfühlfassaden\nderS
	pätkapitalismus-Party und sezieren patriarchale Denkmuster. GesangsorganAl
	ex\nschlüpft in Rollen\, die dem Wahnsinn unserer Gegenwart den Spiegelvor
	halten.\nImprovisiert\, impulsiv und immer einen Witz vor dem Wahnsinnentf
	ernt\, zündet das\nTrio ein anarchisches Spektakel\, das irgendwo zwischen
	Kraftwerk und Karneval\,\nzwischen Clown und Diva\, in einem Technokellero
	szilliert.
URL:https://keepkarlsruheboring.org/event/black-doldrums-das-gunther
GEO:48.989;8.37185
LOCATION:P8 - Schauenburgstraße 5\, 76135 Karlsruhe
STATUS:CONFIRMED
CATEGORIES:karlsrunruhe,test
X-ALT-DESC;FMTTYPE=text/html:Kevin Gibbard and Sophie Landers produce a con
	temporary form of gothic post-punk, with songs that contain hook and lead 
	tribal drums and euphoric guitar textures that frame introspective lyrics.
	 They are known for their intense live performances, creating their own st
	yle of dark post-punk driven by vicious drums, distinctive atmospheric gui
	tar and melodic bass.<br>After the success of their debut album ‘Dead Awak
	e’ on Fuzz Club Records in 2022 and gaining critical acclaim across mainst
	ream media outlets, such as Uncut, Rolling Stone and Sonic Seducer, the ba
	nd released their follow up second album ‘In Limerence’ in October 2024. D
	escribed by Louder Than War as ‘ lush yet glacial soundscapes, ramping up 
	with bursts of energy before dispersing and cascading into an ethereal dep
	th” ‘In Limerence’ is proving to be the album that pushes Black Doldrums f
	urther into the depths of their atmospheric post-punk.<br>“A mix of gothic
	-rock and shoegaze sounds to die for” Rolling Stone<br>“A fierce combinati
	on of post-punk, reverb, drone and melody” Uncut<br>“Awe -inspiring…Black 
	Doldrums create transient and euphoric dark post-punk” Louder Than War<br>
	<br>𝗗𝗔𝗦 𝗚Ü𝗡𝗧𝗛𝗘𝗥: Zwischen Pailletten und Protest, zwischen Tanzfläche und 
	Theater liefert DasGünther aus Hannover eine Bühnenshow, die alles infrage
	 stellt – auch sichselbst. Mit Schlagzeug, Bass und synthetischen Sounds c
	rashen sie Clubs,Festivals und Off-Spaces – zerlegen die Wohlfühlfassaden 
	derSpätkapitalismus-Party und sezieren patriarchale Denkmuster. Gesangsorg
	anAlex schlüpft in Rollen, die dem Wahnsinn unserer Gegenwart den Spiegelv
	orhalten. Improvisiert, impulsiv und immer einen Witz vor dem Wahnsinnentf
	ernt, zündet das Trio ein anarchisches Spektakel, das irgendwo zwischenKra
	ftwerk und Karneval, zwischen Clown und Diva, in einem Technokelleroszilli
	ert. 
BEGIN:VALARM
ACTION:DISPLAY
DESCRIPTION:BLACK DOLDRUMS + DAS GÜNTHER
TRIGGER:-PT1H
END:VALARM
END:VEVENT
END:VCALENDAR
