BEGIN:VCALENDAR
VERSION:2.0
CALSCALE:GREGORIAN
PRODID:adamgibbons/ics
METHOD:PUBLISH
X-PUBLISHED-TTL:PT1H
BEGIN:VEVENT
UID:920@keepkarlsruheboring.org
SUMMARY:BLACK WILLOWS + OTTONE PESANTE
DTSTAMP:20260423T102323Z
DTSTART:20260409T170000Z
DTEND:20260409T190000Z
DESCRIPTION:Das schweizer "shamanic-doom"-Trio 𝗕𝗟𝗔𝗖𝗞 𝗪𝗜𝗟𝗟𝗢𝗪𝗦 und das\nitali
	enische "brasscore"-Trio 𝗢𝗧𝗧𝗢𝗡𝗘 𝗣𝗘𝗦𝗔𝗡𝗧𝗘 laden an diesem Abend\nzu ekstatis
	chem Tanz im P8. Es wird laut\, hart\, schwer und mystisch. Einlass: 19\nU
	hr // Beginn: 20 Uhr Vorverkauf: 20€ () // Abendkasse: 25€ Musik:
URL:https://keepkarlsruheboring.org/event/black-willows-ottone-pesante
GEO:48.989;8.37185
LOCATION:P8 - Schauenburgstraße 5\, 76135 Karlsruhe
STATUS:CONFIRMED
CATEGORIES:karlsrunruhe,test
X-ALT-DESC;FMTTYPE=text/html:Das schweizer "shamanic-doom"-Trio 𝗕𝗟𝗔𝗖𝗞 𝗪𝗜𝗟𝗟𝗢
	𝗪𝗦 und das italienische "brasscore"-Trio 𝗢𝗧𝗧𝗢𝗡𝗘 𝗣𝗘𝗦𝗔𝗡𝗧𝗘 laden an diesem Ab
	end zu ekstatischem Tanz im P8. Es wird laut, hart, schwer und mystisch.<b
	r>Einlass: 19 Uhr // Beginn: 20 Uhr<br><br>Vorverkauf: 20€ () // Abendkass
	e: 25€<br>Musik:     <br><br>
BEGIN:VALARM
ACTION:DISPLAY
DESCRIPTION:BLACK WILLOWS + OTTONE PESANTE
TRIGGER:-PT1H
END:VALARM
END:VEVENT
END:VCALENDAR
