BEGIN:VCALENDAR
VERSION:2.0
CALSCALE:GREGORIAN
PRODID:adamgibbons/ics
METHOD:PUBLISH
X-PUBLISHED-TTL:PT1H
BEGIN:VEVENT
UID:1065@keepkarlsruheboring.org
SUMMARY:Blue Church - Cosmic Journey to THE CAGE
DTSTAMP:20260423T104833Z
DTSTART:20260325T183000Z
DTEND:20260325T200000Z
DESCRIPTION:Konzert im Rahmen von THE CAGE [https://www.thecage-stadtkirche
	karlsruhe.de/] in\nKooperation mit der Hemmingway Lounge. \n\nMongolische 
	Musiktraditionen treffen auf westliche Improvisationskultur.\nEnkhjargal D
	andarvaanchig prägt den Abend mit der Morin Khuur und seinem\neindrucksvol
	len Ober- und Untertongesang\, während die Texte und Rezitationen von\nKla
	us Nagorni eine reflektierende\, geistige Ebene eröffnen. Der Saxophonist 
	und\nKomponist Peter Lehel erweitert diesen Klangraum mit seiner jazzmusik
	alischen\nHandschrift und einem offenen experimentellen Ansatz\, unterstüt
	zt vom Pianisten\nUll Möck\, dessen fein nuanciertes Spiel die musikalisch
	e Vielfalt des Programms\nträgt.\n\n\nPeter Lehel (sax) - Enkhjargal Danda
	rvaanchig (mongolian voice & vn) - Ull Möck\n(p) - Klaus Nagorni (words)\n
	\nEintritt: 15 €\, ermäßigt 10 €\n\nTickets: www.tickets-stadtkirche.de [h
	ttp://www.tickets-stadtkirche.de]\n\nFoto: Jürgen Schurr
URL:https://keepkarlsruheboring.org/event/blue-church-cosmic-journey-to-the
	-cage
GEO:49.0085;8.40424
LOCATION:Stadtkirche Karlsruhe - Marktplatz Karlsruhe
STATUS:CONFIRMED
CATEGORIES:Art,Music
X-ALT-DESC;FMTTYPE=text/html:<p>Konzert im Rahmen von <a href="https://www.
	thecage-stadtkirchekarlsruhe.de/" target="_blank">THE CAGE</a> in Kooperat
	ion mit der Hemmingway Lounge.&nbsp;</p><p>Mongolische Musiktraditionen tr
	effen auf westliche Improvisationskultur. Enkhjargal Dandarvaanchig prägt 
	den Abend mit der Morin Khuur und seinem eindrucksvollen Ober- und Unterto
	ngesang, während die Texte und Rezitationen von Klaus Nagorni eine reflekt
	ierende, geistige Ebene eröffnen. Der Saxophonist und Komponist Peter Lehe
	l erweitert diesen Klangraum mit seiner jazzmusikalischen Handschrift und 
	einem offenen experimentellen Ansatz, unterstützt vom Pianisten Ull Möck, 
	dessen fein nuanciertes Spiel die musikalische Vielfalt des Programms träg
	t.<br></p><p>Peter Lehel (sax) - Enkhjargal Dandarvaanchig (mongolian voic
	e &amp; vn) - Ull Möck (p) - Klaus Nagorni (words)</p><p>Eintritt: 15 €, e
	rmäßigt 10 €</p><p>Tickets: <a href="http://www.tickets-stadtkirche.de" ta
	rget="_blank">www.tickets-stadtkirche.de</a></p><p>Foto: Jürgen Schurr</p>
BEGIN:VALARM
ACTION:DISPLAY
DESCRIPTION:Blue Church - Cosmic Journey to THE CAGE
TRIGGER:-PT1H
END:VALARM
END:VEVENT
END:VCALENDAR
