BEGIN:VCALENDAR
VERSION:2.0
CALSCALE:GREGORIAN
PRODID:adamgibbons/ics
METHOD:PUBLISH
X-PUBLISHED-TTL:PT1H
BEGIN:VEVENT
UID:60@keepkarlsruheboring.org
SUMMARY:Bürgertreff der Bürgergesellschaft Südstadt
DTSTAMP:20260423T103550Z
DTSTART:20250604T170000Z
DESCRIPTION:BÜRGERTREFF IM JUNI: BÄNKE UND SITZGELEGENHEITEN IN DER SÜDSTAD
	T\n\n\n\nMittwoch\, den 04.06.2025\, 19:00 Uhr\nim Restaurant „Big Mama’s“
	\nStuttgarter Straße 59\n\nWir alle wissen\, dass die Kommunen klamm sind\
	, die Zeiten der Wunschkonzerte\nhinter uns liegen und dennoch wünschen wi
	r Bürgerinnen und Bürger uns einen\nansprechend gestalteten öffentlichen R
	aum\, der auch mit ausreichend\nSitzgelegenheiten zum Aufenthalt und zur B
	egegnung einlädt. Darüber hinaus macht\nder Klimawandel die Südstadt zu ei
	nem der heißesten Orte der Stadt und der\nRegion und wer daraus im Sommer 
	nicht fliegen mag oder kann\, wünscht sich kühle\nOasen zur Abkühlung oder
	 zumindest zum angenehmen Aufenthalt\, wenn zuhause die\neigenen vier Wänd
	e unerträglich geworden sind.\n\n\nGibt es genügend Sitzgelegenheiten in d
	er Südstadt – auf den Plätzen\, in\ngrößeren Nischen\, in den Grünanlagen 
	und in Parks?\nBerichten Sie von Ihren Erfahrungen und Beobachtungen!\n\nW
	ie immer erfahren Sie außerdem Neuigkeiten aus dem Stadtteil und von der\n
	Vorstandsarbeit. Und wie bei jedem Bürgertreff sind alle aus der Südstadt\
	,\nMitglieder und (noch) Nichtmitglieder der BGS herzlich willkommen.
URL:https://keepkarlsruheboring.org/event/burgertreff-der-burgergesellschaf
	t-sudstadt
GEO:49.002;8.42306
LOCATION:Big Mama - Stuttgarter Straße 59
STATUS:CONFIRMED
CATEGORIES:Local politics,Politics,Südstadt
X-ALT-DESC;FMTTYPE=text/html:<h1>Bürgertreff im Juni: Bänke und Sitzgelegen
	heiten in der Südstadt</h1><p></p><p><strong>Mittwoch, den 04.06.2025, 19:
	00 Uhr</strong><br><strong>im Restaurant „Big Mama’s“</strong><br><strong>
	Stuttgarter Straße 59</strong></p><p>Wir alle wissen, dass die Kommunen kl
	amm sind, die Zeiten der Wunschkonzerte hinter uns liegen und dennoch wüns
	chen wir Bürgerinnen und Bürger uns einen ansprechend gestalteten öffentli
	chen Raum, der auch mit ausreichend Sitzgelegenheiten zum Aufenthalt und z
	ur Begegnung einlädt. Darüber hinaus macht der Klimawandel die Südstadt zu
	 einem der heißesten Orte der Stadt und der Region und wer daraus im Somme
	r nicht fliegen mag oder kann, wünscht sich kühle Oasen zur Abkühlung oder
	 zumindest zum angenehmen Aufenthalt, wenn zuhause die eigenen vier Wände 
	unerträglich geworden sind.<br></p><p><strong>Gibt es genügend Sitzgelegen
	heiten in der Südstadt – auf den Plätzen, in größeren Nischen, in den Grün
	anlagen und in Parks?<br>Berichten Sie von Ihren Erfahrungen und Beobachtu
	ngen!</strong></p><p>Wie immer erfahren Sie außerdem Neuigkeiten aus dem S
	tadtteil und von der Vorstandsarbeit. Und wie bei jedem Bürgertreff sind a
	lle aus der Südstadt, Mitglieder und (noch) Nichtmitglieder der BGS herzli
	ch willkommen.</p>
BEGIN:VALARM
ACTION:DISPLAY
DESCRIPTION:Bürgertreff der Bürgergesellschaft Südstadt
TRIGGER:-PT1H
END:VALARM
END:VEVENT
END:VCALENDAR
