BEGIN:VCALENDAR
VERSION:2.0
CALSCALE:GREGORIAN
PRODID:adamgibbons/ics
METHOD:PUBLISH
X-PUBLISHED-TTL:PT1H
BEGIN:VEVENT
UID:677@keepkarlsruheboring.org
SUMMARY:Cats & Breakkies
DTSTAMP:20260423T085726Z
DTSTART:20260502T180000Z
DESCRIPTION:[organisch_elektronisch]\n\nCats & Breakkies\, das sind vier ju
	nge Berliner mit Jazz im Herzen und Techno in\nden Genen. In klassischer B
	and-Besetzung – E-Gitarre\, Bass\, Schlagzeug\, Keys –\nrocken sie jederze
	it ein instrumentales DJ-Live-Set auf Bühnen\, Floors und\nFestivals. Imme
	r tanzbar\, mit Mut zu elegischen Melodien\, opulenten Breaks und\nsatten 
	Flächen überzeugen sie vor allem durch die Präzision im Spannungsaufbau\nu
	nd die klangliche Weite ihrer Arrangements.\n\nNach ihrem 2015 erschienene
	n Debütalbum organic electro\, in produzentischer\nZusammenarbeit mit Davi
	d August\, wurden sie 2016 für den „Bremer Jazzpreis 2016“\nin der Kategor
	ie „Jazz & Electronics“ nominiert\, es folgten zahlreiche Auftritte\nauf F
	estivals und in Clubs\, u.a. in der Kantine am Berghain\, dem Tallinn Musi
	c\nFestival und dem Festival Berlistanbul.\n\nMit spectral haben sie 2018 
	noch einmal eine Schippe drauf gelegt. In zehn\ntracks\, die zusammen drei
	 eigenständige Kurzsets ergeben\, weben sie kunstvoll\nklangliche und metr
	ische Schichten ineinander\, bohren dicke Disco-Bretter\,\nliefern perfekt
	e build up und drop Dramaturgie – und machen vor allem auf\nentspannte Wei
	se unheimlich viel Druck. Cats & Breakkies\, das ist eleganter\,\nschnörke
	lloser Live-Techno aus Berlin.\n\nBild ©Stephan Noe
URL:https://keepkarlsruheboring.org/event/cats-and-breakkies
GEO:49.0135;8.35882
LOCATION:Kulturzentrum Tempel - Kulturverein Tempel e.V. im Kulturzentrum T
	empel Hardtstraße 37 A D-76185 Karlsruhe
STATUS:CONFIRMED
CATEGORIES:Elektro,Music
X-ALT-DESC;FMTTYPE=text/html:<p><strong>[organisch_elektronisch]</strong></
	p><p>Cats &amp; Breakkies, das sind vier junge Berliner mit Jazz im Herzen
	 und Techno in den Genen. In klassischer Band-Besetzung – E-Gitarre, Bass,
	 Schlagzeug, Keys – rocken sie jederzeit ein instrumentales DJ-Live-Set au
	f Bühnen, Floors und Festivals. Immer tanzbar, mit Mut zu elegischen Melod
	ien, opulenten Breaks und satten Flächen überzeugen sie vor allem durch di
	e Präzision im Spannungsaufbau und die klangliche Weite ihrer Arrangements
	.</p><p>Nach ihrem 2015 erschienenen Debütalbum organic electro, in produz
	entischer Zusammenarbeit mit David August, wurden sie 2016 für den „Bremer
	 Jazzpreis 2016“ in der Kategorie „Jazz &amp; Electronics“ nominiert, es f
	olgten zahlreiche Auftritte auf Festivals und in Clubs, u.a. in der <em>Ka
	ntine am Berghain</em>, dem <em>Tallinn Music Festival</em> und dem Festiv
	al <em>Berlistanbul</em>.</p><p>Mit spectral haben sie 2018 noch einmal ei
	ne Schippe drauf gelegt. In zehn tracks, die zusammen drei eigenständige K
	urzsets ergeben, weben sie kunstvoll klangliche und metrische Schichten in
	einander, bohren dicke Disco-Bretter, liefern perfekte build up und drop D
	ramaturgie – und machen vor allem auf entspannte Weise unheimlich viel Dru
	ck. Cats &amp; Breakkies, das ist eleganter, schnörkelloser Live-Techno au
	s Berlin.</p><p>Bild ©Stephan Noe</p>
BEGIN:VALARM
ACTION:DISPLAY
DESCRIPTION:Cats & Breakkies
TRIGGER:-PT1H
END:VALARM
END:VEVENT
END:VCALENDAR
