BEGIN:VCALENDAR
VERSION:2.0
CALSCALE:GREGORIAN
PRODID:adamgibbons/ics
METHOD:PUBLISH
X-PUBLISHED-TTL:PT1H
BEGIN:VEVENT
UID:493@keepkarlsruheboring.org
SUMMARY:Ceren Oran & Moving Borders (D) "SCHÖN ANDERS" [7-15 €]
DTSTAMP:20260423T102421Z
DTSTART:20251128T093000Z
DESCRIPTION:Ein Tanzstück über die Suche nach Identität und Zugehörigkeit\n
	\nGruppenverhalten prägt uns. Menschen sind Herdentiere\, sie schützen und
	\norganisieren sich in Klassenverbänden\, Freizeitvereinen\, in\nStaatenge
	meinschaften und Unionen. Was aber passiert\, wenn der Einzelne die\nGrupp
	e verlässt? Oder anders: Was\, wenn das Individuum sich selbst erkennt und
	\ndas auch leben möchte? Ist es schutzlos dem Rest der Gruppe ausgesetzt\,
	 wenn es\nsich aus der Gruppe entfernt – auch wenn es ganz schön anders is
	t? Die\nChoreographin Ceren Oran setzt diese Fragen zusammen mit einem mul
	tikulturellen\nTeam tänzerisch und musikalisch um. Fünf Perfomer:innen bri
	ngen ihre eigenen\nErfahrungen vom Anderssein und von Zugehörigkeit in den
	 Produktionsprozess ein.\nSie begeben sich spielerisch\, humorvoll und ber
	ührend auf eine Forschungsreise\nin unterschiedliche Gefühlswelten. Das St
	ück richtet sich an Familien mit\nKindern ab 6 Jahren.\n\n "Was hier ohne 
	Worte und Figuren über die Reibung von Ich und Welt\, von\nTrendsetting un
	d Grenzüberschreitungen erzählt wird\, sollten alle sehen. Weil\nder 40-Mi
	nüter herrlich unplakativ und komisch ist. Und weil hier vom\nallmählichen
	 Zusammensetzen einer gemeinsamen Bewegungssprache bis zum\nSich-Auswachse
	n minimaler Abweichungen zu regelrechten Ausbrüchen alles so fein\ngearbei
	tet ist\, als hingen die Menschen auf der ansonsten leeren Bühne mit einem
	\nunsichtbaren Faden zusammen".\nSabine Leucht | Süddeutsche Zeitung | 06.
	02.2020 \n\nCeren Oran ist Tänzerin und Choreografin in München. Sie sieht
	 den Tanz nicht\nnur als Kunstform\, sondern auch als eine Form der Kommun
	ikation. Deshalb ist\nihre Arbeit von Unmittelbarkeit geprägt und sucht de
	n direkten Kontakt zum\nPublikum. Mit einem aufrichtigen Interesse daran\,
	 ein junges Publikum\nanzusprechen\, kreiert sie poetische Stücke über die
	 großen und kleinen Fragen\ndes Lebens\, die uns nicht mit Antworten konfr
	ontieren\, sondern uns vielmehr dazu\nanregen\, Fragen zu stellen. Einerse
	its beschäftigt sie sich mit spezifischen\nThemen wie Identität\, Heimat u
	nd der Schnelllebigkeit der Gesellschaft.\nAndererseits nehmen ihre Arbeit
	en oft eine reflektierende Metaperspektive ein\,\ndie spielerisch den Tanz
	 und seine Relevanz in unserem Leben hinterfragt. Warum\ntanzen wir überha
	upt? Was und wie kommunizieren wir mit dem Tanz und was können\nwir von ih
	m lernen?\n\n2022 erhielt sie den Förderpreis Tanz der Stadt München.\n\nK
	ünstlerische Leitung\, Choreographie & Tanz: Ceren Oran\nEntstanden mit: R
	oni Sagi\, Maria Casares González\, Jin Lee & Jovana Zelenović\nTanz: Cere
	n Oran\, Maria Casares González\, Jovana Zelenović\, Rotem Weissman &\nRon
	i Sagi\nMusik & Komposition: Benny Omerzell\nKostüm: Sigrid Wurzinger\nLic
	ht: Dennis Dieter Kopp\nDramaturgische Begleitung: Moos Van Den Broek\nKün
	stlerische Produktionsleitung: Rat&Tat Kulturbüro\nPR: Simone Schulte-Alad
	ag & PFAU PR\nPremiere: 2020\nAltersempfehlung: 6+\; Dauer: 40 min + 15 mi
	n Gespräch\; \n\nMit freundlicher Unterstützung durch das Kulturreferat de
	r Landeshauptstadt\nMünchen und durch den bayerischen Landesverband für ze
	itgenössischen Tanz aus\nMitteln des bayerischen Staatsministeriums für Bi
	ldung und Kultur\, Wissenschaft\nund Kunst und den Bezirk Oberbayern. Mit 
	freundlicher Unterstützung durch das\nTanzbüro München und Fokus tanz. Cer
	en Oran ist Mitglied der Tanztendenz\nMünchen.\n\nBild: De-Da Productions
URL:https://keepkarlsruheboring.org/event/ceren-oran-and-moving-borders-d-s
	chon-anders
GEO:49.0135;8.35882
LOCATION:Kulturzentrum Tempel - Kulturverein Tempel e.V. im Kulturzentrum T
	empel Hardtstraße 37 A D-76185 Karlsruhe
STATUS:CONFIRMED
CATEGORIES:Dance,TANZ Karlsruhe 2025,Tanzfestival 2025,Ticket
X-ALT-DESC;FMTTYPE=text/html:<p><strong>Ein Tanzstück über die Suche nach I
	dentität und Zugehörigkeit</strong></p><p>Gruppenverhalten prägt uns. Mens
	chen sind Herdentiere, sie schützen und organisieren sich in Klassenverbän
	den, Freizeitvereinen, in Staatengemeinschaften und Unionen. Was aber pass
	iert, wenn der Einzelne die Gruppe verlässt? Oder anders: Was, wenn das In
	dividuum sich selbst erkennt und das auch leben möchte? Ist es schutzlos d
	em Rest der Gruppe ausgesetzt, wenn es sich aus der Gruppe entfernt – auch
	 wenn es ganz schön anders ist? Die Choreographin Ceren Oran setzt diese F
	ragen zusammen mit einem multikulturellen Team tänzerisch und musikalisch 
	um. Fünf Perfomer:innen bringen ihre eigenen Erfahrungen vom Anderssein un
	d von Zugehörigkeit in den Produktionsprozess ein. Sie begeben sich spiele
	risch, humorvoll und berührend auf eine Forschungsreise in unterschiedlich
	e Gefühlswelten. Das Stück richtet sich an Familien mit Kindern ab 6 Jahre
	n.</p><p><strong><em>&nbsp;</em></strong><em>"Was hier ohne Worte und Figu
	ren über die Reibung von Ich und Welt, von Trendsetting und Grenzüberschre
	itungen erzählt wird, sollten alle sehen. Weil der 40-Minüter herrlich unp
	lakativ und komisch ist. Und weil hier vom allmählichen Zusammensetzen ein
	er gemeinsamen Bewegungssprache bis zum Sich-Auswachsen minimaler Abweichu
	ngen zu regelrechten Ausbrüchen alles so fein gearbeitet ist, als hingen d
	ie Menschen auf der ansonsten leeren Bühne mit einem unsichtbaren Faden zu
	sammen".<br></em><strong><em>Sabine Leucht | Süddeutsche Zeitung | 06.02.2
	020&nbsp;</em></strong></p><p>Ceren Oran ist Tänzerin und Choreografin in 
	München. Sie sieht den Tanz nicht nur als Kunstform, sondern auch als eine
	 Form der Kommunikation. Deshalb ist ihre Arbeit von Unmittelbarkeit geprä
	gt und sucht den direkten Kontakt zum Publikum. Mit einem aufrichtigen Int
	eresse daran, ein junges Publikum anzusprechen, kreiert sie poetische Stüc
	ke über die großen und kleinen Fragen des Lebens, die uns nicht mit Antwor
	ten konfrontieren, sondern uns vielmehr dazu anregen, Fragen zu stellen. E
	inerseits beschäftigt sie sich mit spezifischen Themen wie Identität, Heim
	at und der Schnelllebigkeit der Gesellschaft. Andererseits nehmen ihre Arb
	eiten oft eine reflektierende Metaperspektive ein, die spielerisch den Tan
	z und seine Relevanz in unserem Leben hinterfragt. Warum tanzen wir überha
	upt? Was und wie kommunizieren wir mit dem Tanz und was können wir von ihm
	 lernen?</p><p>2022 erhielt sie den Förderpreis Tanz der Stadt München.</p
	><p><strong>Künstlerische Leitung, Choreographie &amp; Tanz:</strong> Cere
	n Oran<br><strong>Entstanden mit:</strong> Roni Sagi, Maria Casares Gonzál
	ez, Jin Lee &amp; Jovana Zelenović<br><strong>Tanz:</strong> Ceren Oran, M
	aria Casares González, Jovana Zelenović, Rotem Weissman &amp; Roni Sagi<br
	><strong>Musik &amp; Komposition:</strong> Benny Omerzell<br><strong>Kostü
	m:</strong> Sigrid Wurzinger<br><strong>Licht:</strong> Dennis Dieter Kopp
	<br><strong>Dramaturgische Begleitung:</strong> Moos Van Den Broek<br><str
	ong>Künstlerische Produktionsleitung:</strong> Rat&amp;Tat Kulturbüro<br><
	strong>PR:</strong> Simone Schulte-Aladag &amp; PFAU PR<br><strong>Premier
	e:</strong> 2020<br><strong>Altersempfehlung:</strong> 6+; Dauer: 40 min +
	 15 min Gespräch;&nbsp;</p><p>Mit freundlicher Unterstützung durch das Kul
	turreferat der Landeshauptstadt München und durch den bayerischen Landesve
	rband für zeitgenössischen Tanz aus Mitteln des bayerischen Staatsminister
	iums für Bildung und Kultur, Wissenschaft und Kunst und den Bezirk Oberbay
	ern. Mit freundlicher Unterstützung durch das Tanzbüro München und Fokus t
	anz. Ceren Oran ist Mitglied der Tanztendenz München.</p><p>Bild: De-Da Pr
	oductions</p>
BEGIN:VALARM
ACTION:DISPLAY
DESCRIPTION:Ceren Oran & Moving Borders (D) "SCHÖN ANDERS" [7-15 €]
TRIGGER:-PT1H
END:VALARM
END:VEVENT
END:VCALENDAR
