BEGIN:VCALENDAR
VERSION:2.0
CALSCALE:GREGORIAN
PRODID:adamgibbons/ics
METHOD:PUBLISH
X-PUBLISHED-TTL:PT1H
BEGIN:VEVENT
UID:20@keepkarlsruheboring.org
SUMMARY:Christopher Street Day | Nie wieder Still
DTSTAMP:20260423T104715Z
DTSTART:20250607T080000Z
DESCRIPTION:CSD Karlsruhe 2025\n\n\nNIE WIEDER STILL!\n\n7. Juni 2025\, Mar
	ktplatz & Schlossplatz Karlsruhe\n8. Juni 2025 Closing Party auf dem Schlo
	ssplatz\n\nDie Vorbereitungen für den CSD 2025 haben begonnen – und wir si
	nd entschlossen\,\ngerade dieses Jahr noch lauter und noch entschiedener f
	ür unsere Rechte auf die\nStraße zu gehen! Seit Jahren waren Gleichberecht
	igung und queere Rechte\, die\nsich die Community über Jahrzehnte erkämpft
	 hat\, nicht mehr so gefährdet wie\nheute. Der politische Rechtsruck bedro
	ht unsere Freiheit\, gefährdet unser Leben\n– in Deutschland und in der ga
	nzen Welt.\n\nFest aber steht: Wir queeren Menschen\, unsere Community\, w
	ar schon immer da. Wir\nhaben schon immer für unsere Rechte kämpfen müssen
	. Und wir werden nicht\nzurückweichen\, nicht aufgeben\, nicht aufhören\, 
	für uns und unsere Rechte\neinzustehen. Wir sind nicht still!\n\nGemeinsam
	 gehen wir deshalb am 07. Juni auf die Straße\, demonstrieren für die\nGle
	ichberechtigung\, für den Schutz queeren Lebens und feiern\, wie wir liebe
	n\nund wer wir sind!
URL:https://keepkarlsruheboring.org/event/christopher-street-day-or-nie-wie
	der-still
GEO:49.0089;8.40388
LOCATION:Marktplatz - Innenstadt-Ost\, Karlsruhe\, Baden-Württemberg\, 7613
	3\, Deutschland
STATUS:CONFIRMED
CATEGORIES:Demonstration,Gay Pride,Pride Parades,Queer
X-ALT-DESC;FMTTYPE=text/html:<p>CSD Karlsruhe 2025</p><h2>Nie wieder still!
	</h2><p>7. Juni 2025, Marktplatz &amp; Schlossplatz Karlsruhe<br>8. Juni 2
	025 Closing Party auf dem Schlossplatz</p><p>Die Vorbereitungen für den <s
	trong>CSD 2025</strong> haben begonnen – und wir sind entschlossen, gerade
	 dieses Jahr noch lauter und noch entschiedener für unsere Rechte auf die 
	Straße zu gehen! Seit Jahren waren Gleichberechtigung und queere Rechte, d
	ie sich die Community über Jahrzehnte erkämpft hat, nicht mehr so gefährde
	t wie heute. <strong>Der politische Rechtsruck bedroht unsere Freiheit</st
	rong>, gefährdet unser Leben – in Deutschland und in der ganzen Welt.</p><
	p>Fest aber steht: Wir queeren Menschen, unsere Community, war schon immer
	 da. Wir haben schon immer für unsere Rechte kämpfen müssen. Und wir werde
	n nicht zurückweichen, nicht aufgeben, nicht aufhören, für uns und unsere 
	Rechte einzustehen. <strong>Wir sind nicht still!</strong></p><p>Gemeinsam
	 gehen wir deshalb am 07. Juni auf die Straße, demonstrieren für die Gleic
	hberechtigung, für den Schutz queeren Lebens und feiern, wie wir lieben un
	d&nbsp;wer&nbsp;wir&nbsp;sind!</p>
BEGIN:VALARM
ACTION:DISPLAY
DESCRIPTION:Christopher Street Day | Nie wieder Still
TRIGGER:-PT1H
END:VALARM
END:VEVENT
END:VCALENDAR
