BEGIN:VCALENDAR
VERSION:2.0
CALSCALE:GREGORIAN
PRODID:adamgibbons/ics
METHOD:PUBLISH
X-PUBLISHED-TTL:PT1H
BEGIN:VEVENT
UID:397@keepkarlsruheboring.org
SUMMARY:cie .los advenTour – ein getanzter Spaziergang durch Mühlburg [Spen
	de | 15 €]
DTSTAMP:20260423T105008Z
DTSTART:20251130T141500Z
DESCRIPTION:Lasst uns gemeinsam Kälte und Tristesse trotzen und zwischen Fl
	aniermeile und\nWohnhäusern\, Idyll und Abgrund\, Hauptbühnen und Nebensch
	auplätzen\, Banalität und\nSehenswürdigkeit\, Alltäglichem und Nie-Gesehen
	em\, den Geheimnissen\,\nBesonderheiten und Markenzeichen dieses Karlsruhe
	r Stadtteils auf die Spur\nkommen.  \n \nDer Spaziergang lädt ein\, einmal
	 ganz anders in den städtischen Advent\neinzutauchen. Begleitet von szenis
	chen Abenteuern und tänzerischen\nInterventionen\, wandern wir von Station
	 zu Station durch Mühlburg - ein\nStadtteil\, der uns bewegt.  \n \nTreffp
	unkt ist jeweils 15:15 Uhr vor der ehemaligen Post am Entenfang. Für alle\
	nvon 0 bis 100. Nicht jeder Teil der Route ist barrierefrei. Bitte kontakt
	iert\nuns wenn ihr diesbezüglich Unterstützung benötigt. Wir enden im Tanz
	Areal\, auf\nder Rückseite des Kulturzentrums Tempel. Dauer ca. 90 Minuten
	.\n\nEin Projekt von cie .los gemeinsam mit weiteren Mitstreiter*innen. In
	\nKooperation mit dem TanzAreal. \nSoli-Tickets (15 Euro) sind vorab erhäl
	tlich. Es besteht auch die Möglichkeit\nohne Ticket zum Startpunkt zu komm
	en und eine Spende am Ende der Tour zu geben.\n\nStarke Stücke aus Baden W
	ürttemberg
URL:https://keepkarlsruheboring.org/event/cie-los-adventour-ein-getanzter-s
	paziergang-durch-muhlburg-spende-or-15-euro
GEO:49.0103;8.35954
LOCATION:Alte Post Entenfang - Mühlburg\, Karlsruhe\, Baden-Württemberg\, 7
	6185\, Deutschland
STATUS:CONFIRMED
CATEGORIES:City Walk,Dance,Mühlburg,TANZ Karlsruhe 2025,Tanzfestival 2025,T
	empel Kulturzentrum,Ticket
X-ALT-DESC;FMTTYPE=text/html:<p>Lasst uns gemeinsam Kälte und Tristesse tro
	tzen und zwischen Flaniermeile und Wohnhäusern, Idyll und Abgrund, Hauptbü
	hnen und Nebenschauplätzen, Banalität und Sehenswürdigkeit, Alltäglichem u
	nd Nie-Gesehenem, den Geheimnissen, Besonderheiten und Markenzeichen diese
	s Karlsruher Stadtteils auf die Spur kommen. &nbsp;<br>&nbsp;<br>Der Spazi
	ergang lädt ein, einmal ganz anders in den städtischen Advent einzutauchen
	. Begleitet von szenischen Abenteuern und tänzerischen Interventionen, wan
	dern wir von Station zu Station durch Mühlburg - ein Stadtteil, der uns be
	wegt. &nbsp;<br>&nbsp;<br>Treffpunkt ist jeweils 15:15 Uhr vor der ehemali
	gen Post am Entenfang. Für alle von 0 bis 100. Nicht jeder Teil der Route 
	ist barrierefrei. Bitte kontaktiert uns wenn ihr diesbezüglich Unterstützu
	ng benötigt. Wir enden im TanzAreal, auf der Rückseite des Kulturzentrums 
	Tempel. Dauer ca. 90 Minuten.</p><p>Ein Projekt von cie .los gemeinsam mit
	 weiteren Mitstreiter*innen. In Kooperation mit dem TanzAreal.&nbsp;<br>So
	li-Tickets (15 Euro) sind vorab erhältlich. Es besteht auch die Möglichkei
	t ohne Ticket zum Startpunkt zu kommen und eine Spende am Ende der Tour zu
	 geben.</p><p>Starke Stücke aus Baden Württemberg</p>
BEGIN:VALARM
ACTION:DISPLAY
DESCRIPTION:cie .los advenTour – ein getanzter Spaziergang durch Mühlburg [
	Spende | 15 €]
TRIGGER:-PT1H
END:VALARM
END:VEVENT
END:VCALENDAR
