BEGIN:VCALENDAR
VERSION:2.0
CALSCALE:GREGORIAN
PRODID:adamgibbons/ics
METHOD:PUBLISH
X-PUBLISHED-TTL:PT1H
BEGIN:VEVENT
UID:1022@keepkarlsruheboring.org
SUMMARY:cie .los: under construction!
DTSTAMP:20260423T102209Z
DTSTART:20260228T193000Z
DTEND:20260301T010000Z
DESCRIPTION:cie .los: under construction!\n\nBeginn 20:30 - mit Party im An
	schluss (Solidarisches Preissystem)\n\nAcht Performerinnen\, acht Körper\,
	 unzählige gelebte und ungelebte Wege\, ebenso\nviele Visionen – eine Miss
	ion: ein Raumschiff zu bestücken\, um gemeinsam in eine\nandere Welt zu st
	arten. Die Vorbereitungen stellen die Crew vor die\nHerausforderung dieses
	 Andere zu denken\, um mögliche Zukünfte zu skizzieren.\n\nIn Synchronisie
	rungsübungen lotet die Crew eine gemeinsame Polyphonie der\nKörper\, Stimm
	en und Phantasien aus. Ein Stahlgerüst wird zur Wiege der Arbeit an\nSehns
	üchten. Was ist der Treibstoff\, der uns zum Aufbruch bewegt? Wie viel\nKo
	ntrollverlust braucht es zur Umorientierung?\n\nStopp. Pause… Das Resultat
	 sind Verhandlungen über Zeit-Buzzer\, Rugbytraining\,\nLichtstimmung des 
	Weltuntergangs und Barometer der (Un-)Erträglichkeiten. 
URL:https://keepkarlsruheboring.org/event/cie-los-under-construction
GEO:48.989;8.37185
LOCATION:P8 - Schauenburgstraße 5\, 76135 Karlsruhe
STATUS:CONFIRMED
CATEGORIES:Dance
X-ALT-DESC;FMTTYPE=text/html:<p><strong>cie .los: under construction!</stro
	ng></p><p>Beginn 20:30 - mit Party im Anschluss (Solidarisches Preissystem
	)</p><p>Acht Performerinnen, acht Körper, unzählige gelebte und ungelebte 
	Wege, ebenso viele Visionen – eine Mission: ein Raumschiff zu bestücken, u
	m gemeinsam in eine andere Welt zu starten. Die Vorbereitungen stellen die
	 Crew vor die Herausforderung dieses <em>Andere</em> zu denken, um möglich
	e Zukünfte zu skizzieren.</p><p>In Synchronisierungsübungen lotet die Crew
	 eine gemeinsame Polyphonie der Körper, Stimmen und Phantasien aus. Ein St
	ahlgerüst wird zur Wiege der Arbeit an Sehnsüchten. Was ist der Treibstoff
	, der uns zum Aufbruch bewegt? Wie viel Kontrollverlust braucht es zur Umo
	rientierung?</p><p>Stopp. Pause… Das Resultat sind Verhandlungen über Zeit
	-Buzzer, Rugbytraining, Lichtstimmung des Weltuntergangs und Barometer der
	 (Un-)Erträglichkeiten.&nbsp;</p>
BEGIN:VALARM
ACTION:DISPLAY
DESCRIPTION:cie .los: under construction!
TRIGGER:-PT1H
END:VALARM
END:VEVENT
END:VCALENDAR
