BEGIN:VCALENDAR
VERSION:2.0
CALSCALE:GREGORIAN
PRODID:adamgibbons/ics
METHOD:PUBLISH
X-PUBLISHED-TTL:PT1H
BEGIN:VEVENT
UID:860@keepkarlsruheboring.org
SUMMARY:COMEDY: Chaos Comedy Club
DTSTAMP:20260423T102452Z
DTSTART:20260313T180000Z
DTEND:20260313T180000Z
DESCRIPTION:Fr\, 13.03.2026 COMEDY: Chaos Comedy Club präsentiert von SAU e
	.V. Einlass: 19:00\nUhr | Beginn: 20:00 Uhr Deine Stadt ist langweilig gew
	orden. Du hast alles schon\ngesehen\, gehört und getrunken. Bist zu alt fü
	r den Scheiß und zu jung für die\nCouch. Du bist reif für den CHAOS COMEDY
	 CLUB\, die Lösung all deiner\nFeierabendprobleme. Vergiss peinliche Still
	e beim Tinderdate. Keine Blamage auf\ndem Dancefloor.  Und während deine K
	ollegen Montags auf der Arbeit antanzen\,\nliegst du lachend wegen Zwerchf
	ellzerrung im Krankenhaus. Wir präsentieren in\njeder Ausgabe ein gemischt
	es Line-Up mit den frischesten Comedy-Köpfen aus ganz\nDeutschland. Also p
	opel schonmal die 2-Euro-Münzen aus dem Kleingeldglas. Denn\nin deiner Sta
	dt regiert bald das CHAOS! (Zumindest für zwei Stunden.)
URL:https://keepkarlsruheboring.org/event/comedy-chaos-comedy-club-1
GEO:49.0056;8.42925
LOCATION:Alte Hackerei - Alter Schlachthof 11A 76131 Karlsruhe
STATUS:CONFIRMED
CATEGORIES:karlsrunruhe,test
X-ALT-DESC;FMTTYPE=text/html:Fr, 13.03.2026<br>COMEDY: Chaos Comedy Club<br
	>präsentiert von SAU e.V.<br>Einlass: 19:00 Uhr | Beginn: 20:00 Uhr<br><br
	><br>Deine Stadt ist langweilig geworden. Du hast alles schon gesehen, geh
	ört und getrunken. Bist zu alt für den Scheiß und zu jung für die Couch. D
	u bist reif für den CHAOS COMEDY CLUB, die Lösung all deiner Feierabendpro
	bleme. Vergiss peinliche Stille beim Tinderdate. Keine Blamage auf dem Dan
	cefloor.<br> Und während deine Kollegen Montags auf der Arbeit antanzen, l
	iegst du lachend wegen Zwerchfellzerrung im Krankenhaus.<br><br>Wir präsen
	tieren in jeder Ausgabe ein gemischtes Line-Up mit den frischesten Comedy-
	Köpfen aus ganz Deutschland. Also popel schonmal die 2-Euro-Münzen aus dem
	 Kleingeldglas. Denn in deiner Stadt regiert bald das CHAOS! (Zumindest fü
	r zwei Stunden.)
BEGIN:VALARM
ACTION:DISPLAY
DESCRIPTION:COMEDY: Chaos Comedy Club
TRIGGER:-PT1H
END:VALARM
END:VEVENT
END:VCALENDAR
