BEGIN:VCALENDAR
VERSION:2.0
CALSCALE:GREGORIAN
PRODID:adamgibbons/ics
METHOD:PUBLISH
X-PUBLISHED-TTL:PT1H
BEGIN:VEVENT
UID:54@keepkarlsruheboring.org
SUMMARY:Computer Music Club [8 €]
DTSTAMP:20260423T102257Z
DTSTART:20250522T180000Z
DTEND:20250523T150000Z
DESCRIPTION:Computer Music Club is a two-day event in Karlsruhe\, this time
	 focusing on\nclub-oriented computer music.\n\nStarting early on Thursday 
	night\, May 22\, at 20:00 at C2 Ost (former Culteum\nclub)\, Karlsruhe bec
	omes a small-scale heaven of club-oriented computer music\nwith amazing ne
	w rising forces from LA (c_robo_)\, Berlin (nesso && bruno gola)\,\nand Lj
	ubljana (Blaž Pavlica / cosmic sex)\, with strong local support:\nnervousd
	ata (Freiburg)\, dkyuh\, and Michele Samarotto.\n\nFrom over-saturated dig
	ital hardcore to heavily chopped samples and voices\, from\ndeconstructed 
	a-cyclic beats to the most elegant single-sample feedback\, all\nsounds ar
	e live-cooked by the CPUs and their beloved coders. It might sound\nnerdy—
	and it is quite nerdy\, actually—but it's danceable. It's always danceable
	\,\nif you feel it.\n\nGenre orientation: experimental club\, digital hard
	core\, breakcore\, breakbeat\,\nIDM\, industrial\, noise\, techno.\n\nThe 
	night will end with two DJ sets from cicada and DJ Mar (musique concrète\,
	\nabstract club\, DnB\, dubstep).\n\nTickets [https://c2-ost.club/tc-event
	s/computer_music-club/] (€8 – if cost is a\nbarrier\, please dm [ info@top
	lap-ka.de] us)\n\n\n\nContinuing on Friday afternoon\, May 23\, at 13:00\,
	 we meet at the lovely ßpace\nfor a workshop session to decipher technique
	s and exchange artistic approaches.\n\nIn focus are c_robo_ and Blaž Pavli
	ca\, who performed the night before:\n\nc_robo_ will present on future ave
	nues for live coding\, specifically the\nexploration of optimized code inp
	ut and modification methods via text editor\nscripting.\n\nBlaž will prese
	nt his current livecoding practice\, how he generates rhythmic\nstructures
	 from a single pattern of durations and how he utilizes SuperColliders\nla
	zy evaluation to improvise with the structure during performances to make\
	nbroken beat dance music.\n\nBring your laptop and headphones to pick up a
	 trick or two!\n\nRegistration [ info@toplap-ka.de] (Donations strongly ap
	preciated to support the\ntravelling artists\, suggested: €5–10)\n\n\n\nTo
	gether with\, and supported by C2 Ost\, die Anstoß and TOPLAP Karlsruhe.\n
	\nKeep Karlsruhe boring <3\n\n_\\|/_
URL:https://keepkarlsruheboring.org/event/computer-music-club
GEO:49.0104;8.42478
LOCATION:C2Ost - Essenweinstraße 9\, 76131 Karlsruhe
STATUS:CONFIRMED
CATEGORIES:Art,Music,Party,Ticket,Workshop
X-ALT-DESC;FMTTYPE=text/html:<p><strong>Computer Music Club</strong> is a t
	wo-day event in Karlsruhe, this time focusing on club-oriented computer mu
	sic.</p><p>Starting early on <strong>Thursday night, May 22, at 20:00 at C
	2 Ost</strong> (former Culteum club), Karlsruhe becomes a small-scale heav
	en of club-oriented computer music with amazing new rising forces from LA 
	(c_robo_), Berlin (nesso &amp;&amp; bruno gola), and Ljubljana (Blaž Pavli
	ca / cosmic sex), with strong local support: nervousdata (Freiburg), dkyuh
	, and Michele Samarotto.</p><p>From over-saturated digital hardcore to hea
	vily chopped samples and voices, from deconstructed a-cyclic beats to the 
	most elegant single-sample feedback, all sounds are live-cooked by the CPU
	s and their beloved coders. It might sound nerdy—and it is quite nerdy, ac
	tually—but it's danceable. It's always danceable, if you feel it.</p><p><e
	m>Genre orientation: experimental club, digital hardcore, breakcore, break
	beat, IDM, industrial, noise, techno.</em></p><p>The night will end with t
	wo DJ sets from cicada and DJ Mar (<em>musique concrète, abstract club, Dn
	B, dubstep</em>). </p><p><a href="https://c2-ost.club/tc-events/computer_m
	usic-club/" target="_blank">Tickets</a> (€8 – if cost is a barrier, please
	 <a href="mailto: info@toplap-ka.de" target="_blank">dm</a> us)</p><p></p>
	<p>Continuing on <strong>Friday afternoon, May 23, at 13:00</strong>, we m
	eet at the lovely <strong>ßpace</strong> for a workshop session to deciphe
	r techniques and exchange artistic approaches.</p><p>In focus are c_robo_ 
	and Blaž Pavlica, who performed the night before:</p><p>c_robo_ will prese
	nt on future avenues for live coding, specifically the exploration of opti
	mized code input and modification methods via text editor scripting.</p><p
	>Blaž will present his current livecoding practice, how he generates rhyth
	mic structures from a single pattern of durations and how he utilizes Supe
	rColliders lazy evaluation to improvise with the structure during performa
	nces to make broken beat dance music.</p><p>Bring your laptop and headphon
	es to pick up a trick or two!</p><p><a href="mailto: info@toplap-ka.de" ta
	rget="_blank">Registration</a> (Donations strongly appreciated to support 
	the travelling artists, suggested: €5–10)</p><p></p><p>Together with, and 
	supported by C2 Ost, die Anstoß  and TOPLAP Karlsruhe. </p><p>Keep Karlsru
	he boring &lt;3</p><p><code>_\|/_</code></p>
BEGIN:VALARM
ACTION:DISPLAY
DESCRIPTION:Computer Music Club [8 €]
TRIGGER:-PT1H
END:VALARM
END:VEVENT
END:VCALENDAR
