BEGIN:VCALENDAR
VERSION:2.0
CALSCALE:GREGORIAN
PRODID:adamgibbons/ics
METHOD:PUBLISH
X-PUBLISHED-TTL:PT1H
BEGIN:VEVENT
UID:1375@keepkarlsruheboring.org
SUMMARY:Critical Mass
DTSTAMP:20260423T102208Z
DTSTART:20260424T160000Z
DESCRIPTION:Critical Mass Karlsruhe immer letzter Freitag im Monat um 18 Uh
	r auf dem\nKronenplatz
URL:https://keepkarlsruheboring.org/event/critical-mass-1
LOCATION:Kronenplatz Karlsruhe - Kaiserstraße Karlsruhe
STATUS:CONFIRMED
CATEGORIES:Events,Karlsruhe,karlsruhe-social.de,Veranstaltungen
X-ALT-DESC;FMTTYPE=text/html:<p>Critical Mass Karlsruhe immer letzter Freit
	ag im Monat um 18 Uhr auf dem Kronenplatz</p>
BEGIN:VALARM
ACTION:DISPLAY
DESCRIPTION:Critical Mass
TRIGGER:-PT1H
END:VALARM
END:VEVENT
END:VCALENDAR
