BEGIN:VCALENDAR
VERSION:2.0
CALSCALE:GREGORIAN
PRODID:adamgibbons/ics
METHOD:PUBLISH
X-PUBLISHED-TTL:PT1H
BEGIN:VEVENT
UID:10@keepkarlsruheboring.org
SUMMARY:Critical Mass Karlsruhe
DTSTAMP:20260423T102550Z
DTSTART:20250425T160000Z
URL:https://keepkarlsruheboring.org/event/critical-mass-karlsruhe-1
GEO:49.0086;8.40919
LOCATION:Kronenplatz - Innenstadt-Ost\, Karlsruhe\, Baden-Württemberg\, 761
	33\, Deutschland
STATUS:CONFIRMED
CATEGORIES:Bike,Demonstration,Ecology
BEGIN:VALARM
ACTION:DISPLAY
DESCRIPTION:Critical Mass Karlsruhe
TRIGGER:-PT1H
END:VALARM
END:VEVENT
END:VCALENDAR
